Workbook

Sheet Author's Notes
A2: SOUTHPRO
A3: Spreadsheet model for the management of uneven-aged Loblolly pine-mixed hardwoods stands
A5: Author: Joseph Buongiorno, Forest and Wildlife Ecology, University of Wisconsin-Madison
A6: (jbuongio@wisc.edu)
A8: Based on: Lin, C.R., J. Buongiorno, J. Prestemon, K. Skog. 1998. Growth model for uneven-aged
A9: loblolly pine stands--Simulations and management implications.
A10: Res. Pap. FPL-RP-569. Madison, WI: U.S. Department of Agriculture, Forest Service,
A11: Forest Products Laboratory. 1rp.
A13: Highlighted parts of the spreadsheets contain user-supplied data
A14: _Site index (1 for best, 7 for worst)
A15: _Target number of trees per acre, by species, size, and year
A16: _Initial number of trees per acre by species and size
... A23: The spreadsheets that calculate ingrowth, upgrowth, and mortality are hidden. Unhide them if changes are needed.

Sheet Target
C1: Desired number of trees per acre after harvest, by species, size, and year. Trees above that number will be cut.
A2: Site | B2: 2 | C2: (1=best, 7=worst)
A3: Year | C3: 0 | D3: =C3+1 -> 1 | E3: =D3+1 -> 2 | F3: =E3+1 -> 3 | G3: =F3+1 -> 4 | H3: =G3+1 -> 5 | I3: =H3+1 -> 6 | J3: =I3+1 -> 7 | K3: =J3+1 -> 8 | ... CY3: =CX3+1 -> 100
A4: Species | B4: dbh (in.) | C4: trees/a | D4: trees/a | E4: trees/a | F4: trees/a | G4: trees/a | H4: trees/a | I4: trees/a | J4: trees/a | K4: trees/a | L4: trees/a | M4: trees/a | N4: trees/a | O4: trees/a | P4: trees/a | Q4: trees/a | R4: trees/a | S4: trees/a | T4: trees/a | U4: trees/a | V4: trees/a | W4: trees/a | X4: trees/a | Y4: trees/a | Z4: trees/a | AA4: trees/a | AB4: trees/a | AC4: trees/a | AD4: trees/a | AE4: trees/a | AF4: trees/a | AG4: trees/a | AH4: trees/a | AI4: trees/a | AJ4: trees/a | AK4: trees/a | AL4: trees/a | AM4: trees/a | AN4: trees/a | AO4: trees/a | AP4: trees/a | AQ4: trees/a | AR4: trees/a | AS4: trees/a | AT4: trees/a | AU4: trees/a | AV4: trees/a | AW4: trees/a | AX4: trees/a | AY4: trees/a | AZ4: trees/a | BA4: trees/a | BB4: trees/a | BC4: trees/a | BD4: trees/a | BE4: trees/a | BF4: trees/a | BG4: trees/a | BH4: trees/a | BI4: trees/a | BJ4: trees/a | BK4: trees/a | BL4: trees/a | BM4: trees/a | BN4: trees/a | BO4: trees/a | BP4: trees/a | BQ4: trees/a | BR4: trees/a | BS4: trees/a | BT4: trees/a | BU4: trees/a | BV4: trees/a | BW4: trees/a | BX4: trees/a | BY4: trees/a | BZ4: trees/a | CA4: trees/a | CB4: trees/a | CC4: trees/a | CD4: trees/a | CE4: trees/a | CF4: trees/a | CG4: trees/a | CH4: trees/a | CI4: trees/a | CJ4: trees/a | CK4: trees/a | CL4: trees/a | CM4: trees/a | CN4: trees/a | CO4: trees/a | CP4: trees/a | CQ4: trees/a | CR4: trees/a | CS4: trees/a | CT4: trees/a | CU4: trees/a | CV4: trees/a | CW4: trees/a | CX4: trees/a | CY4: trees/a
A5: Softwood | B5: 2 | C5: 103.4 | D5: 1000 | E5: 1000 | F5: 1000 | G5: 1000 | H5: 1000 | I5: 1000 | J5: 1000 | K5: 1000 | L5: 1000 | M5: 1000 | N5: 1000 | O5: 1000 | P5: 1000 | Q5: 1000 | R5: 1000 | S5: 1000 | T5: 1000 | U5: 1000 | V5: 1000 | W5: 1000 | X5: 1000 | Y5: 1000 | Z5: 1000 | AA5: 1000 | AB5: 1000 | AC5: 1000 | AD5: 1000 | AE5: 1000 | AF5: 1000 | AG5: 1000 | AH5: 1000 | AI5: 1000 | AJ5: 1000 | AK5: 1000 | AL5: 1000 | AM5: 1000 | AN5: 1000 | AO5: 1000 | AP5: 1000 | AQ5: 1000 | AR5: 1000 | AS5: 1000 | AT5: 1000 | AU5: 1000 | AV5: 1000 | AW5: 1000 | AX5: 1000 | AY5: 1000 | AZ5: 1000 | BA5: 1000 | BB5: 1000 | BC5: 1000 | BD5: 1000 | BE5: 1000 | BF5: 1000 | BG5: 1000 | BH5: 1000 | BI5: 1000 | BJ5: 1000 | BK5: 1000 | BL5: 1000 | BM5: 1000 | BN5: 1000 | BO5: 1000 | BP5: 1000 | BQ5: 1000 | BR5: 1000 | BS5: 1000 | BT5: 1000 | BU5: 1000 | BV5: 1000 | BW5: 1000 | BX5: 1000 | BY5: 1000 | BZ5: 1000 | CA5: 1000 | CB5: 1000 | CC5: 1000 | CD5: 1000 | CE5: 1000 | CF5: 1000 | CG5: 1000 | CH5: 1000 | CI5: 1000 | CJ5: 1000 | CK5: 1000 | CL5: 1000 | CM5: 1000 | CN5: 1000 | CO5: 1000 | CP5: 1000 | CQ5: 1000 | CR5: 1000 | CS5: 1000 | CT5: 1000 | CU5: 1000 | CV5: 1000 | CW5: 1000 | CX5: 1000 | CY5: 1000
A6: Softwood | B6: =B5+2 -> 4 | C6: 49.6 | D6: 1000 | E6: 1000 | F6: 1000 | G6: 1000 | H6: 1000 | I6: 1000 | J6: 1000 | K6: 1000 | L6: 1000 | M6: 1000 | N6: 1000 | O6: 1000 | P6: 1000 | Q6: 1000 | R6: 1000 | S6: 1000 | T6: 1000 | U6: 1000 | V6: 1000 | W6: 1000 | X6: 1000 | Y6: 1000 | Z6: 1000 | AA6: 1000 | AB6: 1000 | AC6: 1000 | AD6: 1000 | AE6: 1000 | AF6: 1000 | AG6: 1000 | AH6: 1000 | AI6: 1000 | AJ6: 1000 | AK6: 1000 | AL6: 1000 | AM6: 1000 | AN6: 1000 | AO6: 1000 | AP6: 1000 | AQ6: 1000 | AR6: 1000 | AS6: 1000 | AT6: 1000 | AU6: 1000 | AV6: 1000 | AW6: 1000 | AX6: 1000 | AY6: 1000 | AZ6: 1000 | BA6: 1000 | BB6: 1000 | BC6: 1000 | BD6: 1000 | BE6: 1000 | BF6: 1000 | BG6: 1000 | BH6: 1000 | BI6: 1000 | BJ6: 1000 | BK6: 1000 | BL6: 1000 | BM6: 1000 | BN6: 1000 | BO6: 1000 | BP6: 1000 | BQ6: 1000 | BR6: 1000 | BS6: 1000 | BT6: 1000 | BU6: 1000 | BV6: 1000 | BW6: 1000 | BX6: 1000 | BY6: 1000 | BZ6: 1000 | CA6: 1000 | CB6: 1000 | CC6: 1000 | CD6: 1000 | CE6: 1000 | CF6: 1000 | CG6: 1000 | CH6: 1000 | CI6: 1000 | CJ6: 1000 | CK6: 1000 | CL6: 1000 | CM6: 1000 | CN6: 1000 | CO6: 1000 | CP6: 1000 | CQ6: 1000 | CR6: 1000 | CS6: 1000 | CT6: 1000 | CU6: 1000 | CV6: 1000 | CW6: 1000 | CX6: 1000 | CY6: 1000
A7: Softwood | B7: =B6+2 -> 6 | C7: 28 | D7: 1000 | E7: 1000 | F7: 1000 | G7: 1000 | H7: 1000 | I7: 1000 | J7: 1000 | K7: 1000 | L7: 1000 | M7: 1000 | N7: 1000 | O7: 1000 | P7: 1000 | Q7: 1000 | R7: 1000 | S7: 1000 | T7: 1000 | U7: 1000 | V7: 1000 | W7: 1000 | X7: 1000 | Y7: 1000 | Z7: 1000 | AA7: 1000 | AB7: 1000 | AC7: 1000 | AD7: 1000 | AE7: 1000 | AF7: 1000 | AG7: 1000 | AH7: 1000 | AI7: 1000 | AJ7: 1000 | AK7: 1000 | AL7: 1000 | AM7: 1000 | AN7: 1000 | AO7: 1000 | AP7: 1000 | AQ7: 1000 | AR7: 1000 | AS7: 1000 | AT7: 1000 | AU7: 1000 | AV7: 1000 | AW7: 1000 | AX7: 1000 | AY7: 1000 | AZ7: 1000 | BA7: 1000 | BB7: 1000 | BC7: 1000 | BD7: 1000 | BE7: 1000 | BF7: 1000 | BG7: 1000 | BH7: 1000 | BI7: 1000 | BJ7: 1000 | BK7: 1000 | BL7: 1000 | BM7: 1000 | BN7: 1000 | BO7: 1000 | BP7: 1000 | BQ7: 1000 | BR7: 1000 | BS7: 1000 | BT7: 1000 | BU7: 1000 | BV7: 1000 | BW7: 1000 | BX7: 1000 | BY7: 1000 | BZ7: 1000 | CA7: 1000 | CB7: 1000 | CC7: 1000 | CD7: 1000 | CE7: 1000 | CF7: 1000 | CG7: 1000 | CH7: 1000 | CI7: 1000 | CJ7: 1000 | CK7: 1000 | CL7: 1000 | CM7: 1000 | CN7: 1000 | CO7: 1000 | CP7: 1000 | CQ7: 1000 | CR7: 1000 | CS7: 1000 | CT7: 1000 | CU7: 1000 | CV7: 1000 | CW7: 1000 | CX7: 1000 | CY7: 1000
A8: Softwood | B8: =B7+2 -> 8 | C8: 17.6 | D8: 1000 | E8: 1000 | F8: 1000 | G8: 1000 | H8: 1000 | I8: 1000 | J8: 1000 | K8: 1000 | L8: 1000 | M8: 1000 | N8: 1000 | O8: 1000 | P8: 1000 | Q8: 1000 | R8: 1000 | S8: 1000 | T8: 1000 | U8: 1000 | V8: 1000 | W8: 1000 | X8: 1000 | Y8: 1000 | Z8: 1000 | AA8: 1000 | AB8: 1000 | AC8: 1000 | AD8: 1000 | AE8: 1000 | AF8: 1000 | AG8: 1000 | AH8: 1000 | AI8: 1000 | AJ8: 1000 | AK8: 1000 | AL8: 1000 | AM8: 1000 | AN8: 1000 | AO8: 1000 | AP8: 1000 | AQ8: 1000 | AR8: 1000 | AS8: 1000 | AT8: 1000 | AU8: 1000 | AV8: 1000 | AW8: 1000 | AX8: 1000 | AY8: 1000 | AZ8: 1000 | BA8: 1000 | BB8: 1000 | BC8: 1000 | BD8: 1000 | BE8: 1000 | BF8: 1000 | BG8: 1000 | BH8: 1000 | BI8: 1000 | BJ8: 1000 | BK8: 1000 | BL8: 1000 | BM8: 1000 | BN8: 1000 | BO8: 1000 | BP8: 1000 | BQ8: 1000 | BR8: 1000 | BS8: 1000 | BT8: 1000 | BU8: 1000 | BV8: 1000 | BW8: 1000 | BX8: 1000 | BY8: 1000 | BZ8: 1000 | CA8: 1000 | CB8: 1000 | CC8: 1000 | CD8: 1000 | CE8: 1000 | CF8: 1000 | CG8: 1000 | CH8: 1000 | CI8: 1000 | CJ8: 1000 | CK8: 1000 | CL8: 1000 | CM8: 1000 | CN8: 1000 | CO8: 1000 | CP8: 1000 | CQ8: 1000 | CR8: 1000 | CS8: 1000 | CT8: 1000 | CU8: 1000 | CV8: 1000 | CW8: 1000 | CX8: 1000 | CY8: 1000
A9: Softwood | B9: =B8+2 -> 10 | C9: 12.3 | D9: 1000 | E9: 1000 | F9: 1000 | G9: 1000 | H9: 1000 | I9: 1000 | J9: 1000 | K9: 1000 | L9: 1000 | M9: 1000 | N9: 1000 | O9: 1000 | P9: 1000 | Q9: 1000 | R9: 1000 | S9: 1000 | T9: 1000 | U9: 1000 | V9: 1000 | W9: 1000 | X9: 1000 | Y9: 1000 | Z9: 1000 | AA9: 1000 | AB9: 1000 | AC9: 1000 | AD9: 1000 | AE9: 1000 | AF9: 1000 | AG9: 1000 | AH9: 1000 | AI9: 1000 | AJ9: 1000 | AK9: 1000 | AL9: 1000 | AM9: 1000 | AN9: 1000 | AO9: 1000 | AP9: 1000 | AQ9: 1000 | AR9: 1000 | AS9: 1000 | AT9: 1000 | AU9: 1000 | AV9: 1000 | AW9: 1000 | AX9: 1000 | AY9: 1000 | AZ9: 1000 | BA9: 1000 | BB9: 1000 | BC9: 1000 | BD9: 1000 | BE9: 1000 | BF9: 1000 | BG9: 1000 | BH9: 1000 | BI9: 1000 | BJ9: 1000 | BK9: 1000 | BL9: 1000 | BM9: 1000 | BN9: 1000 | BO9: 1000 | BP9: 1000 | BQ9: 1000 | BR9: 1000 | BS9: 1000 | BT9: 1000 | BU9: 1000 | BV9: 1000 | BW9: 1000 | BX9: 1000 | BY9: 1000 | BZ9: 1000 | CA9: 1000 | CB9: 1000 | CC9: 1000 | CD9: 1000 | CE9: 1000 | CF9: 1000 | CG9: 1000 | CH9: 1000 | CI9: 1000 | CJ9: 1000 | CK9: 1000 | CL9: 1000 | CM9: 1000 | CN9: 1000 | CO9: 1000 | CP9: 1000 | CQ9: 1000 | CR9: 1000 | CS9: 1000 | CT9: 1000 | CU9: 1000 | CV9: 1000 | CW9: 1000 | CX9: 1000 | CY9: 1000
A10: Softwood | B10: =B9+2 -> 12 | C10: 8.2 | D10: 1000 | E10: 1000 | F10: 1000 | G10: 1000 | H10: 1000 | I10: 1000 | J10: 1000 | K10: 1000 | L10: 1000 | M10: 1000 | N10: 1000 | O10: 1000 | P10: 1000 | Q10: 1000 | R10: 1000 | S10: 1000 | T10: 1000 | U10: 1000 | V10: 1000 | W10: 1000 | X10: 1000 | Y10: 1000 | Z10: 1000 | AA10: 1000 | AB10: 1000 | AC10: 1000 | AD10: 1000 | AE10: 1000 | AF10: 1000 | AG10: 1000 | AH10: 1000 | AI10: 1000 | AJ10: 1000 | AK10: 1000 | AL10: 1000 | AM10: 1000 | AN10: 1000 | AO10: 1000 | AP10: 1000 | AQ10: 1000 | AR10: 1000 | AS10: 1000 | AT10: 1000 | AU10: 1000 | AV10: 1000 | AW10: 1000 | AX10: 1000 | AY10: 1000 | AZ10: 1000 | BA10: 1000 | BB10: 1000 | BC10: 1000 | BD10: 1000 | BE10: 1000 | BF10: 1000 | BG10: 1000 | BH10: 1000 | BI10: 1000 | BJ10: 1000 | BK10: 1000 | BL10: 1000 | BM10: 1000 | BN10: 1000 | BO10: 1000 | BP10: 1000 | BQ10: 1000 | BR10: 1000 | BS10: 1000 | BT10: 1000 | BU10: 1000 | BV10: 1000 | BW10: 1000 | BX10: 1000 | BY10: 1000 | BZ10: 1000 | CA10: 1000 | CB10: 1000 | CC10: 1000 | CD10: 1000 | CE10: 1000 | CF10: 1000 | CG10: 1000 | CH10: 1000 | CI10: 1000 | CJ10: 1000 | CK10: 1000 | CL10: 1000 | CM10: 1000 | CN10: 1000 | CO10: 1000 | CP10: 1000 | CQ10: 1000 | CR10: 1000 | CS10: 1000 | CT10: 1000 | CU10: 1000 | CV10: 1000 | CW10: 1000 | CX10: 1000 | CY10: 1000
A11: Softwood | B11: =B10+2 -> 14 | C11: 5.3 | D11: 0 | E11: 1000 | F11: 1000 | G11: 1000 | H11: 1000 | I11: 1000 | J11: 0 | K11: 1000 | L11: 1000 | M11: 1000 | N11: 1000 | O11: 1000 | P11: 0 | Q11: 1000 | R11: 1000 | S11: 1000 | T11: 1000 | U11: 1000 | V11: 0 | W11: 1000 | X11: 1000 | Y11: 1000 | Z11: 1000 | AA11: 1000 | AB11: 0 | AC11: 1000 | AD11: 1000 | AE11: 1000 | AF11: 1000 | AG11: 1000 | AH11: 0 | AI11: 1000 | AJ11: 1000 | AK11: 1000 | AL11: 1000 | AM11: 1000 | AN11: 0 | AO11: 1000 | AP11: 1000 | AQ11: 1000 | AR11: 1000 | AS11: 1000 | AT11: 0 | AU11: 1000 | AV11: 1000 | AW11: 1000 | AX11: 1000 | AY11: 1000 | AZ11: 0 | BA11: 1000 | BB11: 1000 | BC11: 1000 | BD11: 1000 | BE11: 1000 | BF11: 0 | BG11: 1000 | BH11: 1000 | BI11: 1000 | BJ11: 1000 | BK11: 1000 | BL11: 0 | BM11: 1000 | BN11: 1000 | BO11: 1000 | BP11: 1000 | BQ11: 1000 | BR11: 0 | BS11: 1000 | BT11: 1000 | BU11: 1000 | BV11: 1000 | BW11: 1000 | BX11: 0 | BY11: 1000 | BZ11: 1000 | CA11: 1000 | CB11: 1000 | CC11: 1000 | CD11: 0 | CE11: 1000 | CF11: 1000 | CG11: 1000 | CH11: 1000 | CI11: 1000 | CJ11: 0 | CK11: 1000 | CL11: 1000 | CM11: 1000 | CN11: 1000 | CO11: 1000 | CP11: 0 | CQ11: 1000 | CR11: 1000 | CS11: 1000 | CT11: 1000 | CU11: 1000 | CV11: 0 | CW11: 1000 | CX11: 1000 | CY11: 1000
A12: Softwood | B12: =B11+2 -> 16 | C12: 3.2 | D12: 0 | E12: 1000 | F12: 1000 | G12: 1000 | H12: 1000 | I12: 1000 | J12: 0 | K12: 1000 | L12: 1000 | M12: 1000 | N12: 1000 | O12: 1000 | P12: 0 | Q12: 1000 | R12: 1000 | S12: 1000 | T12: 1000 | U12: 1000 | V12: 0 | W12: 1000 | X12: 1000 | Y12: 1000 | Z12: 1000 | AA12: 1000 | AB12: 0 | AC12: 1000 | AD12: 1000 | AE12: 1000 | AF12: 1000 | AG12: 1000 | AH12: 0 | AI12: 1000 | AJ12: 1000 | AK12: 1000 | AL12: 1000 | AM12: 1000 | AN12: 0 | AO12: 1000 | AP12: 1000 | AQ12: 1000 | AR12: 1000 | AS12: 1000 | AT12: 0 | AU12: 1000 | AV12: 1000 | AW12: 1000 | AX12: 1000 | AY12: 1000 | AZ12: 0 | BA12: 1000 | BB12: 1000 | BC12: 1000 | BD12: 1000 | BE12: 1000 | BF12: 0 | BG12: 1000 | BH12: 1000 | BI12: 1000 | BJ12: 1000 | BK12: 1000 | BL12: 0 | BM12: 1000 | BN12: 1000 | BO12: 1000 | BP12: 1000 | BQ12: 1000 | BR12: 0 | BS12: 1000 | BT12: 1000 | BU12: 1000 | BV12: 1000 | BW12: 1000 | BX12: 0 | BY12: 1000 | BZ12: 1000 | CA12: 1000 | CB12: 1000 | CC12: 1000 | CD12: 0 | CE12: 1000 | CF12: 1000 | CG12: 1000 | CH12: 1000 | CI12: 1000 | CJ12: 0 | CK12: 1000 | CL12: 1000 | CM12: 1000 | CN12: 1000 | CO12: 1000 | CP12: 0 | CQ12: 1000 | CR12: 1000 | CS12: 1000 | CT12: 1000 | CU12: 1000 | CV12: 0 | CW12: 1000 | CX12: 1000 | CY12: 1000
A13: Softwood | B13: =B12+2 -> 18 | C13: 1.7 | D13: 0 | E13: 1000 | F13: 1000 | G13: 1000 | H13: 1000 | I13: 1000 | J13: 0 | K13: 1000 | L13: 1000 | M13: 1000 | N13: 1000 | O13: 1000 | P13: 0 | Q13: 1000 | R13: 1000 | S13: 1000 | T13: 1000 | U13: 1000 | V13: 0 | W13: 1000 | X13: 1000 | Y13: 1000 | Z13: 1000 | AA13: 1000 | AB13: 0 | AC13: 1000 | AD13: 1000 | AE13: 1000 | AF13: 1000 | AG13: 1000 | AH13: 0 | AI13: 1000 | AJ13: 1000 | AK13: 1000 | AL13: 1000 | AM13: 1000 | AN13: 0 | AO13: 1000 | AP13: 1000 | AQ13: 1000 | AR13: 1000 | AS13: 1000 | AT13: 0 | AU13: 1000 | AV13: 1000 | AW13: 1000 | AX13: 1000 | AY13: 1000 | AZ13: 0 | BA13: 1000 | BB13: 1000 | BC13: 1000 | BD13: 1000 | BE13: 1000 | BF13: 0 | BG13: 1000 | BH13: 1000 | BI13: 1000 | BJ13: 1000 | BK13: 1000 | BL13: 0 | BM13: 1000 | BN13: 1000 | BO13: 1000 | BP13: 1000 | BQ13: 1000 | BR13: 0 | BS13: 1000 | BT13: 1000 | BU13: 1000 | BV13: 1000 | BW13: 1000 | BX13: 0 | BY13: 1000 | BZ13: 1000 | CA13: 1000 | CB13: 1000 | CC13: 1000 | CD13: 0 | CE13: 1000 | CF13: 1000 | CG13: 1000 | CH13: 1000 | CI13: 1000 | CJ13: 0 | CK13: 1000 | CL13: 1000 | CM13: 1000 | CN13: 1000 | CO13: 1000 | CP13: 0 | CQ13: 1000 | CR13: 1000 | CS13: 1000 | CT13: 1000 | CU13: 1000 | CV13: 0 | CW13: 1000 | CX13: 1000 | CY13: 1000
A14: Softwood | B14: =B13+2 -> 20 | C14: 0.9 | D14: 0 | E14: 1000 | F14: 1000 | G14: 1000 | H14: 1000 | I14: 1000 | J14: 0 | K14: 1000 | L14: 1000 | M14: 1000 | N14: 1000 | O14: 1000 | P14: 0 | Q14: 1000 | R14: 1000 | S14: 1000 | T14: 1000 | U14: 1000 | V14: 0 | W14: 1000 | X14: 1000 | Y14: 1000 | Z14: 1000 | AA14: 1000 | AB14: 0 | AC14: 1000 | AD14: 1000 | AE14: 1000 | AF14: 1000 | AG14: 1000 | AH14: 0 | AI14: 1000 | AJ14: 1000 | AK14: 1000 | AL14: 1000 | AM14: 1000 | AN14: 0 | AO14: 1000 | AP14: 1000 | AQ14: 1000 | AR14: 1000 | AS14: 1000 | AT14: 0 | AU14: 1000 | AV14: 1000 | AW14: 1000 | AX14: 1000 | AY14: 1000 | AZ14: 0 | BA14: 1000 | BB14: 1000 | BC14: 1000 | BD14: 1000 | BE14: 1000 | BF14: 0 | BG14: 1000 | BH14: 1000 | BI14: 1000 | BJ14: 1000 | BK14: 1000 | BL14: 0 | BM14: 1000 | BN14: 1000 | BO14: 1000 | BP14: 1000 | BQ14: 1000 | BR14: 0 | BS14: 1000 | BT14: 1000 | BU14: 1000 | BV14: 1000 | BW14: 1000 | BX14: 0 | BY14: 1000 | BZ14: 1000 | CA14: 1000 | CB14: 1000 | CC14: 1000 | CD14: 0 | CE14: 1000 | CF14: 1000 | CG14: 1000 | CH14: 1000 | CI14: 1000 | CJ14: 0 | CK14: 1000 | CL14: 1000 | CM14: 1000 | CN14: 1000 | CO14: 1000 | CP14: 0 | CQ14: 1000 | CR14: 1000 | CS14: 1000 | CT14: 1000 | CU14: 1000 | CV14: 0 | CW14: 1000 | CX14: 1000 | CY14: 1000
A15: Softwood | B15: =B14+2 -> 22 | C15: 0.4 | D15: 0 | E15: 1000 | F15: 1000 | G15: 1000 | H15: 1000 | I15: 1000 | J15: 0 | K15: 1000 | L15: 1000 | M15: 1000 | N15: 1000 | O15: 1000 | P15: 0 | Q15: 1000 | R15: 1000 | S15: 1000 | T15: 1000 | U15: 1000 | V15: 0 | W15: 1000 | X15: 1000 | Y15: 1000 | Z15: 1000 | AA15: 1000 | AB15: 0 | AC15: 1000 | AD15: 1000 | AE15: 1000 | AF15: 1000 | AG15: 1000 | AH15: 0 | AI15: 1000 | AJ15: 1000 | AK15: 1000 | AL15: 1000 | AM15: 1000 | AN15: 0 | AO15: 1000 | AP15: 1000 | AQ15: 1000 | AR15: 1000 | AS15: 1000 | AT15: 0 | AU15: 1000 | AV15: 1000 | AW15: 1000 | AX15: 1000 | AY15: 1000 | AZ15: 0 | BA15: 1000 | BB15: 1000 | BC15: 1000 | BD15: 1000 | BE15: 1000 | BF15: 0 | BG15: 1000 | BH15: 1000 | BI15: 1000 | BJ15: 1000 | BK15: 1000 | BL15: 0 | BM15: 1000 | BN15: 1000 | BO15: 1000 | BP15: 1000 | BQ15: 1000 | BR15: 0 | BS15: 1000 | BT15: 1000 | BU15: 1000 | BV15: 1000 | BW15: 1000 | BX15: 0 | BY15: 1000 | BZ15: 1000 | CA15: 1000 | CB15: 1000 | CC15: 1000 | CD15: 0 | CE15: 1000 | CF15: 1000 | CG15: 1000 | CH15: 1000 | CI15: 1000 | CJ15: 0 | CK15: 1000 | CL15: 1000 | CM15: 1000 | CN15: 1000 | CO15: 1000 | CP15: 0 | CQ15: 1000 | CR15: 1000 | CS15: 1000 | CT15: 1000 | CU15: 1000 | CV15: 0 | CW15: 1000 | CX15: 1000 | CY15: 1000
A16: Softwood | B16: =B15+2 -> 24 | C16: 0.2 | D16: 0 | E16: 1000 | F16: 1000 | G16: 1000 | H16: 1000 | I16: 1000 | J16: 0 | K16: 1000 | L16: 1000 | M16: 1000 | N16: 1000 | O16: 1000 | P16: 0 | Q16: 1000 | R16: 1000 | S16: 1000 | T16: 1000 | U16: 1000 | V16: 0 | W16: 1000 | X16: 1000 | Y16: 1000 | Z16: 1000 | AA16: 1000 | AB16: 0 | AC16: 1000 | AD16: 1000 | AE16: 1000 | AF16: 1000 | AG16: 1000 | AH16: 0 | AI16: 1000 | AJ16: 1000 | AK16: 1000 | AL16: 1000 | AM16: 1000 | AN16: 0 | AO16: 1000 | AP16: 1000 | AQ16: 1000 | AR16: 1000 | AS16: 1000 | AT16: 0 | AU16: 1000 | AV16: 1000 | AW16: 1000 | AX16: 1000 | AY16: 1000 | AZ16: 0 | BA16: 1000 | BB16: 1000 | BC16: 1000 | BD16: 1000 | BE16: 1000 | BF16: 0 | BG16: 1000 | BH16: 1000 | BI16: 1000 | BJ16: 1000 | BK16: 1000 | BL16: 0 | BM16: 1000 | BN16: 1000 | BO16: 1000 | BP16: 1000 | BQ16: 1000 | BR16: 0 | BS16: 1000 | BT16: 1000 | BU16: 1000 | BV16: 1000 | BW16: 1000 | BX16: 0 | BY16: 1000 | BZ16: 1000 | CA16: 1000 | CB16: 1000 | CC16: 1000 | CD16: 0 | CE16: 1000 | CF16: 1000 | CG16: 1000 | CH16: 1000 | CI16: 1000 | CJ16: 0 | CK16: 1000 | CL16: 1000 | CM16: 1000 | CN16: 1000 | CO16: 1000 | CP16: 0 | CQ16: 1000 | CR16: 1000 | CS16: 1000 | CT16: 1000 | CU16: 1000 | CV16: 0 | CW16: 1000 | CX16: 1000 | CY16: 1000
A17: Softwood | B17: =B16+2 -> 26 | C17: 0.1 | D17: 0 | E17: 1000 | F17: 1000 | G17: 1000 | H17: 1000 | I17: 1000 | J17: 0 | K17: 1000 | L17: 1000 | M17: 1000 | N17: 1000 | O17: 1000 | P17: 0 | Q17: 1000 | R17: 1000 | S17: 1000 | T17: 1000 | U17: 1000 | V17: 0 | W17: 1000 | X17: 1000 | Y17: 1000 | Z17: 1000 | AA17: 1000 | AB17: 0 | AC17: 1000 | AD17: 1000 | AE17: 1000 | AF17: 1000 | AG17: 1000 | AH17: 0 | AI17: 1000 | AJ17: 1000 | AK17: 1000 | AL17: 1000 | AM17: 1000 | AN17: 0 | AO17: 1000 | AP17: 1000 | AQ17: 1000 | AR17: 1000 | AS17: 1000 | AT17: 0 | AU17: 1000 | AV17: 1000 | AW17: 1000 | AX17: 1000 | AY17: 1000 | AZ17: 0 | BA17: 1000 | BB17: 1000 | BC17: 1000 | BD17: 1000 | BE17: 1000 | BF17: 0 | BG17: 1000 | BH17: 1000 | BI17: 1000 | BJ17: 1000 | BK17: 1000 | BL17: 0 | BM17: 1000 | BN17: 1000 | BO17: 1000 | BP17: 1000 | BQ17: 1000 | BR17: 0 | BS17: 1000 | BT17: 1000 | BU17: 1000 | BV17: 1000 | BW17: 1000 | BX17: 0 | BY17: 1000 | BZ17: 1000 | CA17: 1000 | CB17: 1000 | CC17: 1000 | CD17: 0 | CE17: 1000 | CF17: 1000 | CG17: 1000 | CH17: 1000 | CI17: 1000 | CJ17: 0 | CK17: 1000 | CL17: 1000 | CM17: 1000 | CN17: 1000 | CO17: 1000 | CP17: 0 | CQ17: 1000 | CR17: 1000 | CS17: 1000 | CT17: 1000 | CU17: 1000 | CV17: 0 | CW17: 1000 | CX17: 1000 | CY17: 1000
A18: Soft hardwood | B18: 2 | C18: 116.7 | D18: 0 | E18: 1000 | F18: 1000 | G18: 1000 | H18: 1000 | I18: 1000 | J18: 0 | K18: 1000 | L18: 1000 | M18: 1000 | N18: 1000 | O18: 1000 | P18: 0 | Q18: 1000 | R18: 1000 | S18: 1000 | T18: 1000 | U18: 1000 | V18: 0 | W18: 1000 | X18: 1000 | Y18: 1000 | Z18: 1000 | AA18: 1000 | AB18: 0 | AC18: 1000 | AD18: 1000 | AE18: 1000 | AF18: 1000 | AG18: 1000 | AH18: 0 | AI18: 1000 | AJ18: 1000 | AK18: 1000 | AL18: 1000 | AM18: 1000 | AN18: 0 | AO18: 1000 | AP18: 1000 | AQ18: 1000 | AR18: 1000 | AS18: 1000 | AT18: 0 | AU18: 1000 | AV18: 1000 | AW18: 1000 | AX18: 1000 | AY18: 1000 | AZ18: 0 | BA18: 1000 | BB18: 1000 | BC18: 1000 | BD18: 1000 | BE18: 1000 | BF18: 0 | BG18: 1000 | BH18: 1000 | BI18: 1000 | BJ18: 1000 | BK18: 1000 | BL18: 0 | BM18: 1000 | BN18: 1000 | BO18: 1000 | BP18: 1000 | BQ18: 1000 | BR18: 0 | BS18: 1000 | BT18: 1000 | BU18: 1000 | BV18: 1000 | BW18: 1000 | BX18: 0 | BY18: 1000 | BZ18: 1000 | CA18: 1000 | CB18: 1000 | CC18: 1000 | CD18: 0 | CE18: 1000 | CF18: 1000 | CG18: 1000 | CH18: 1000 | CI18: 1000 | CJ18: 0 | CK18: 1000 | CL18: 1000 | CM18: 1000 | CN18: 1000 | CO18: 1000 | CP18: 0 | CQ18: 1000 | CR18: 1000 | CS18: 1000 | CT18: 1000 | CU18: 1000 | CV18: 0 | CW18: 1000 | CX18: 1000 | CY18: 1000
A19: Soft hardwood | B19: =B18+2 -> 4 | C19: 28.1 | D19: 0 | E19: 1000 | F19: 1000 | G19: 1000 | H19: 1000 | I19: 1000 | J19: 0 | K19: 1000 | L19: 1000 | M19: 1000 | N19: 1000 | O19: 1000 | P19: 0 | Q19: 1000 | R19: 1000 | S19: 1000 | T19: 1000 | U19: 1000 | V19: 0 | W19: 1000 | X19: 1000 | Y19: 1000 | Z19: 1000 | AA19: 1000 | AB19: 0 | AC19: 1000 | AD19: 1000 | AE19: 1000 | AF19: 1000 | AG19: 1000 | AH19: 0 | AI19: 1000 | AJ19: 1000 | AK19: 1000 | AL19: 1000 | AM19: 1000 | AN19: 0 | AO19: 1000 | AP19: 1000 | AQ19: 1000 | AR19: 1000 | AS19: 1000 | AT19: 0 | AU19: 1000 | AV19: 1000 | AW19: 1000 | AX19: 1000 | AY19: 1000 | AZ19: 0 | BA19: 1000 | BB19: 1000 | BC19: 1000 | BD19: 1000 | BE19: 1000 | BF19: 0 | BG19: 1000 | BH19: 1000 | BI19: 1000 | BJ19: 1000 | BK19: 1000 | BL19: 0 | BM19: 1000 | BN19: 1000 | BO19: 1000 | BP19: 1000 | BQ19: 1000 | BR19: 0 | BS19: 1000 | BT19: 1000 | BU19: 1000 | BV19: 1000 | BW19: 1000 | BX19: 0 | BY19: 1000 | BZ19: 1000 | CA19: 1000 | CB19: 1000 | CC19: 1000 | CD19: 0 | CE19: 1000 | CF19: 1000 | CG19: 1000 | CH19: 1000 | CI19: 1000 | CJ19: 0 | CK19: 1000 | CL19: 1000 | CM19: 1000 | CN19: 1000 | CO19: 1000 | CP19: 0 | CQ19: 1000 | CR19: 1000 | CS19: 1000 | CT19: 1000 | CU19: 1000 | CV19: 0 | CW19: 1000 | CX19: 1000 | CY19: 1000
A20: Soft hardwood | B20: =B19+2 -> 6 | C20: 12.2 | D20: 0 | E20: 1000 | F20: 1000 | G20: 1000 | H20: 1000 | I20: 1000 | J20: 0 | K20: 1000 | L20: 1000 | M20: 1000 | N20: 1000 | O20: 1000 | P20: 0 | Q20: 1000 | R20: 1000 | S20: 1000 | T20: 1000 | U20: 1000 | V20: 0 | W20: 1000 | X20: 1000 | Y20: 1000 | Z20: 1000 | AA20: 1000 | AB20: 0 | AC20: 1000 | AD20: 1000 | AE20: 1000 | AF20: 1000 | AG20: 1000 | AH20: 0 | AI20: 1000 | AJ20: 1000 | AK20: 1000 | AL20: 1000 | AM20: 1000 | AN20: 0 | AO20: 1000 | AP20: 1000 | AQ20: 1000 | AR20: 1000 | AS20: 1000 | AT20: 0 | AU20: 1000 | AV20: 1000 | AW20: 1000 | AX20: 1000 | AY20: 1000 | AZ20: 0 | BA20: 1000 | BB20: 1000 | BC20: 1000 | BD20: 1000 | BE20: 1000 | BF20: 0 | BG20: 1000 | BH20: 1000 | BI20: 1000 | BJ20: 1000 | BK20: 1000 | BL20: 0 | BM20: 1000 | BN20: 1000 | BO20: 1000 | BP20: 1000 | BQ20: 1000 | BR20: 0 | BS20: 1000 | BT20: 1000 | BU20: 1000 | BV20: 1000 | BW20: 1000 | BX20: 0 | BY20: 1000 | BZ20: 1000 | CA20: 1000 | CB20: 1000 | CC20: 1000 | CD20: 0 | CE20: 1000 | CF20: 1000 | CG20: 1000 | CH20: 1000 | CI20: 1000 | CJ20: 0 | CK20: 1000 | CL20: 1000 | CM20: 1000 | CN20: 1000 | CO20: 1000 | CP20: 0 | CQ20: 1000 | CR20: 1000 | CS20: 1000 | CT20: 1000 | CU20: 1000 | CV20: 0 | CW20: 1000 | CX20: 1000 | CY20: 1000
A21: Soft hardwood | B21: =B20+2 -> 8 | C21: 4.8 | D21: 0 | E21: 1000 | F21: 1000 | G21: 1000 | H21: 1000 | I21: 1000 | J21: 0 | K21: 1000 | L21: 1000 | M21: 1000 | N21: 1000 | O21: 1000 | P21: 0 | Q21: 1000 | R21: 1000 | S21: 1000 | T21: 1000 | U21: 1000 | V21: 0 | W21: 1000 | X21: 1000 | Y21: 1000 | Z21: 1000 | AA21: 1000 | AB21: 0 | AC21: 1000 | AD21: 1000 | AE21: 1000 | AF21: 1000 | AG21: 1000 | AH21: 0 | AI21: 1000 | AJ21: 1000 | AK21: 1000 | AL21: 1000 | AM21: 1000 | AN21: 0 | AO21: 1000 | AP21: 1000 | AQ21: 1000 | AR21: 1000 | AS21: 1000 | AT21: 0 | AU21: 1000 | AV21: 1000 | AW21: 1000 | AX21: 1000 | AY21: 1000 | AZ21: 0 | BA21: 1000 | BB21: 1000 | BC21: 1000 | BD21: 1000 | BE21: 1000 | BF21: 0 | BG21: 1000 | BH21: 1000 | BI21: 1000 | BJ21: 1000 | BK21: 1000 | BL21: 0 | BM21: 1000 | BN21: 1000 | BO21: 1000 | BP21: 1000 | BQ21: 1000 | BR21: 0 | BS21: 1000 | BT21: 1000 | BU21: 1000 | BV21: 1000 | BW21: 1000 | BX21: 0 | BY21: 1000 | BZ21: 1000 | CA21: 1000 | CB21: 1000 | CC21: 1000 | CD21: 0 | CE21: 1000 | CF21: 1000 | CG21: 1000 | CH21: 1000 | CI21: 1000 | CJ21: 0 | CK21: 1000 | CL21: 1000 | CM21: 1000 | CN21: 1000 | CO21: 1000 | CP21: 0 | CQ21: 1000 | CR21: 1000 | CS21: 1000 | CT21: 1000 | CU21: 1000 | CV21: 0 | CW21: 1000 | CX21: 1000 | CY21: 1000
A22: Soft hardwood | B22: =B21+2 -> 10 | C22: 2.2 | D22: 0 | E22: 1000 | F22: 1000 | G22: 1000 | H22: 1000 | I22: 1000 | J22: 0 | K22: 1000 | L22: 1000 | M22: 1000 | N22: 1000 | O22: 1000 | P22: 0 | Q22: 1000 | R22: 1000 | S22: 1000 | T22: 1000 | U22: 1000 | V22: 0 | W22: 1000 | X22: 1000 | Y22: 1000 | Z22: 1000 | AA22: 1000 | AB22: 0 | AC22: 1000 | AD22: 1000 | AE22: 1000 | AF22: 1000 | AG22: 1000 | AH22: 0 | AI22: 1000 | AJ22: 1000 | AK22: 1000 | AL22: 1000 | AM22: 1000 | AN22: 0 | AO22: 1000 | AP22: 1000 | AQ22: 1000 | AR22: 1000 | AS22: 1000 | AT22: 0 | AU22: 1000 | AV22: 1000 | AW22: 1000 | AX22: 1000 | AY22: 1000 | AZ22: 0 | BA22: 1000 | BB22: 1000 | BC22: 1000 | BD22: 1000 | BE22: 1000 | BF22: 0 | BG22: 1000 | BH22: 1000 | BI22: 1000 | BJ22: 1000 | BK22: 1000 | BL22: 0 | BM22: 1000 | BN22: 1000 | BO22: 1000 | BP22: 1000 | BQ22: 1000 | BR22: 0 | BS22: 1000 | BT22: 1000 | BU22: 1000 | BV22: 1000 | BW22: 1000 | BX22: 0 | BY22: 1000 | BZ22: 1000 | CA22: 1000 | CB22: 1000 | CC22: 1000 | CD22: 0 | CE22: 1000 | CF22: 1000 | CG22: 1000 | CH22: 1000 | CI22: 1000 | CJ22: 0 | CK22: 1000 | CL22: 1000 | CM22: 1000 | CN22: 1000 | CO22: 1000 | CP22: 0 | CQ22: 1000 | CR22: 1000 | CS22: 1000 | CT22: 1000 | CU22: 1000 | CV22: 0 | CW22: 1000 | CX22: 1000 | CY22: 1000
A23: Soft hardwood | B23: =B22+2 -> 12 | C23: 1 | D23: 0 | E23: 1000 | F23: 1000 | G23: 1000 | H23: 1000 | I23: 1000 | J23: 0 | K23: 1000 | L23: 1000 | M23: 1000 | N23: 1000 | O23: 1000 | P23: 0 | Q23: 1000 | R23: 1000 | S23: 1000 | T23: 1000 | U23: 1000 | V23: 0 | W23: 1000 | X23: 1000 | Y23: 1000 | Z23: 1000 | AA23: 1000 | AB23: 0 | AC23: 1000 | AD23: 1000 | AE23: 1000 | AF23: 1000 | AG23: 1000 | AH23: 0 | AI23: 1000 | AJ23: 1000 | AK23: 1000 | AL23: 1000 | AM23: 1000 | AN23: 0 | AO23: 1000 | AP23: 1000 | AQ23: 1000 | AR23: 1000 | AS23: 1000 | AT23: 0 | AU23: 1000 | AV23: 1000 | AW23: 1000 | AX23: 1000 | AY23: 1000 | AZ23: 0 | BA23: 1000 | BB23: 1000 | BC23: 1000 | BD23: 1000 | BE23: 1000 | BF23: 0 | BG23: 1000 | BH23: 1000 | BI23: 1000 | BJ23: 1000 | BK23: 1000 | BL23: 0 | BM23: 1000 | BN23: 1000 | BO23: 1000 | BP23: 1000 | BQ23: 1000 | BR23: 0 | BS23: 1000 | BT23: 1000 | BU23: 1000 | BV23: 1000 | BW23: 1000 | BX23: 0 | BY23: 1000 | BZ23: 1000 | CA23: 1000 | CB23: 1000 | CC23: 1000 | CD23: 0 | CE23: 1000 | CF23: 1000 | CG23: 1000 | CH23: 1000 | CI23: 1000 | CJ23: 0 | CK23: 1000 | CL23: 1000 | CM23: 1000 | CN23: 1000 | CO23: 1000 | CP23: 0 | CQ23: 1000 | CR23: 1000 | CS23: 1000 | CT23: 1000 | CU23: 1000 | CV23: 0 | CW23: 1000 | CX23: 1000 | CY23: 1000
A24: Soft hardwood | B24: =B23+2 -> 14 | C24: 0.5 | D24: 0 | E24: 1000 | F24: 1000 | G24: 1000 | H24: 1000 | I24: 1000 | J24: 0 | K24: 1000 | L24: 1000 | M24: 1000 | N24: 1000 | O24: 1000 | P24: 0 | Q24: 1000 | R24: 1000 | S24: 1000 | T24: 1000 | U24: 1000 | V24: 0 | W24: 1000 | X24: 1000 | Y24: 1000 | Z24: 1000 | AA24: 1000 | AB24: 0 | AC24: 1000 | AD24: 1000 | AE24: 1000 | AF24: 1000 | AG24: 1000 | AH24: 0 | AI24: 1000 | AJ24: 1000 | AK24: 1000 | AL24: 1000 | AM24: 1000 | AN24: 0 | AO24: 1000 | AP24: 1000 | AQ24: 1000 | AR24: 1000 | AS24: 1000 | AT24: 0 | AU24: 1000 | AV24: 1000 | AW24: 1000 | AX24: 1000 | AY24: 1000 | AZ24: 0 | BA24: 1000 | BB24: 1000 | BC24: 1000 | BD24: 1000 | BE24: 1000 | BF24: 0 | BG24: 1000 | BH24: 1000 | BI24: 1000 | BJ24: 1000 | BK24: 1000 | BL24: 0 | BM24: 1000 | BN24: 1000 | BO24: 1000 | BP24: 1000 | BQ24: 1000 | BR24: 0 | BS24: 1000 | BT24: 1000 | BU24: 1000 | BV24: 1000 | BW24: 1000 | BX24: 0 | BY24: 1000 | BZ24: 1000 | CA24: 1000 | CB24: 1000 | CC24: 1000 | CD24: 0 | CE24: 1000 | CF24: 1000 | CG24: 1000 | CH24: 1000 | CI24: 1000 | CJ24: 0 | CK24: 1000 | CL24: 1000 | CM24: 1000 | CN24: 1000 | CO24: 1000 | CP24: 0 | CQ24: 1000 | CR24: 1000 | CS24: 1000 | CT24: 1000 | CU24: 1000 | CV24: 0 | CW24: 1000 | CX24: 1000 | CY24: 1000
A25: Soft hardwood | B25: =B24+2 -> 16 | C25: 0.3 | D25: 0 | E25: 1000 | F25: 1000 | G25: 1000 | H25: 1000 | I25: 1000 | J25: 0 | K25: 1000 | L25: 1000 | M25: 1000 | N25: 1000 | O25: 1000 | P25: 0 | Q25: 1000 | R25: 1000 | S25: 1000 | T25: 1000 | U25: 1000 | V25: 0 | W25: 1000 | X25: 1000 | Y25: 1000 | Z25: 1000 | AA25: 1000 | AB25: 0 | AC25: 1000 | AD25: 1000 | AE25: 1000 | AF25: 1000 | AG25: 1000 | AH25: 0 | AI25: 1000 | AJ25: 1000 | AK25: 1000 | AL25: 1000 | AM25: 1000 | AN25: 0 | AO25: 1000 | AP25: 1000 | AQ25: 1000 | AR25: 1000 | AS25: 1000 | AT25: 0 | AU25: 1000 | AV25: 1000 | AW25: 1000 | AX25: 1000 | AY25: 1000 | AZ25: 0 | BA25: 1000 | BB25: 1000 | BC25: 1000 | BD25: 1000 | BE25: 1000 | BF25: 0 | BG25: 1000 | BH25: 1000 | BI25: 1000 | BJ25: 1000 | BK25: 1000 | BL25: 0 | BM25: 1000 | BN25: 1000 | BO25: 1000 | BP25: 1000 | BQ25: 1000 | BR25: 0 | BS25: 1000 | BT25: 1000 | BU25: 1000 | BV25: 1000 | BW25: 1000 | BX25: 0 | BY25: 1000 | BZ25: 1000 | CA25: 1000 | CB25: 1000 | CC25: 1000 | CD25: 0 | CE25: 1000 | CF25: 1000 | CG25: 1000 | CH25: 1000 | CI25: 1000 | CJ25: 0 | CK25: 1000 | CL25: 1000 | CM25: 1000 | CN25: 1000 | CO25: 1000 | CP25: 0 | CQ25: 1000 | CR25: 1000 | CS25: 1000 | CT25: 1000 | CU25: 1000 | CV25: 0 | CW25: 1000 | CX25: 1000 | CY25: 1000
A26: Soft hardwood | B26: =B25+2 -> 18 | C26: 0.1 | D26: 0 | E26: 1000 | F26: 1000 | G26: 1000 | H26: 1000 | I26: 1000 | J26: 0 | K26: 1000 | L26: 1000 | M26: 1000 | N26: 1000 | O26: 1000 | P26: 0 | Q26: 1000 | R26: 1000 | S26: 1000 | T26: 1000 | U26: 1000 | V26: 0 | W26: 1000 | X26: 1000 | Y26: 1000 | Z26: 1000 | AA26: 1000 | AB26: 0 | AC26: 1000 | AD26: 1000 | AE26: 1000 | AF26: 1000 | AG26: 1000 | AH26: 0 | AI26: 1000 | AJ26: 1000 | AK26: 1000 | AL26: 1000 | AM26: 1000 | AN26: 0 | AO26: 1000 | AP26: 1000 | AQ26: 1000 | AR26: 1000 | AS26: 1000 | AT26: 0 | AU26: 1000 | AV26: 1000 | AW26: 1000 | AX26: 1000 | AY26: 1000 | AZ26: 0 | BA26: 1000 | BB26: 1000 | BC26: 1000 | BD26: 1000 | BE26: 1000 | BF26: 0 | BG26: 1000 | BH26: 1000 | BI26: 1000 | BJ26: 1000 | BK26: 1000 | BL26: 0 | BM26: 1000 | BN26: 1000 | BO26: 1000 | BP26: 1000 | BQ26: 1000 | BR26: 0 | BS26: 1000 | BT26: 1000 | BU26: 1000 | BV26: 1000 | BW26: 1000 | BX26: 0 | BY26: 1000 | BZ26: 1000 | CA26: 1000 | CB26: 1000 | CC26: 1000 | CD26: 0 | CE26: 1000 | CF26: 1000 | CG26: 1000 | CH26: 1000 | CI26: 1000 | CJ26: 0 | CK26: 1000 | CL26: 1000 | CM26: 1000 | CN26: 1000 | CO26: 1000 | CP26: 0 | CQ26: 1000 | CR26: 1000 | CS26: 1000 | CT26: 1000 | CU26: 1000 | CV26: 0 | CW26: 1000 | CX26: 1000 | CY26: 1000
A27: Soft hardwood | B27: =B26+2 -> 20 | C27: 0.1 | D27: 0 | E27: 1000 | F27: 1000 | G27: 1000 | H27: 1000 | I27: 1000 | J27: 0 | K27: 1000 | L27: 1000 | M27: 1000 | N27: 1000 | O27: 1000 | P27: 0 | Q27: 1000 | R27: 1000 | S27: 1000 | T27: 1000 | U27: 1000 | V27: 0 | W27: 1000 | X27: 1000 | Y27: 1000 | Z27: 1000 | AA27: 1000 | AB27: 0 | AC27: 1000 | AD27: 1000 | AE27: 1000 | AF27: 1000 | AG27: 1000 | AH27: 0 | AI27: 1000 | AJ27: 1000 | AK27: 1000 | AL27: 1000 | AM27: 1000 | AN27: 0 | AO27: 1000 | AP27: 1000 | AQ27: 1000 | AR27: 1000 | AS27: 1000 | AT27: 0 | AU27: 1000 | AV27: 1000 | AW27: 1000 | AX27: 1000 | AY27: 1000 | AZ27: 0 | BA27: 1000 | BB27: 1000 | BC27: 1000 | BD27: 1000 | BE27: 1000 | BF27: 0 | BG27: 1000 | BH27: 1000 | BI27: 1000 | BJ27: 1000 | BK27: 1000 | BL27: 0 | BM27: 1000 | BN27: 1000 | BO27: 1000 | BP27: 1000 | BQ27: 1000 | BR27: 0 | BS27: 1000 | BT27: 1000 | BU27: 1000 | BV27: 1000 | BW27: 1000 | BX27: 0 | BY27: 1000 | BZ27: 1000 | CA27: 1000 | CB27: 1000 | CC27: 1000 | CD27: 0 | CE27: 1000 | CF27: 1000 | CG27: 1000 | CH27: 1000 | CI27: 1000 | CJ27: 0 | CK27: 1000 | CL27: 1000 | CM27: 1000 | CN27: 1000 | CO27: 1000 | CP27: 0 | CQ27: 1000 | CR27: 1000 | CS27: 1000 | CT27: 1000 | CU27: 1000 | CV27: 0 | CW27: 1000 | CX27: 1000 | CY27: 1000
A28: Soft hardwood | B28: =B27+2 -> 22 | C28: 0 | D28: 0 | E28: 1000 | F28: 1000 | G28: 1000 | H28: 1000 | I28: 1000 | J28: 0 | K28: 1000 | L28: 1000 | M28: 1000 | N28: 1000 | O28: 1000 | P28: 0 | Q28: 1000 | R28: 1000 | S28: 1000 | T28: 1000 | U28: 1000 | V28: 0 | W28: 1000 | X28: 1000 | Y28: 1000 | Z28: 1000 | AA28: 1000 | AB28: 0 | AC28: 1000 | AD28: 1000 | AE28: 1000 | AF28: 1000 | AG28: 1000 | AH28: 0 | AI28: 1000 | AJ28: 1000 | AK28: 1000 | AL28: 1000 | AM28: 1000 | AN28: 0 | AO28: 1000 | AP28: 1000 | AQ28: 1000 | AR28: 1000 | AS28: 1000 | AT28: 0 | AU28: 1000 | AV28: 1000 | AW28: 1000 | AX28: 1000 | AY28: 1000 | AZ28: 0 | BA28: 1000 | BB28: 1000 | BC28: 1000 | BD28: 1000 | BE28: 1000 | BF28: 0 | BG28: 1000 | BH28: 1000 | BI28: 1000 | BJ28: 1000 | BK28: 1000 | BL28: 0 | BM28: 1000 | BN28: 1000 | BO28: 1000 | BP28: 1000 | BQ28: 1000 | BR28: 0 | BS28: 1000 | BT28: 1000 | BU28: 1000 | BV28: 1000 | BW28: 1000 | BX28: 0 | BY28: 1000 | BZ28: 1000 | CA28: 1000 | CB28: 1000 | CC28: 1000 | CD28: 0 | CE28: 1000 | CF28: 1000 | CG28: 1000 | CH28: 1000 | CI28: 1000 | CJ28: 0 | CK28: 1000 | CL28: 1000 | CM28: 1000 | CN28: 1000 | CO28: 1000 | CP28: 0 | CQ28: 1000 | CR28: 1000 | CS28: 1000 | CT28: 1000 | CU28: 1000 | CV28: 0 | CW28: 1000 | CX28: 1000 | CY28: 1000
A29: Soft hardwood | B29: =B28+2 -> 24 | C29: 0 | D29: 0 | E29: 1000 | F29: 1000 | G29: 1000 | H29: 1000 | I29: 1000 | J29: 0 | K29: 1000 | L29: 1000 | M29: 1000 | N29: 1000 | O29: 1000 | P29: 0 | Q29: 1000 | R29: 1000 | S29: 1000 | T29: 1000 | U29: 1000 | V29: 0 | W29: 1000 | X29: 1000 | Y29: 1000 | Z29: 1000 | AA29: 1000 | AB29: 0 | AC29: 1000 | AD29: 1000 | AE29: 1000 | AF29: 1000 | AG29: 1000 | AH29: 0 | AI29: 1000 | AJ29: 1000 | AK29: 1000 | AL29: 1000 | AM29: 1000 | AN29: 0 | AO29: 1000 | AP29: 1000 | AQ29: 1000 | AR29: 1000 | AS29: 1000 | AT29: 0 | AU29: 1000 | AV29: 1000 | AW29: 1000 | AX29: 1000 | AY29: 1000 | AZ29: 0 | BA29: 1000 | BB29: 1000 | BC29: 1000 | BD29: 1000 | BE29: 1000 | BF29: 0 | BG29: 1000 | BH29: 1000 | BI29: 1000 | BJ29: 1000 | BK29: 1000 | BL29: 0 | BM29: 1000 | BN29: 1000 | BO29: 1000 | BP29: 1000 | BQ29: 1000 | BR29: 0 | BS29: 1000 | BT29: 1000 | BU29: 1000 | BV29: 1000 | BW29: 1000 | BX29: 0 | BY29: 1000 | BZ29: 1000 | CA29: 1000 | CB29: 1000 | CC29: 1000 | CD29: 0 | CE29: 1000 | CF29: 1000 | CG29: 1000 | CH29: 1000 | CI29: 1000 | CJ29: 0 | CK29: 1000 | CL29: 1000 | CM29: 1000 | CN29: 1000 | CO29: 1000 | CP29: 0 | CQ29: 1000 | CR29: 1000 | CS29: 1000 | CT29: 1000 | CU29: 1000 | CV29: 0 | CW29: 1000 | CX29: 1000 | CY29: 1000
A30: Soft hardwood | B30: =B29+2 -> 26 | C30: 0 | D30: 0 | E30: 1000 | F30: 1000 | G30: 1000 | H30: 1000 | I30: 1000 | J30: 0 | K30: 1000 | L30: 1000 | M30: 1000 | N30: 1000 | O30: 1000 | P30: 0 | Q30: 1000 | R30: 1000 | S30: 1000 | T30: 1000 | U30: 1000 | V30: 0 | W30: 1000 | X30: 1000 | Y30: 1000 | Z30: 1000 | AA30: 1000 | AB30: 0 | AC30: 1000 | AD30: 1000 | AE30: 1000 | AF30: 1000 | AG30: 1000 | AH30: 0 | AI30: 1000 | AJ30: 1000 | AK30: 1000 | AL30: 1000 | AM30: 1000 | AN30: 0 | AO30: 1000 | AP30: 1000 | AQ30: 1000 | AR30: 1000 | AS30: 1000 | AT30: 0 | AU30: 1000 | AV30: 1000 | AW30: 1000 | AX30: 1000 | AY30: 1000 | AZ30: 0 | BA30: 1000 | BB30: 1000 | BC30: 1000 | BD30: 1000 | BE30: 1000 | BF30: 0 | BG30: 1000 | BH30: 1000 | BI30: 1000 | BJ30: 1000 | BK30: 1000 | BL30: 0 | BM30: 1000 | BN30: 1000 | BO30: 1000 | BP30: 1000 | BQ30: 1000 | BR30: 0 | BS30: 1000 | BT30: 1000 | BU30: 1000 | BV30: 1000 | BW30: 1000 | BX30: 0 | BY30: 1000 | BZ30: 1000 | CA30: 1000 | CB30: 1000 | CC30: 1000 | CD30: 0 | CE30: 1000 | CF30: 1000 | CG30: 1000 | CH30: 1000 | CI30: 1000 | CJ30: 0 | CK30: 1000 | CL30: 1000 | CM30: 1000 | CN30: 1000 | CO30: 1000 | CP30: 0 | CQ30: 1000 | CR30: 1000 | CS30: 1000 | CT30: 1000 | CU30: 1000 | CV30: 0 | CW30: 1000 | CX30: 1000 | CY30: 1000
A31: Hard hardwood | B31: 2 | C31: 128.7 | D31: 0 | E31: 1000 | F31: 1000 | G31: 1000 | H31: 1000 | I31: 1000 | J31: 0 | K31: 1000 | L31: 1000 | M31: 1000 | N31: 1000 | O31: 1000 | P31: 0 | Q31: 1000 | R31: 1000 | S31: 1000 | T31: 1000 | U31: 1000 | V31: 0 | W31: 1000 | X31: 1000 | Y31: 1000 | Z31: 1000 | AA31: 1000 | AB31: 0 | AC31: 1000 | AD31: 1000 | AE31: 1000 | AF31: 1000 | AG31: 1000 | AH31: 0 | AI31: 1000 | AJ31: 1000 | AK31: 1000 | AL31: 1000 | AM31: 1000 | AN31: 0 | AO31: 1000 | AP31: 1000 | AQ31: 1000 | AR31: 1000 | AS31: 1000 | AT31: 0 | AU31: 1000 | AV31: 1000 | AW31: 1000 | AX31: 1000 | AY31: 1000 | AZ31: 0 | BA31: 1000 | BB31: 1000 | BC31: 1000 | BD31: 1000 | BE31: 1000 | BF31: 0 | BG31: 1000 | BH31: 1000 | BI31: 1000 | BJ31: 1000 | BK31: 1000 | BL31: 0 | BM31: 1000 | BN31: 1000 | BO31: 1000 | BP31: 1000 | BQ31: 1000 | BR31: 0 | BS31: 1000 | BT31: 1000 | BU31: 1000 | BV31: 1000 | BW31: 1000 | BX31: 0 | BY31: 1000 | BZ31: 1000 | CA31: 1000 | CB31: 1000 | CC31: 1000 | CD31: 0 | CE31: 1000 | CF31: 1000 | CG31: 1000 | CH31: 1000 | CI31: 1000 | CJ31: 0 | CK31: 1000 | CL31: 1000 | CM31: 1000 | CN31: 1000 | CO31: 1000 | CP31: 0 | CQ31: 1000 | CR31: 1000 | CS31: 1000 | CT31: 1000 | CU31: 1000 | CV31: 0 | CW31: 1000 | CX31: 1000 | CY31: 1000
A32: Hard hardwood | B32: =B31+2 -> 4 | C32: 26.9 | D32: 0 | E32: 1000 | F32: 1000 | G32: 1000 | H32: 1000 | I32: 1000 | J32: 0 | K32: 1000 | L32: 1000 | M32: 1000 | N32: 1000 | O32: 1000 | P32: 0 | Q32: 1000 | R32: 1000 | S32: 1000 | T32: 1000 | U32: 1000 | V32: 0 | W32: 1000 | X32: 1000 | Y32: 1000 | Z32: 1000 | AA32: 1000 | AB32: 0 | AC32: 1000 | AD32: 1000 | AE32: 1000 | AF32: 1000 | AG32: 1000 | AH32: 0 | AI32: 1000 | AJ32: 1000 | AK32: 1000 | AL32: 1000 | AM32: 1000 | AN32: 0 | AO32: 1000 | AP32: 1000 | AQ32: 1000 | AR32: 1000 | AS32: 1000 | AT32: 0 | AU32: 1000 | AV32: 1000 | AW32: 1000 | AX32: 1000 | AY32: 1000 | AZ32: 0 | BA32: 1000 | BB32: 1000 | BC32: 1000 | BD32: 1000 | BE32: 1000 | BF32: 0 | BG32: 1000 | BH32: 1000 | BI32: 1000 | BJ32: 1000 | BK32: 1000 | BL32: 0 | BM32: 1000 | BN32: 1000 | BO32: 1000 | BP32: 1000 | BQ32: 1000 | BR32: 0 | BS32: 1000 | BT32: 1000 | BU32: 1000 | BV32: 1000 | BW32: 1000 | BX32: 0 | BY32: 1000 | BZ32: 1000 | CA32: 1000 | CB32: 1000 | CC32: 1000 | CD32: 0 | CE32: 1000 | CF32: 1000 | CG32: 1000 | CH32: 1000 | CI32: 1000 | CJ32: 0 | CK32: 1000 | CL32: 1000 | CM32: 1000 | CN32: 1000 | CO32: 1000 | CP32: 0 | CQ32: 1000 | CR32: 1000 | CS32: 1000 | CT32: 1000 | CU32: 1000 | CV32: 0 | CW32: 1000 | CX32: 1000 | CY32: 1000
A33: Hard hardwood | B33: =B32+2 -> 6 | C33: 10.5 | D33: 0 | E33: 1000 | F33: 1000 | G33: 1000 | H33: 1000 | I33: 1000 | J33: 0 | K33: 1000 | L33: 1000 | M33: 1000 | N33: 1000 | O33: 1000 | P33: 0 | Q33: 1000 | R33: 1000 | S33: 1000 | T33: 1000 | U33: 1000 | V33: 0 | W33: 1000 | X33: 1000 | Y33: 1000 | Z33: 1000 | AA33: 1000 | AB33: 0 | AC33: 1000 | AD33: 1000 | AE33: 1000 | AF33: 1000 | AG33: 1000 | AH33: 0 | AI33: 1000 | AJ33: 1000 | AK33: 1000 | AL33: 1000 | AM33: 1000 | AN33: 0 | AO33: 1000 | AP33: 1000 | AQ33: 1000 | AR33: 1000 | AS33: 1000 | AT33: 0 | AU33: 1000 | AV33: 1000 | AW33: 1000 | AX33: 1000 | AY33: 1000 | AZ33: 0 | BA33: 1000 | BB33: 1000 | BC33: 1000 | BD33: 1000 | BE33: 1000 | BF33: 0 | BG33: 1000 | BH33: 1000 | BI33: 1000 | BJ33: 1000 | BK33: 1000 | BL33: 0 | BM33: 1000 | BN33: 1000 | BO33: 1000 | BP33: 1000 | BQ33: 1000 | BR33: 0 | BS33: 1000 | BT33: 1000 | BU33: 1000 | BV33: 1000 | BW33: 1000 | BX33: 0 | BY33: 1000 | BZ33: 1000 | CA33: 1000 | CB33: 1000 | CC33: 1000 | CD33: 0 | CE33: 1000 | CF33: 1000 | CG33: 1000 | CH33: 1000 | CI33: 1000 | CJ33: 0 | CK33: 1000 | CL33: 1000 | CM33: 1000 | CN33: 1000 | CO33: 1000 | CP33: 0 | CQ33: 1000 | CR33: 1000 | CS33: 1000 | CT33: 1000 | CU33: 1000 | CV33: 0 | CW33: 1000 | CX33: 1000 | CY33: 1000
A34: Hard hardwood | B34: =B33+2 -> 8 | C34: 5.3 | D34: 0 | E34: 1000 | F34: 1000 | G34: 1000 | H34: 1000 | I34: 1000 | J34: 0 | K34: 1000 | L34: 1000 | M34: 1000 | N34: 1000 | O34: 1000 | P34: 0 | Q34: 1000 | R34: 1000 | S34: 1000 | T34: 1000 | U34: 1000 | V34: 0 | W34: 1000 | X34: 1000 | Y34: 1000 | Z34: 1000 | AA34: 1000 | AB34: 0 | AC34: 1000 | AD34: 1000 | AE34: 1000 | AF34: 1000 | AG34: 1000 | AH34: 0 | AI34: 1000 | AJ34: 1000 | AK34: 1000 | AL34: 1000 | AM34: 1000 | AN34: 0 | AO34: 1000 | AP34: 1000 | AQ34: 1000 | AR34: 1000 | AS34: 1000 | AT34: 0 | AU34: 1000 | AV34: 1000 | AW34: 1000 | AX34: 1000 | AY34: 1000 | AZ34: 0 | BA34: 1000 | BB34: 1000 | BC34: 1000 | BD34: 1000 | BE34: 1000 | BF34: 0 | BG34: 1000 | BH34: 1000 | BI34: 1000 | BJ34: 1000 | BK34: 1000 | BL34: 0 | BM34: 1000 | BN34: 1000 | BO34: 1000 | BP34: 1000 | BQ34: 1000 | BR34: 0 | BS34: 1000 | BT34: 1000 | BU34: 1000 | BV34: 1000 | BW34: 1000 | BX34: 0 | BY34: 1000 | BZ34: 1000 | CA34: 1000 | CB34: 1000 | CC34: 1000 | CD34: 0 | CE34: 1000 | CF34: 1000 | CG34: 1000 | CH34: 1000 | CI34: 1000 | CJ34: 0 | CK34: 1000 | CL34: 1000 | CM34: 1000 | CN34: 1000 | CO34: 1000 | CP34: 0 | CQ34: 1000 | CR34: 1000 | CS34: 1000 | CT34: 1000 | CU34: 1000 | CV34: 0 | CW34: 1000 | CX34: 1000 | CY34: 1000
A35: Hard hardwood | B35: =B34+2 -> 10 | C35: 2.7 | D35: 0 | E35: 1000 | F35: 1000 | G35: 1000 | H35: 1000 | I35: 1000 | J35: 0 | K35: 1000 | L35: 1000 | M35: 1000 | N35: 1000 | O35: 1000 | P35: 0 | Q35: 1000 | R35: 1000 | S35: 1000 | T35: 1000 | U35: 1000 | V35: 0 | W35: 1000 | X35: 1000 | Y35: 1000 | Z35: 1000 | AA35: 1000 | AB35: 0 | AC35: 1000 | AD35: 1000 | AE35: 1000 | AF35: 1000 | AG35: 1000 | AH35: 0 | AI35: 1000 | AJ35: 1000 | AK35: 1000 | AL35: 1000 | AM35: 1000 | AN35: 0 | AO35: 1000 | AP35: 1000 | AQ35: 1000 | AR35: 1000 | AS35: 1000 | AT35: 0 | AU35: 1000 | AV35: 1000 | AW35: 1000 | AX35: 1000 | AY35: 1000 | AZ35: 0 | BA35: 1000 | BB35: 1000 | BC35: 1000 | BD35: 1000 | BE35: 1000 | BF35: 0 | BG35: 1000 | BH35: 1000 | BI35: 1000 | BJ35: 1000 | BK35: 1000 | BL35: 0 | BM35: 1000 | BN35: 1000 | BO35: 1000 | BP35: 1000 | BQ35: 1000 | BR35: 0 | BS35: 1000 | BT35: 1000 | BU35: 1000 | BV35: 1000 | BW35: 1000 | BX35: 0 | BY35: 1000 | BZ35: 1000 | CA35: 1000 | CB35: 1000 | CC35: 1000 | CD35: 0 | CE35: 1000 | CF35: 1000 | CG35: 1000 | CH35: 1000 | CI35: 1000 | CJ35: 0 | CK35: 1000 | CL35: 1000 | CM35: 1000 | CN35: 1000 | CO35: 1000 | CP35: 0 | CQ35: 1000 | CR35: 1000 | CS35: 1000 | CT35: 1000 | CU35: 1000 | CV35: 0 | CW35: 1000 | CX35: 1000 | CY35: 1000
A36: Hard hardwood | B36: =B35+2 -> 12 | C36: 1.6 | D36: 0 | E36: 1000 | F36: 1000 | G36: 1000 | H36: 1000 | I36: 1000 | J36: 0 | K36: 1000 | L36: 1000 | M36: 1000 | N36: 1000 | O36: 1000 | P36: 0 | Q36: 1000 | R36: 1000 | S36: 1000 | T36: 1000 | U36: 1000 | V36: 0 | W36: 1000 | X36: 1000 | Y36: 1000 | Z36: 1000 | AA36: 1000 | AB36: 0 | AC36: 1000 | AD36: 1000 | AE36: 1000 | AF36: 1000 | AG36: 1000 | AH36: 0 | AI36: 1000 | AJ36: 1000 | AK36: 1000 | AL36: 1000 | AM36: 1000 | AN36: 0 | AO36: 1000 | AP36: 1000 | AQ36: 1000 | AR36: 1000 | AS36: 1000 | AT36: 0 | AU36: 1000 | AV36: 1000 | AW36: 1000 | AX36: 1000 | AY36: 1000 | AZ36: 0 | BA36: 1000 | BB36: 1000 | BC36: 1000 | BD36: 1000 | BE36: 1000 | BF36: 0 | BG36: 1000 | BH36: 1000 | BI36: 1000 | BJ36: 1000 | BK36: 1000 | BL36: 0 | BM36: 1000 | BN36: 1000 | BO36: 1000 | BP36: 1000 | BQ36: 1000 | BR36: 0 | BS36: 1000 | BT36: 1000 | BU36: 1000 | BV36: 1000 | BW36: 1000 | BX36: 0 | BY36: 1000 | BZ36: 1000 | CA36: 1000 | CB36: 1000 | CC36: 1000 | CD36: 0 | CE36: 1000 | CF36: 1000 | CG36: 1000 | CH36: 1000 | CI36: 1000 | CJ36: 0 | CK36: 1000 | CL36: 1000 | CM36: 1000 | CN36: 1000 | CO36: 1000 | CP36: 0 | CQ36: 1000 | CR36: 1000 | CS36: 1000 | CT36: 1000 | CU36: 1000 | CV36: 0 | CW36: 1000 | CX36: 1000 | CY36: 1000
A37: Hard hardwood | B37: =B36+2 -> 14 | C37: 1.1 | D37: 0 | E37: 1000 | F37: 1000 | G37: 1000 | H37: 1000 | I37: 1000 | J37: 0 | K37: 1000 | L37: 1000 | M37: 1000 | N37: 1000 | O37: 1000 | P37: 0 | Q37: 1000 | R37: 1000 | S37: 1000 | T37: 1000 | U37: 1000 | V37: 0 | W37: 1000 | X37: 1000 | Y37: 1000 | Z37: 1000 | AA37: 1000 | AB37: 0 | AC37: 1000 | AD37: 1000 | AE37: 1000 | AF37: 1000 | AG37: 1000 | AH37: 0 | AI37: 1000 | AJ37: 1000 | AK37: 1000 | AL37: 1000 | AM37: 1000 | AN37: 0 | AO37: 1000 | AP37: 1000 | AQ37: 1000 | AR37: 1000 | AS37: 1000 | AT37: 0 | AU37: 1000 | AV37: 1000 | AW37: 1000 | AX37: 1000 | AY37: 1000 | AZ37: 0 | BA37: 1000 | BB37: 1000 | BC37: 1000 | BD37: 1000 | BE37: 1000 | BF37: 0 | BG37: 1000 | BH37: 1000 | BI37: 1000 | BJ37: 1000 | BK37: 1000 | BL37: 0 | BM37: 1000 | BN37: 1000 | BO37: 1000 | BP37: 1000 | BQ37: 1000 | BR37: 0 | BS37: 1000 | BT37: 1000 | BU37: 1000 | BV37: 1000 | BW37: 1000 | BX37: 0 | BY37: 1000 | BZ37: 1000 | CA37: 1000 | CB37: 1000 | CC37: 1000 | CD37: 0 | CE37: 1000 | CF37: 1000 | CG37: 1000 | CH37: 1000 | CI37: 1000 | CJ37: 0 | CK37: 1000 | CL37: 1000 | CM37: 1000 | CN37: 1000 | CO37: 1000 | CP37: 0 | CQ37: 1000 | CR37: 1000 | CS37: 1000 | CT37: 1000 | CU37: 1000 | CV37: 0 | CW37: 1000 | CX37: 1000 | CY37: 1000
A38: Hard hardwood | B38: =B37+2 -> 16 | C38: 0.6 | D38: 0 | E38: 1000 | F38: 1000 | G38: 1000 | H38: 1000 | I38: 1000 | J38: 0 | K38: 1000 | L38: 1000 | M38: 1000 | N38: 1000 | O38: 1000 | P38: 0 | Q38: 1000 | R38: 1000 | S38: 1000 | T38: 1000 | U38: 1000 | V38: 0 | W38: 1000 | X38: 1000 | Y38: 1000 | Z38: 1000 | AA38: 1000 | AB38: 0 | AC38: 1000 | AD38: 1000 | AE38: 1000 | AF38: 1000 | AG38: 1000 | AH38: 0 | AI38: 1000 | AJ38: 1000 | AK38: 1000 | AL38: 1000 | AM38: 1000 | AN38: 0 | AO38: 1000 | AP38: 1000 | AQ38: 1000 | AR38: 1000 | AS38: 1000 | AT38: 0 | AU38: 1000 | AV38: 1000 | AW38: 1000 | AX38: 1000 | AY38: 1000 | AZ38: 0 | BA38: 1000 | BB38: 1000 | BC38: 1000 | BD38: 1000 | BE38: 1000 | BF38: 0 | BG38: 1000 | BH38: 1000 | BI38: 1000 | BJ38: 1000 | BK38: 1000 | BL38: 0 | BM38: 1000 | BN38: 1000 | BO38: 1000 | BP38: 1000 | BQ38: 1000 | BR38: 0 | BS38: 1000 | BT38: 1000 | BU38: 1000 | BV38: 1000 | BW38: 1000 | BX38: 0 | BY38: 1000 | BZ38: 1000 | CA38: 1000 | CB38: 1000 | CC38: 1000 | CD38: 0 | CE38: 1000 | CF38: 1000 | CG38: 1000 | CH38: 1000 | CI38: 1000 | CJ38: 0 | CK38: 1000 | CL38: 1000 | CM38: 1000 | CN38: 1000 | CO38: 1000 | CP38: 0 | CQ38: 1000 | CR38: 1000 | CS38: 1000 | CT38: 1000 | CU38: 1000 | CV38: 0 | CW38: 1000 | CX38: 1000 | CY38: 1000
A39: Hard hardwood | B39: =B38+2 -> 18 | C39: 0.3 | D39: 0 | E39: 1000 | F39: 1000 | G39: 1000 | H39: 1000 | I39: 1000 | J39: 0 | K39: 1000 | L39: 1000 | M39: 1000 | N39: 1000 | O39: 1000 | P39: 0 | Q39: 1000 | R39: 1000 | S39: 1000 | T39: 1000 | U39: 1000 | V39: 0 | W39: 1000 | X39: 1000 | Y39: 1000 | Z39: 1000 | AA39: 1000 | AB39: 0 | AC39: 1000 | AD39: 1000 | AE39: 1000 | AF39: 1000 | AG39: 1000 | AH39: 0 | AI39: 1000 | AJ39: 1000 | AK39: 1000 | AL39: 1000 | AM39: 1000 | AN39: 0 | AO39: 1000 | AP39: 1000 | AQ39: 1000 | AR39: 1000 | AS39: 1000 | AT39: 0 | AU39: 1000 | AV39: 1000 | AW39: 1000 | AX39: 1000 | AY39: 1000 | AZ39: 0 | BA39: 1000 | BB39: 1000 | BC39: 1000 | BD39: 1000 | BE39: 1000 | BF39: 0 | BG39: 1000 | BH39: 1000 | BI39: 1000 | BJ39: 1000 | BK39: 1000 | BL39: 0 | BM39: 1000 | BN39: 1000 | BO39: 1000 | BP39: 1000 | BQ39: 1000 | BR39: 0 | BS39: 1000 | BT39: 1000 | BU39: 1000 | BV39: 1000 | BW39: 1000 | BX39: 0 | BY39: 1000 | BZ39: 1000 | CA39: 1000 | CB39: 1000 | CC39: 1000 | CD39: 0 | CE39: 1000 | CF39: 1000 | CG39: 1000 | CH39: 1000 | CI39: 1000 | CJ39: 0 | CK39: 1000 | CL39: 1000 | CM39: 1000 | CN39: 1000 | CO39: 1000 | CP39: 0 | CQ39: 1000 | CR39: 1000 | CS39: 1000 | CT39: 1000 | CU39: 1000 | CV39: 0 | CW39: 1000 | CX39: 1000 | CY39: 1000
A40: Hard hardwood | B40: =B39+2 -> 20 | C40: 0.2 | D40: 0 | E40: 1000 | F40: 1000 | G40: 1000 | H40: 1000 | I40: 1000 | J40: 0 | K40: 1000 | L40: 1000 | M40: 1000 | N40: 1000 | O40: 1000 | P40: 0 | Q40: 1000 | R40: 1000 | S40: 1000 | T40: 1000 | U40: 1000 | V40: 0 | W40: 1000 | X40: 1000 | Y40: 1000 | Z40: 1000 | AA40: 1000 | AB40: 0 | AC40: 1000 | AD40: 1000 | AE40: 1000 | AF40: 1000 | AG40: 1000 | AH40: 0 | AI40: 1000 | AJ40: 1000 | AK40: 1000 | AL40: 1000 | AM40: 1000 | AN40: 0 | AO40: 1000 | AP40: 1000 | AQ40: 1000 | AR40: 1000 | AS40: 1000 | AT40: 0 | AU40: 1000 | AV40: 1000 | AW40: 1000 | AX40: 1000 | AY40: 1000 | AZ40: 0 | BA40: 1000 | BB40: 1000 | BC40: 1000 | BD40: 1000 | BE40: 1000 | BF40: 0 | BG40: 1000 | BH40: 1000 | BI40: 1000 | BJ40: 1000 | BK40: 1000 | BL40: 0 | BM40: 1000 | BN40: 1000 | BO40: 1000 | BP40: 1000 | BQ40: 1000 | BR40: 0 | BS40: 1000 | BT40: 1000 | BU40: 1000 | BV40: 1000 | BW40: 1000 | BX40: 0 | BY40: 1000 | BZ40: 1000 | CA40: 1000 | CB40: 1000 | CC40: 1000 | CD40: 0 | CE40: 1000 | CF40: 1000 | CG40: 1000 | CH40: 1000 | CI40: 1000 | CJ40: 0 | CK40: 1000 | CL40: 1000 | CM40: 1000 | CN40: 1000 | CO40: 1000 | CP40: 0 | CQ40: 1000 | CR40: 1000 | CS40: 1000 | CT40: 1000 | CU40: 1000 | CV40: 0 | CW40: 1000 | CX40: 1000 | CY40: 1000
...

Sheet Trees
C1: Number of trees per acre left after harvest, by species, size, and year.
A2: Site | B2: =Target!B2 -> 2
A3: Year | C3: 0 | D3: =C3+1 -> 1 | E3: =D3+1 -> 2 | F3: =E3+1 -> 3 | G3: =F3+1 -> 4 | H3: =G3+1 -> 5 | I3: =H3+1 -> 6 | J3: =I3+1 -> 7 | K3: =J3+1 -> 8 | ... CY3: =CX3+1 -> 100
A4: Species | B4: dbh (in.) | C4: trees/a | D4: trees/a | E4: trees/a | F4: trees/a | G4: trees/a | H4: trees/a | I4: trees/a | J4: trees/a | K4: trees/a | L4: trees/a | M4: trees/a | N4: trees/a | O4: trees/a | P4: trees/a | Q4: trees/a | R4: trees/a | S4: trees/a | T4: trees/a | U4: trees/a | V4: trees/a | W4: trees/a | X4: trees/a | Y4: trees/a | Z4: trees/a | AA4: trees/a | AB4: trees/a | AC4: trees/a | AD4: trees/a | AE4: trees/a | AF4: trees/a | AG4: trees/a | AH4: trees/a | AI4: trees/a | AJ4: trees/a | AK4: trees/a | AL4: trees/a | AM4: trees/a | AN4: trees/a | AO4: trees/a | AP4: trees/a | AQ4: trees/a | AR4: trees/a | AS4: trees/a | AT4: trees/a | AU4: trees/a | AV4: trees/a | AW4: trees/a | AX4: trees/a | AY4: trees/a | AZ4: trees/a | BA4: trees/a | BB4: trees/a | BC4: trees/a | BD4: trees/a | BE4: trees/a | BF4: trees/a | BG4: trees/a | BH4: trees/a | BI4: trees/a | BJ4: trees/a | BK4: trees/a | BL4: trees/a | BM4: trees/a | BN4: trees/a | BO4: trees/a | BP4: trees/a | BQ4: trees/a | BR4: trees/a | BS4: trees/a | BT4: trees/a | BU4: trees/a | BV4: trees/a | BW4: trees/a | BX4: trees/a | BY4: trees/a | BZ4: trees/a | CA4: trees/a | CB4: trees/a | CC4: trees/a | CD4: trees/a | CE4: trees/a | CF4: trees/a | CG4: trees/a | CH4: trees/a | CI4: trees/a | CJ4: trees/a | CK4: trees/a | CL4: trees/a | CM4: trees/a | CN4: trees/a | CO4: trees/a | CP4: trees/a | CQ4: trees/a | CR4: trees/a | CS4: trees/a | CT4: trees/a | CU4: trees/a | CV4: trees/a | CW4: trees/a | CX4: trees/a | CY4: trees/a
A5: Softwood | B5: 2 | C5: 19.7 | D5: =MAX(0,C5+ingrowth!D4-upgrowth!D4-Mortality!D4)-TreesCut!C5 -> 20.059345 | E5: =MAX(0,D5+ingrowth!E4-upgrowth!E4-Mortality!E4)-TreesCut!D5 -> 25.879453 | F5: =MAX(0,E5+ingrowth!F4-upgrowth!F4-Mortality!F4)-TreesCut!E5 -> 37.851898 | G5: =MAX(0,F5+ingrowth!G4-upgrowth!G4-Mortality!G4)-TreesCut!F5 -> 48.622612 | H5: =MAX(0,G5+ingrowth!H4-upgrowth!H4-Mortality!H4)-TreesCut!G5 -> 58.282922 | I5: =MAX(0,H5+ingrowth!I4-upgrowth!I4-Mortality!I4)-TreesCut!H5 -> 66.915938 | J5: =MAX(0,I5+ingrowth!J4-upgrowth!J4-Mortality!J4)-TreesCut!I5 -> 74.597379 | K5: =MAX(0,J5+ingrowth!K4-upgrowth!K4-Mortality!K4)-TreesCut!J5 -> 81.396228 | ... CY5: =MAX(0,CX5+ingrowth!CY4-upgrowth!CY4-Mortality!CY4)-TreesCut!CX5 -> 122.3961
A6: Softwood | B6: =B5+2 -> 4 | C6: 27.2 | D6: =MAX(0,C6+upgrowth!D4-upgrowth!D5-Mortality!D5)-TreesCut!C6 -> 25.569823 | E6: =MAX(0,D6+upgrowth!E4-upgrowth!E5-Mortality!E5)-TreesCut!D6 -> 24.093814 | F6: =MAX(0,E6+upgrowth!F4-upgrowth!F5-Mortality!F5)-TreesCut!E6 -> 23.01416 | G6: =MAX(0,F6+upgrowth!G4-upgrowth!G5-Mortality!G5)-TreesCut!F6 -> 22.589984 | H6: =MAX(0,G6+upgrowth!H4-upgrowth!H5-Mortality!H5)-TreesCut!G6 -> 22.696765 | I6: =MAX(0,H6+upgrowth!I4-upgrowth!I5-Mortality!I5)-TreesCut!H6 -> 23.226934 | J6: =MAX(0,I6+upgrowth!J4-upgrowth!J5-Mortality!J5)-TreesCut!I6 -> 24.087818 | K6: =MAX(0,J6+upgrowth!K4-upgrowth!K5-Mortality!K5)-TreesCut!J6 -> 25.199808 | ... CY6: =MAX(0,CX6+upgrowth!CY4-upgrowth!CY5-Mortality!CY5)-TreesCut!CX6 -> 56.294118
A7: Softwood | B7: =B6+2 -> 6 | C7: 16 | D7: =MAX(0,C7+upgrowth!D5-upgrowth!D6-Mortality!D6)-TreesCut!C7 -> 15.970896 | E7: =MAX(0,D7+upgrowth!E5-upgrowth!E6-Mortality!E6)-TreesCut!D7 -> 15.936131 | F7: =MAX(0,E7+upgrowth!F5-upgrowth!F6-Mortality!F6)-TreesCut!E7 -> 15.888618 | G7: =MAX(0,F7+upgrowth!G5-upgrowth!G6-Mortality!G6)-TreesCut!F7 -> 15.773265 | H7: =MAX(0,G7+upgrowth!H5-upgrowth!H6-Mortality!H6)-TreesCut!G7 -> 15.639772 | I7: =MAX(0,H7+upgrowth!I5-upgrowth!I6-Mortality!I6)-TreesCut!H7 -> 15.524215 | J7: =MAX(0,I7+upgrowth!J5-upgrowth!J6-Mortality!J6)-TreesCut!I7 -> 15.451649 | K7: =MAX(0,J7+upgrowth!K5-upgrowth!K6-Mortality!K6)-TreesCut!J7 -> 15.438306 | ... CY7: =MAX(0,CX7+upgrowth!CY5-upgrowth!CY6-Mortality!CY6)-TreesCut!CX7 -> 35.79375
A8: Softwood | B8: =B7+2 -> 8 | C8: 14.2 | D8: =MAX(0,C8+upgrowth!D6-upgrowth!D7-Mortality!D7)-TreesCut!C8 -> 13.921049 | E8: =MAX(0,D8+upgrowth!E6-upgrowth!E7-Mortality!E7)-TreesCut!D8 -> 13.698377 | F8: =MAX(0,E8+upgrowth!F6-upgrowth!F7-Mortality!F7)-TreesCut!E8 -> 13.523287 | G8: =MAX(0,F8+upgrowth!G6-upgrowth!G7-Mortality!G7)-TreesCut!F8 -> 13.362193 | H8: =MAX(0,G8+upgrowth!H6-upgrowth!H7-Mortality!H7)-TreesCut!G8 -> 13.208013 | I8: =MAX(0,H8+upgrowth!I6-upgrowth!I7-Mortality!I7)-TreesCut!H8 -> 13.058473 | J8: =MAX(0,I8+upgrowth!J6-upgrowth!J7-Mortality!J7)-TreesCut!I8 -> 12.914439 | K8: =MAX(0,J8+upgrowth!K6-upgrowth!K7-Mortality!K7)-TreesCut!J8 -> 12.778666 | ... CY8: =MAX(0,CX8+upgrowth!CY6-upgrowth!CY7-Mortality!CY7)-TreesCut!CX8 -> 27.443022
A9: Softwood | B9: =B8+2 -> 10 | C9: 14.7 | D9: =MAX(0,C9+upgrowth!D7-upgrowth!D8-Mortality!D8)-TreesCut!C9 -> 11.972912 | E9: =MAX(0,D9+upgrowth!E7-upgrowth!E8-Mortality!E8)-TreesCut!D9 -> 11.926151 | F9: =MAX(0,E9+upgrowth!F7-upgrowth!F8-Mortality!F8)-TreesCut!E9 -> 11.887772 | G9: =MAX(0,F9+upgrowth!G7-upgrowth!G8-Mortality!G8)-TreesCut!F9 -> 11.836533 | H9: =MAX(0,G9+upgrowth!H7-upgrowth!H8-Mortality!H8)-TreesCut!G9 -> 11.775191 | I9: =MAX(0,H9+upgrowth!I7-upgrowth!I8-Mortality!I8)-TreesCut!H9 -> 11.705518 | J9: =MAX(0,I9+upgrowth!J7-upgrowth!J8-Mortality!J8)-TreesCut!I9 -> 11.628871 | K9: =MAX(0,J9+upgrowth!K7-upgrowth!K8-Mortality!K8)-TreesCut!J9 -> 11.546525 | ... CY9: =MAX(0,CX9+upgrowth!CY7-upgrowth!CY8-Mortality!CY8)-TreesCut!CX9 -> 23.605934
A10: Softwood | B10: =B9+2 -> 12 | C10: 12 | D10: =MAX(0,C10+upgrowth!D8-upgrowth!D9-Mortality!D9)-TreesCut!C10 -> 8.3008875 | E10: =MAX(0,D10+upgrowth!E8-upgrowth!E9-Mortality!E9)-TreesCut!D10 -> 8.5683581 | F10: =MAX(0,E10+upgrowth!F8-upgrowth!F9-Mortality!F9)-TreesCut!E10 -> 8.8330963 | G10: =MAX(0,F10+upgrowth!G8-upgrowth!G9-Mortality!G9)-TreesCut!F10 -> 9.0627038 | H10: =MAX(0,G10+upgrowth!H8-upgrowth!H9-Mortality!H9)-TreesCut!G10 -> 9.2599252 | I10: =MAX(0,H10+upgrowth!I8-upgrowth!I9-Mortality!I9)-TreesCut!H10 -> 9.4274711 | J10: =MAX(0,I10+upgrowth!J8-upgrowth!J9-Mortality!J9)-TreesCut!I10 -> 9.567919 | K10: =MAX(0,J10+upgrowth!K8-upgrowth!K9-Mortality!K9)-TreesCut!J10 -> 9.683685 | ... CY10: =MAX(0,CX10+upgrowth!CY8-upgrowth!CY9-Mortality!CY9)-TreesCut!CX10 -> 21.742567
A11: Softwood | B11: =B10+2 -> 14 | C11: 10 | D11: =MAX(0,C11+upgrowth!D9-upgrowth!D10-Mortality!D10)-TreesCut!C11 -> 5.4335373 | E11: =MAX(0,D11+upgrowth!E9-upgrowth!E10-Mortality!E10)-TreesCut!D11 -> 0.2721855 | F11: =MAX(0,E11+upgrowth!F9-upgrowth!F10-Mortality!F10)-TreesCut!E11 -> 1.1932874 | G11: =MAX(0,F11+upgrowth!G9-upgrowth!G10-Mortality!G10)-TreesCut!F11 -> 2.0354308 | H11: =MAX(0,G11+upgrowth!H9-upgrowth!H10-Mortality!H10)-TreesCut!G11 -> 2.8040579 | I11: =MAX(0,H11+upgrowth!I9-upgrowth!I10-Mortality!I10)-TreesCut!H11 -> 3.504279 | J11: =MAX(0,I11+upgrowth!J9-upgrowth!J10-Mortality!J10)-TreesCut!I11 -> 4.1409069 | K11: =MAX(0,J11+upgrowth!K9-upgrowth!K10-Mortality!K10)-TreesCut!J11 -> 0.57756858 | ... CY11: =MAX(0,CX11+upgrowth!CY9-upgrowth!CY10-Mortality!CY10)-TreesCut!CX11 -> 5.3172354
A12: Softwood | B12: =B11+2 -> 16 | C12: 7.4 | D12: =MAX(0,C12+upgrowth!D10-upgrowth!D11-Mortality!D11)-TreesCut!C12 -> 3.45203 | E12: =MAX(0,D12+upgrowth!E10-upgrowth!E11-Mortality!E11)-TreesCut!D12 -> 0.21037823 | F12: =MAX(0,E12+upgrowth!F10-upgrowth!F11-Mortality!F11)-TreesCut!E12 -> 0.21721921 | G12: =MAX(0,F12+upgrowth!G10-upgrowth!G11-Mortality!G11)-TreesCut!F12 -> 0.32933811 | H12: =MAX(0,G12+upgrowth!H10-upgrowth!H11-Mortality!H11)-TreesCut!G12 -> 0.52490268 | I12: =MAX(0,H12+upgrowth!I10-upgrowth!I11-Mortality!I11)-TreesCut!H12 -> 0.78536295 | J12: =MAX(0,I12+upgrowth!J10-upgrowth!J11-Mortality!J11)-TreesCut!I12 -> 1.0950156 | K12: =MAX(0,J12+upgrowth!K10-upgrowth!K11-Mortality!K11)-TreesCut!J12 -> 0.34560872 | ... CY12: =MAX(0,CX12+upgrowth!CY10-upgrowth!CY11-Mortality!CY11)-TreesCut!CX12 -> 1.0930912
A13: Softwood | B13: =B12+2 -> 18 | C13: 4.1 | D13: =MAX(0,C13+upgrowth!D11-upgrowth!D12-Mortality!D12)-TreesCut!C13 -> 2.046843 | E13: =MAX(0,D13+upgrowth!E11-upgrowth!E12-Mortality!E12)-TreesCut!D13 -> 0.15761365 | F13: =MAX(0,E13+upgrowth!F11-upgrowth!F12-Mortality!F12)-TreesCut!E13 -> 0.16401234 | G13: =MAX(0,F13+upgrowth!G11-upgrowth!G12-Mortality!G12)-TreesCut!F13 -> 0.17045791 | H13: =MAX(0,G13+upgrowth!H11-upgrowth!H12-Mortality!H12)-TreesCut!G13 -> 0.18918754 | I13: =MAX(0,H13+upgrowth!I11-upgrowth!I12-Mortality!I12)-TreesCut!H13 -> 0.22841108 | J13: =MAX(0,I13+upgrowth!J11-upgrowth!J12-Mortality!J12)-TreesCut!I13 -> 0.29318437 | K13: =MAX(0,J13+upgrowth!K11-upgrowth!K12-Mortality!K12)-TreesCut!J13 -> 0.092941581 | ... CY13: =MAX(0,CX13+upgrowth!CY11-upgrowth!CY12-Mortality!CY12)-TreesCut!CX13 -> 0.35217313
A14: Softwood | B14: =B13+2 -> 20 | C14: 2.4 | D14: =MAX(0,C14+upgrowth!D12-upgrowth!D13-Mortality!D13)-TreesCut!C14 -> 1.0793316 | E14: =MAX(0,D14+upgrowth!E12-upgrowth!E13-Mortality!E13)-TreesCut!D14 -> 0.10858436 | F14: =MAX(0,E14+upgrowth!F12-upgrowth!F13-Mortality!F13)-TreesCut!E14 -> 0.1146988 | G14: =MAX(0,F14+upgrowth!G12-upgrowth!G13-Mortality!G13)-TreesCut!F14 -> 0.12085634 | H14: =MAX(0,G14+upgrowth!H12-upgrowth!H13-Mortality!H13)-TreesCut!G14 -> 0.12705623 | I14: =MAX(0,H14+upgrowth!I12-upgrowth!I13-Mortality!I13)-TreesCut!H14 -> 0.13469915 | J14: =MAX(0,I14+upgrowth!J12-upgrowth!J13-Mortality!J13)-TreesCut!I14 -> 0.1459578 | K14: =MAX(0,J14+upgrowth!K12-upgrowth!K13-Mortality!K13)-TreesCut!J14 -> 0.017365271 | ... CY14: =MAX(0,CX14+upgrowth!CY12-upgrowth!CY13-Mortality!CY13)-TreesCut!CX14 -> 0.10200471
A15: Softwood | B15: =B14+2 -> 22 | C15: 1.4 | D15: =MAX(0,C15+upgrowth!D13-upgrowth!D14-Mortality!D14)-TreesCut!C15 -> 0.50071465 | E15: =MAX(0,D15+upgrowth!E13-upgrowth!E14-Mortality!E14)-TreesCut!D15 -> 0.061795272 | F15: =MAX(0,E15+upgrowth!F13-upgrowth!F14-Mortality!F14)-TreesCut!E15 -> 0.067232593 | G15: =MAX(0,F15+upgrowth!G13-upgrowth!G14-Mortality!G14)-TreesCut!F15 -> 0.072752437 | H15: =MAX(0,G15+upgrowth!H13-upgrowth!H14-Mortality!H14)-TreesCut!G15 -> 0.078349355 | I15: =MAX(0,H15+upgrowth!I13-upgrowth!I14-Mortality!I14)-TreesCut!H15 -> 0.084018352 | J15: =MAX(0,I15+upgrowth!J13-upgrowth!J14-Mortality!J14)-TreesCut!I15 -> 0.08990878 | K15: =MAX(0,J15+upgrowth!K13-upgrowth!K14-Mortality!K14)-TreesCut!J15 -> 0.0064819967 | ... CY15: =MAX(0,CX15+upgrowth!CY13-upgrowth!CY14-Mortality!CY14)-TreesCut!CX15 -> 0.026493704
A16: Softwood | B16: =B15+2 -> 24 | C16: 0.6 | D16: =MAX(0,C16+upgrowth!D14-upgrowth!D15-Mortality!D15)-TreesCut!C16 -> 0.27284836 | E16: =MAX(0,D16+upgrowth!E14-upgrowth!E15-Mortality!E15)-TreesCut!D16 -> 0.022424649 | F16: =MAX(0,E16+upgrowth!F14-upgrowth!F15-Mortality!F15)-TreesCut!E16 -> 0.026558001 | G16: =MAX(0,F16+upgrowth!G14-upgrowth!G15-Mortality!G15)-TreesCut!F16 -> 0.030824067 | H16: =MAX(0,G16+upgrowth!H14-upgrowth!H15-Mortality!H15)-TreesCut!G16 -> 0.03521643 | I16: =MAX(0,H16+upgrowth!I14-upgrowth!I15-Mortality!I15)-TreesCut!H16 -> 0.039728711 | J16: =MAX(0,I16+upgrowth!J14-upgrowth!J15-Mortality!J15)-TreesCut!I16 -> 0.044354614 | K16: =MAX(0,J16+upgrowth!K14-upgrowth!K15-Mortality!K15)-TreesCut!J16 -> 0.0047490922 | ... CY16: =MAX(0,CX16+upgrowth!CY14-upgrowth!CY15-Mortality!CY15)-TreesCut!CX16 -> 0.0067787776
