Workbook

Sheet Author's Notes
A2: SOUTHPRO
A3: Spreadsheet model for the management of uneven-aged Loblolly pine-mixed hardwoods stands
A5: Author: Joseph Buongiorno, Forest and Wildlife Ecology, University of Wisconsin-Madison
A6: (jbuongio@wisc.edu)
A8: Based on: Lin, C.R., J. Buongiorno, J. Prestemon, K. Skog. 1998. Growth model for uneven-aged
A9: loblolly pine stands--Simulations and management implications.
A10: Res. Pap. FPL-RP-569. Madison, WI: U.S. Department of Agriculture, Forest Service,
A11: Forest Products Laboratory. 1rp.
A13: Highlighted parts of the spreadsheets contain user-supplied data
A14: _Site index (1 for best, 7 for worst)
A15: _Target number of trees per acre, by species, size, and year
A16: _Initial number of trees per acre by species and size
... A23: The spreadsheets that calculate ingrowth, upgrowth, and mortality are hidden. Unhide them if changes are needed.

Sheet Target
C1: Desired number of trees per acre after harvest, by species, size, and year. Trees above that number will be cut.
A2: Site | B2: 2 | C2: (1=best, 7=worst)
A3: Year | C3: 0 | D3: =C3+1 -> 1 | E3: =D3+1 -> 2 | F3: =E3+1 -> 3 | G3: =F3+1 -> 4 | H3: =G3+1 -> 5 | I3: =H3+1 -> 6 | J3: =I3+1 -> 7 | K3: =J3+1 -> 8 | ... CY3: =CX3+1 -> 100
A4: Species | B4: dbh (in.) | C4: trees/a | D4: trees/a | E4: trees/a | F4: trees/a | G4: trees/a | H4: trees/a | I4: trees/a | J4: trees/a | K4: trees/a | L4: trees/a | M4: trees/a | N4: trees/a | O4: trees/a | P4: trees/a | Q4: trees/a | R4: trees/a | S4: trees/a | T4: trees/a | U4: trees/a | V4: trees/a | W4: trees/a | X4: trees/a | Y4: trees/a | Z4: trees/a | AA4: trees/a | AB4: trees/a | AC4: trees/a | AD4: trees/a | AE4: trees/a | AF4: trees/a | AG4: trees/a | AH4: trees/a | AI4: trees/a | AJ4: trees/a | AK4: trees/a | AL4: trees/a | AM4: trees/a | AN4: trees/a | AO4: trees/a | AP4: trees/a | AQ4: trees/a | AR4: trees/a | AS4: trees/a | AT4: trees/a | AU4: trees/a | AV4: trees/a | AW4: trees/a | AX4: trees/a | AY4: trees/a | AZ4: trees/a | BA4: trees/a | BB4: trees/a | BC4: trees/a | BD4: trees/a | BE4: trees/a | BF4: trees/a | BG4: trees/a | BH4: trees/a | BI4: trees/a | BJ4: trees/a | BK4: trees/a | BL4: trees/a | BM4: trees/a | BN4: trees/a | BO4: trees/a | BP4: trees/a | BQ4: trees/a | BR4: trees/a | BS4: trees/a | BT4: trees/a | BU4: trees/a | BV4: trees/a | BW4: trees/a | BX4: trees/a | BY4: trees/a | BZ4: trees/a | CA4: trees/a | CB4: trees/a | CC4: trees/a | CD4: trees/a | CE4: trees/a | CF4: trees/a | CG4: trees/a | CH4: trees/a | CI4: trees/a | CJ4: trees/a | CK4: trees/a | CL4: trees/a | CM4: trees/a | CN4: trees/a | CO4: trees/a | CP4: trees/a | CQ4: trees/a | CR4: trees/a | CS4: trees/a | CT4: trees/a | CU4: trees/a | CV4: trees/a | CW4: trees/a | CX4: trees/a | CY4: trees/a
A5: Softwood | B5: 2 | C5: 103.4 | D5: 1000 | E5: 1000 | F5: 1000 | G5: 1000 | H5: 1000 | I5: 1000 | J5: 1000 | K5: 1000 | L5: 1000 | M5: 1000 | N5: 1000 | O5: 1000 | P5: 1000 | Q5: 1000 | R5: 1000 | S5: 1000 | T5: 1000 | U5: 1000 | V5: 1000 | W5: 1000 | X5: 1000 | Y5: 1000 | Z5: 1000 | AA5: 1000 | AB5: 1000 | AC5: 1000 | AD5: 1000 | AE5: 1000 | AF5: 1000 | AG5: 1000 | AH5: 1000 | AI5: 1000 | AJ5: 1000 | AK5: 1000 | AL5: 1000 | AM5: 1000 | AN5: 1000 | AO5: 1000 | AP5: 1000 | AQ5: 1000 | AR5: 1000 | AS5: 1000 | AT5: 1000 | AU5: 1000 | AV5: 1000 | AW5: 1000 | AX5: 1000 | AY5: 1000 | AZ5: 1000 | BA5: 1000 | BB5: 1000 | BC5: 1000 | BD5: 1000 | BE5: 1000 | BF5: 1000 | BG5: 1000 | BH5: 1000 | BI5: 1000 | BJ5: 1000 | BK5: 1000 | BL5: 1000 | BM5: 1000 | BN5: 1000 | BO5: 1000 | BP5: 1000 | BQ5: 1000 | BR5: 1000 | BS5: 1000 | BT5: 1000 | BU5: 1000 | BV5: 1000 | BW5: 1000 | BX5: 1000 | BY5: 1000 | BZ5: 1000 | CA5: 1000 | CB5: 1000 | CC5: 1000 | CD5: 1000 | CE5: 1000 | CF5: 1000 | CG5: 1000 | CH5: 1000 | CI5: 1000 | CJ5: 1000 | CK5: 1000 | CL5: 1000 | CM5: 1000 | CN5: 1000 | CO5: 1000 | CP5: 1000 | CQ5: 1000 | CR5: 1000 | CS5: 1000 | CT5: 1000 | CU5: 1000 | CV5: 1000 | CW5: 1000 | CX5: 1000 | CY5: 1000
A6: Softwood | B6: =B5+2 -> 4 | C6: 49.6 | D6: 1000 | E6: 1000 | F6: 1000 | G6: 1000 | H6: 1000 | I6: 1000 | J6: 1000 | K6: 1000 | L6: 1000 | M6: 1000 | N6: 1000 | O6: 1000 | P6: 1000 | Q6: 1000 | R6: 1000 | S6: 1000 | T6: 1000 | U6: 1000 | V6: 1000 | W6: 1000 | X6: 1000 | Y6: 1000 | Z6: 1000 | AA6: 1000 | AB6: 1000 | AC6: 1000 | AD6: 1000 | AE6: 1000 | AF6: 1000 | AG6: 1000 | AH6: 1000 | AI6: 1000 | AJ6: 1000 | AK6: 1000 | AL6: 1000 | AM6: 1000 | AN6: 1000 | AO6: 1000 | AP6: 1000 | AQ6: 1000 | AR6: 1000 | AS6: 1000 | AT6: 1000 | AU6: 1000 | AV6: 1000 | AW6: 1000 | AX6: 1000 | AY6: 1000 | AZ6: 1000 | BA6: 1000 | BB6: 1000 | BC6: 1000 | BD6: 1000 | BE6: 1000 | BF6: 1000 | BG6: 1000 | BH6: 1000 | BI6: 1000 | BJ6: 1000 | BK6: 1000 | BL6: 1000 | BM6: 1000 | BN6: 1000 | BO6: 1000 | BP6: 1000 | BQ6: 1000 | BR6: 1000 | BS6: 1000 | BT6: 1000 | BU6: 1000 | BV6: 1000 | BW6: 1000 | BX6: 1000 | BY6: 1000 | BZ6: 1000 | CA6: 1000 | CB6: 1000 | CC6: 1000 | CD6: 1000 | CE6: 1000 | CF6: 1000 | CG6: 1000 | CH6: 1000 | CI6: 1000 | CJ6: 1000 | CK6: 1000 | CL6: 1000 | CM6: 1000 | CN6: 1000 | CO6: 1000 | CP6: 1000 | CQ6: 1000 | CR6: 1000 | CS6: 1000 | CT6: 1000 | CU6: 1000 | CV6: 1000 | CW6: 1000 | CX6: 1000 | CY6: 1000
A7: Softwood | B7: =B6+2 -> 6 | C7: 28 | D7: 1000 | E7: 1000 | F7: 1000 | G7: 1000 | H7: 1000 | I7: 1000 | J7: 1000 | K7: 1000 | L7: 1000 | M7: 1000 | N7: 1000 | O7: 1000 | P7: 1000 | Q7: 1000 | R7: 1000 | S7: 1000 | T7: 1000 | U7: 1000 | V7: 1000 | W7: 1000 | X7: 1000 | Y7: 1000 | Z7: 1000 | AA7: 1000 | AB7: 1000 | AC7: 1000 | AD7: 1000 | AE7: 1000 | AF7: 1000 | AG7: 1000 | AH7: 1000 | AI7: 1000 | AJ7: 1000 | AK7: 1000 | AL7: 1000 | AM7: 1000 | AN7: 1000 | AO7: 1000 | AP7: 1000 | AQ7: 1000 | AR7: 1000 | AS7: 1000 | AT7: 1000 | AU7: 1000 | AV7: 1000 | AW7: 1000 | AX7: 1000 | AY7: 1000 | AZ7: 1000 | BA7: 1000 | BB7: 1000 | BC7: 1000 | BD7: 1000 | BE7: 1000 | BF7: 1000 | BG7: 1000 | BH7: 1000 | BI7: 1000 | BJ7: 1000 | BK7: 1000 | BL7: 1000 | BM7: 1000 | BN7: 1000 | BO7: 1000 | BP7: 1000 | BQ7: 1000 | BR7: 1000 | BS7: 1000 | BT7: 1000 | BU7: 1000 | BV7: 1000 | BW7: 1000 | BX7: 1000 | BY7: 1000 | BZ7: 1000 | CA7: 1000 | CB7: 1000 | CC7: 1000 | CD7: 1000 | CE7: 1000 | CF7: 1000 | CG7: 1000 | CH7: 1000 | CI7: 1000 | CJ7: 1000 | CK7: 1000 | CL7: 1000 | CM7: 1000 | CN7: 1000 | CO7: 1000 | CP7: 1000 | CQ7: 1000 | CR7: 1000 | CS7: 1000 | CT7: 1000 | CU7: 1000 | CV7: 1000 | CW7: 1000 | CX7: 1000 | CY7: 1000
A8: Softwood | B8: =B7+2 -> 8 | C8: 17.6 | D8: 1000 | E8: 1000 | F8: 1000 | G8: 1000 | H8: 1000 | I8: 1000 | J8: 1000 | K8: 1000 | L8: 1000 | M8: 1000 | N8: 1000 | O8: 1000 | P8: 1000 | Q8: 1000 | R8: 1000 | S8: 1000 | T8: 1000 | U8: 1000 | V8: 1000 | W8: 1000 | X8: 1000 | Y8: 1000 | Z8: 1000 | AA8: 1000 | AB8: 1000 | AC8: 1000 | AD8: 1000 | AE8: 1000 | AF8: 1000 | AG8: 1000 | AH8: 1000 | AI8: 1000 | AJ8: 1000 | AK8: 1000 | AL8: 1000 | AM8: 1000 | AN8: 1000 | AO8: 1000 | AP8: 1000 | AQ8: 1000 | AR8: 1000 | AS8: 1000 | AT8: 1000 | AU8: 1000 | AV8: 1000 | AW8: 1000 | AX8: 1000 | AY8: 1000 | AZ8: 1000 | BA8: 1000 | BB8: 1000 | BC8: 1000 | BD8: 1000 | BE8: 1000 | BF8: 1000 | BG8: 1000 | BH8: 1000 | BI8: 1000 | BJ8: 1000 | BK8: 1000 | BL8: 1000 | BM8: 1000 | BN8: 1000 | BO8: 1000 | BP8: 1000 | BQ8: 1000 | BR8: 1000 | BS8: 1000 | BT8: 1000 | BU8: 1000 | BV8: 1000 | BW8: 1000 | BX8: 1000 | BY8: 1000 | BZ8: 1000 | CA8: 1000 | CB8: 1000 | CC8: 1000 | CD8: 1000 | CE8: 1000 | CF8: 1000 | CG8: 1000 | CH8: 1000 | CI8: 1000 | CJ8: 1000 | CK8: 1000 | CL8: 1000 | CM8: 1000 | CN8: 1000 | CO8: 1000 | CP8: 1000 | CQ8: 1000 | CR8: 1000 | CS8: 1000 | CT8: 1000 | CU8: 1000 | CV8: 1000 | CW8: 1000 | CX8: 1000 | CY8: 1000
A9: Softwood | B9: =B8+2 -> 10 | C9: 12.3 | D9: 1000 | E9: 1000 | F9: 1000 | G9: 1000 | H9: 1000 | I9: 1000 | J9: 1000 | K9: 1000 | L9: 1000 | M9: 1000 | N9: 1000 | O9: 1000 | P9: 1000 | Q9: 1000 | R9: 1000 | S9: 1000 | T9: 1000 | U9: 1000 | V9: 1000 | W9: 1000 | X9: 1000 | Y9: 1000 | Z9: 1000 | AA9: 1000 | AB9: 1000 | AC9: 1000 | AD9: 1000 | AE9: 1000 | AF9: 1000 | AG9: 1000 | AH9: 1000 | AI9: 1000 | AJ9: 1000 | AK9: 1000 | AL9: 1000 | AM9: 1000 | AN9: 1000 | AO9: 1000 | AP9: 1000 | AQ9: 1000 | AR9: 1000 | AS9: 1000 | AT9: 1000 | AU9: 1000 | AV9: 1000 | AW9: 1000 | AX9: 1000 | AY9: 1000 | AZ9: 1000 | BA9: 1000 | BB9: 1000 | BC9: 1000 | BD9: 1000 | BE9: 1000 | BF9: 1000 | BG9: 1000 | BH9: 1000 | BI9: 1000 | BJ9: 1000 | BK9: 1000 | BL9: 1000 | BM9: 1000 | BN9: 1000 | BO9: 1000 | BP9: 1000 | BQ9: 1000 | BR9: 1000 | BS9: 1000 | BT9: 1000 | BU9: 1000 | BV9: 1000 | BW9: 1000 | BX9: 1000 | BY9: 1000 | BZ9: 1000 | CA9: 1000 | CB9: 1000 | CC9: 1000 | CD9: 1000 | CE9: 1000 | CF9: 1000 | CG9: 1000 | CH9: 1000 | CI9: 1000 | CJ9: 1000 | CK9: 1000 | CL9: 1000 | CM9: 1000 | CN9: 1000 | CO9: 1000 | CP9: 1000 | CQ9: 1000 | CR9: 1000 | CS9: 1000 | CT9: 1000 | CU9: 1000 | CV9: 1000 | CW9: 1000 | CX9: 1000 | CY9: 1000
A10: Softwood | B10: =B9+2 -> 12 | C10: 8.2 | D10: 1000 | E10: 1000 | F10: 1000 | G10: 1000 | H10: 1000 | I10: 1000 | J10: 1000 | K10: 1000 | L10: 1000 | M10: 1000 | N10: 1000 | O10: 1000 | P10: 1000 | Q10: 1000 | R10: 1000 | S10: 1000 | T10: 1000 | U10: 1000 | V10: 1000 | W10: 1000 | X10: 1000 | Y10: 1000 | Z10: 1000 | AA10: 1000 | AB10: 1000 | AC10: 1000 | AD10: 1000 | AE10: 1000 | AF10: 1000 | AG10: 1000 | AH10: 1000 | AI10: 1000 | AJ10: 1000 | AK10: 1000 | AL10: 1000 | AM10: 1000 | AN10: 1000 | AO10: 1000 | AP10: 1000 | AQ10: 1000 | AR10: 1000 | AS10: 1000 | AT10: 1000 | AU10: 1000 | AV10: 1000 | AW10: 1000 | AX10: 1000 | AY10: 1000 | AZ10: 1000 | BA10: 1000 | BB10: 1000 | BC10: 1000 | BD10: 1000 | BE10: 1000 | BF10: 1000 | BG10: 1000 | BH10: 1000 | BI10: 1000 | BJ10: 1000 | BK10: 1000 | BL10: 1000 | BM10: 1000 | BN10: 1000 | BO10: 1000 | BP10: 1000 | BQ10: 1000 | BR10: 1000 | BS10: 1000 | BT10: 1000 | BU10: 1000 | BV10: 1000 | BW10: 1000 | BX10: 1000 | BY10: 1000 | BZ10: 1000 | CA10: 1000 | CB10: 1000 | CC10: 1000 | CD10: 1000 | CE10: 1000 | CF10: 1000 | CG10: 1000 | CH10: 1000 | CI10: 1000 | CJ10: 1000 | CK10: 1000 | CL10: 1000 | CM10: 1000 | CN10: 1000 | CO10: 1000 | CP10: 1000 | CQ10: 1000 | CR10: 1000 | CS10: 1000 | CT10: 1000 | CU10: 1000 | CV10: 1000 | CW10: 1000 | CX10: 1000 | CY10: 1000
A11: Softwood | B11: =B10+2 -> 14 | C11: 5.3 | D11: 0 | E11: 1000 | F11: 1000 | G11: 1000 | H11: 1000 | I11: 1000 | J11: 0 | K11: 1000 | L11: 1000 | M11: 1000 | N11: 1000 | O11: 1000 | P11: 0 | Q11: 1000 | R11: 1000 | S11: 1000 | T11: 1000 | U11: 1000 | V11: 0 | W11: 1000 | X11: 1000 | Y11: 1000 | Z11: 1000 | AA11: 1000 | AB11: 0 | AC11: 1000 | AD11: 1000 | AE11: 1000 | AF11: 1000 | AG11: 1000 | AH11: 0 | AI11: 1000 | AJ11: 1000 | AK11: 1000 | AL11: 1000 | AM11: 1000 | AN11: 0 | AO11: 1000 | AP11: 1000 | AQ11: 1000 | AR11: 1000 | AS11: 1000 | AT11: 0 | AU11: 1000 | AV11: 1000 | AW11: 1000 | AX11: 1000 | AY11: 1000 | AZ11: 0 | BA11: 1000 | BB11: 1000 | BC11: 1000 | BD11: 1000 | BE11: 1000 | BF11: 0 | BG11: 1000 | BH11: 1000 | BI11: 1000 | BJ11: 1000 | BK11: 1000 | BL11: 0 | BM11: 1000 | BN11: 1000 | BO11: 1000 | BP11: 1000 | BQ11: 1000 | BR11: 0 | BS11: 1000 | BT11: 1000 | BU11: 1000 | BV11: 1000 | BW11: 1000 | BX11: 0 | BY11: 1000 | BZ11: 1000 | CA11: 1000 | CB11: 1000 | CC11: 1000 | CD11: 0 | CE11: 1000 | CF11: 1000 | CG11: 1000 | CH11: 1000 | CI11: 1000 | CJ11: 0 | CK11: 1000 | CL11: 1000 | CM11: 1000 | CN11: 1000 | CO11: 1000 | CP11: 0 | CQ11: 1000 | CR11: 1000 | CS11: 1000 | CT11: 1000 | CU11: 1000 | CV11: 0 | CW11: 1000 | CX11: 1000 | CY11: 1000
A12: Softwood | B12: =B11+2 -> 16 | C12: 3.2 | D12: 0 | E12: 1000 | F12: 1000 | G12: 1000 | H12: 1000 | I12: 1000 | J12: 0 | K12: 1000 | L12: 1000 | M12: 1000 | N12: 1000 | O12: 1000 | P12: 0 | Q12: 1000 | R12: 1000 | S12: 1000 | T12: 1000 | U12: 1000 | V12: 0 | W12: 1000 | X12: 1000 | Y12: 1000 | Z12: 1000 | AA12: 1000 | AB12: 0 | AC12: 1000 | AD12: 1000 | AE12: 1000 | AF12: 1000 | AG12: 1000 | AH12: 0 | AI12: 1000 | AJ12: 1000 | AK12: 1000 | AL12: 1000 | AM12: 1000 | AN12: 0 | AO12: 1000 | AP12: 1000 | AQ12: 1000 | AR12: 1000 | AS12: 1000 | AT12: 0 | AU12: 1000 | AV12: 1000 | AW12: 1000 | AX12: 1000 | AY12: 1000 | AZ12: 0 | BA12: 1000 | BB12: 1000 | BC12: 1000 | BD12: 1000 | BE12: 1000 | BF12: 0 | BG12: 1000 | BH12: 1000 | BI12: 1000 | BJ12: 1000 | BK12: 1000 | BL12: 0 | BM12: 1000 | BN12: 1000 | BO12: 1000 | BP12: 1000 | BQ12: 1000 | BR12: 0 | BS12: 1000 | BT12: 1000 | BU12: 1000 | BV12: 1000 | BW12: 1000 | BX12: 0 | BY12: 1000 | BZ12: 1000 | CA12: 1000 | CB12: 1000 | CC12: 1000 | CD12: 0 | CE12: 1000 | CF12: 1000 | CG12: 1000 | CH12: 1000 | CI12: 1000 | CJ12: 0 | CK12: 1000 | CL12: 1000 | CM12: 1000 | CN12: 1000 | CO12: 1000 | CP12: 0 | CQ12: 1000 | CR12: 1000 | CS12: 1000 | CT12: 1000 | CU12: 1000 | CV12: 0 | CW12: 1000 | CX12: 1000 | CY12: 1000
A13: Softwood | B13: =B12+2 -> 18 | C13: 1.7 | D13: 0 | E13: 1000 | F13: 1000 | G13: 1000 | H13: 1000 | I13: 1000 | J13: 0 | K13: 1000 | L13: 1000 | M13: 1000 | N13: 1000 | O13: 1000 | P13: 0 | Q13: 1000 | R13: 1000 | S13: 1000 | T13: 1000 | U13: 1000 | V13: 0 | W13: 1000 | X13: 1000 | Y13: 1000 | Z13: 1000 | AA13: 1000 | AB13: 0 | AC13: 1000 | AD13: 1000 | AE13: 1000 | AF13: 1000 | AG13: 1000 | AH13: 0 | AI13: 1000 | AJ13: 1000 | AK13: 1000 | AL13: 1000 | AM13: 1000 | AN13: 0 | AO13: 1000 | AP13: 1000 | AQ13: 1000 | AR13: 1000 | AS13: 1000 | AT13: 0 | AU13: 1000 | AV13: 1000 | AW13: 1000 | AX13: 1000 | AY13: 1000 | AZ13: 0 | BA13: 1000 | BB13: 1000 | BC13: 1000 | BD13: 1000 | BE13: 1000 | BF13: 0 | BG13: 1000 | BH13: 1000 | BI13: 1000 | BJ13: 1000 | BK13: 1000 | BL13: 0 | BM13: 1000 | BN13: 1000 | BO13: 1000 | BP13: 1000 | BQ13: 1000 | BR13: 0 | BS13: 1000 | BT13: 1000 | BU13: 1000 | BV13: 1000 | BW13: 1000 | BX13: 0 | BY13: 1000 | BZ13: 1000 | CA13: 1000 | CB13: 1000 | CC13: 1000 | CD13: 0 | CE13: 1000 | CF13: 1000 | CG13: 1000 | CH13: 1000 | CI13: 1000 | CJ13: 0 | CK13: 1000 | CL13: 1000 | CM13: 1000 | CN13: 1000 | CO13: 1000 | CP13: 0 | CQ13: 1000 | CR13: 1000 | CS13: 1000 | CT13: 1000 | CU13: 1000 | CV13: 0 | CW13: 1000 | CX13: 1000 | CY13: 1000
A14: Softwood | B14: =B13+2 -> 20 | C14: 0.9 | D14: 0 | E14: 1000 | F14: 1000 | G14: 1000 | H14: 1000 | I14: 1000 | J14: 0 | K14: 1000 | L14: 1000 | M14: 1000 | N14: 1000 | O14: 1000 | P14: 0 | Q14: 1000 | R14: 1000 | S14: 1000 | T14: 1000 | U14: 1000 | V14: 0 | W14: 1000 | X14: 1000 | Y14: 1000 | Z14: 1000 | AA14: 1000 | AB14: 0 | AC14: 1000 | AD14: 1000 | AE14: 1000 | AF14: 1000 | AG14: 1000 | AH14: 0 | AI14: 1000 | AJ14: 1000 | AK14: 1000 | AL14: 1000 | AM14: 1000 | AN14: 0 | AO14: 1000 | AP14: 1000 | AQ14: 1000 | AR14: 1000 | AS14: 1000 | AT14: 0 | AU14: 1000 | AV14: 1000 | AW14: 1000 | AX14: 1000 | AY14: 1000 | AZ14: 0 | BA14: 1000 | BB14: 1000 | BC14: 1000 | BD14: 1000 | BE14: 1000 | BF14: 0 | BG14: 1000 | BH14: 1000 | BI14: 1000 | BJ14: 1000 | BK14: 1000 | BL14: 0 | BM14: 1000 | BN14: 1000 | BO14: 1000 | BP14: 1000 | BQ14: 1000 | BR14: 0 | BS14: 1000 | BT14: 1000 | BU14: 1000 | BV14: 1000 | BW14: 1000 | BX14: 0 | BY14: 1000 | BZ14: 1000 | CA14: 1000 | CB14: 1000 | CC14: 1000 | CD14: 0 | CE14: 1000 | CF14: 1000 | CG14: 1000 | CH14: 1000 | CI14: 1000 | CJ14: 0 | CK14: 1000 | CL14: 1000 | CM14: 1000 | CN14: 1000 | CO14: 1000 | CP14: 0 | CQ14: 1000 | CR14: 1000 | CS14: 1000 | CT14: 1000 | CU14: 1000 | CV14: 0 | CW14: 1000 | CX14: 1000 | CY14: 1000
A15: Softwood | B15: =B14+2 -> 22 | C15: 0.4 | D15: 0 | E15: 1000 | F15: 1000 | G15: 1000 | H15: 1000 | I15: 1000 | J15: 0 | K15: 1000 | L15: 1000 | M15: 1000 | N15: 1000 | O15: 1000 | P15: 0 | Q15: 1000 | R15: 1000 | S15: 1000 | T15: 1000 | U15: 1000 | V15: 0 | W15: 1000 | X15: 1000 | Y15: 1000 | Z15: 1000 | AA15: 1000 | AB15: 0 | AC15: 1000 | AD15: 1000 | AE15: 1000 | AF15: 1000 | AG15: 1000 | AH15: 0 | AI15: 1000 | AJ15: 1000 | AK15: 1000 | AL15: 1000 | AM15: 1000 | AN15: 0 | AO15: 1000 | AP15: 1000 | AQ15: 1000 | AR15: 1000 | AS15: 1000 | AT15: 0 | AU15: 1000 | AV15: 1000 | AW15: 1000 | AX15: 1000 | AY15: 1000 | AZ15: 0 | BA15: 1000 | BB15: 1000 | BC15: 1000 | BD15: 1000 | BE15: 1000 | BF15: 0 | BG15: 1000 | BH15: 1000 | BI15: 1000 | BJ15: 1000 | BK15: 1000 | BL15: 0 | BM15: 1000 | BN15: 1000 | BO15: 1000 | BP15: 1000 | BQ15: 1000 | BR15: 0 | BS15: 1000 | BT15: 1000 | BU15: 1000 | BV15: 1000 | BW15: 1000 | BX15: 0 | BY15: 1000 | BZ15: 1000 | CA15: 1000 | CB15: 1000 | CC15: 1000 | CD15: 0 | CE15: 1000 | CF15: 1000 | CG15: 1000 | CH15: 1000 | CI15: 1000 | CJ15: 0 | CK15: 1000 | CL15: 1000 | CM15: 1000 | CN15: 1000 | CO15: 1000 | CP15: 0 | CQ15: 1000 | CR15: 1000 | CS15: 1000 | CT15: 1000 | CU15: 1000 | CV15: 0 | CW15: 1000 | CX15: 1000 | CY15: 1000
A16: Softwood | B16: =B15+2 -> 24 | C16: 0.2 | D16: 0 | E16: 1000 | F16: 1000 | G16: 1000 | H16: 1000 | I16: 1000 | J16: 0 | K16: 1000 | L16: 1000 | M16: 1000 | N16: 1000 | O16: 1000 | P16: 0 | Q16: 1000 | R16: 1000 | S16: 1000 | T16: 1000 | U16: 1000 | V16: 0 | W16: 1000 | X16: 1000 | Y16: 1000 | Z16: 1000 | AA16: 1000 | AB16: 0 | AC16: 1000 | AD16: 1000 | AE16: 1000 | AF16: 1000 | AG16: 1000 | AH16: 0 | AI16: 1000 | AJ16: 1000 | AK16: 1000 | AL16: 1000 | AM16: 1000 | AN16: 0 | AO16: 1000 | AP16: 1000 | AQ16: 1000 | AR16: 1000 | AS16: 1000 | AT16: 0 | AU16: 1000 | AV16: 1000 | AW16: 1000 | AX16: 1000 | AY16: 1000 | AZ16: 0 | BA16: 1000 | BB16: 1000 | BC16: 1000 | BD16: 1000 | BE16: 1000 | BF16: 0 | BG16: 1000 | BH16: 1000 | BI16: 1000 | BJ16: 1000 | BK16: 1000 | BL16: 0 | BM16: 1000 | BN16: 1000 | BO16: 1000 | BP16: 1000 | BQ16: 1000 | BR16: 0 | BS16: 1000 | BT16: 1000 | BU16: 1000 | BV16: 1000 | BW16: 1000 | BX16: 0 | BY16: 1000 | BZ16: 1000 | CA16: 1000 | CB16: 1000 | CC16: 1000 | CD16: 0 | CE16: 1000 | CF16: 1000 | CG16: 1000 | CH16: 1000 | CI16: 1000 | CJ16: 0 | CK16: 1000 | CL16: 1000 | CM16: 1000 | CN16: 1000 | CO16: 1000 | CP16: 0 | CQ16: 1000 | CR16: 1000 | CS16: 1000 | CT16: 1000 | CU16: 1000 | CV16: 0 | CW16: 1000 | CX16: 1000 | CY16: 1000
A17: Softwood | B17: =B16+2 -> 26 | C17: 0.1 | D17: 0 | E17: 1000 | F17: 1000 | G17: 1000 | H17: 1000 | I17: 1000 | J17: 0 | K17: 1000 | L17: 1000 | M17: 1000 | N17: 1000 | O17: 1000 | P17: 0 | Q17: 1000 | R17: 1000 | S17: 1000 | T17: 1000 | U17: 1000 | V17: 0 | W17: 1000 | X17: 1000 | Y17: 1000 | Z17: 1000 | AA17: 1000 | AB17: 0 | AC17: 1000 | AD17: 1000 | AE17: 1000 | AF17: 1000 | AG17: 1000 | AH17: 0 | AI17: 1000 | AJ17: 1000 | AK17: 1000 | AL17: 1000 | AM17: 1000 | AN17: 0 | AO17: 1000 | AP17: 1000 | AQ17: 1000 | AR17: 1000 | AS17: 1000 | AT17: 0 | AU17: 1000 | AV17: 1000 | AW17: 1000 | AX17: 1000 | AY17: 1000 | AZ17: 0 | BA17: 1000 | BB17: 1000 | BC17: 1000 | BD17: 1000 | BE17: 1000 | BF17: 0 | BG17: 1000 | BH17: 1000 | BI17: 1000 | BJ17: 1000 | BK17: 1000 | BL17: 0 | BM17: 1000 | BN17: 1000 | BO17: 1000 | BP17: 1000 | BQ17: 1000 | BR17: 0 | BS17: 1000 | BT17: 1000 | BU17: 1000 | BV17: 1000 | BW17: 1000 | BX17: 0 | BY17: 1000 | BZ17: 1000 | CA17: 1000 | CB17: 1000 | CC17: 1000 | CD17: 0 | CE17: 1000 | CF17: 1000 | CG17: 1000 | CH17: 1000 | CI17: 1000 | CJ17: 0 | CK17: 1000 | CL17: 1000 | CM17: 1000 | CN17: 1000 | CO17: 1000 | CP17: 0 | CQ17: 1000 | CR17: 1000 | CS17: 1000 | CT17: 1000 | CU17: 1000 | CV17: 0 | CW17: 1000 | CX17: 1000 | CY17: 1000
A18: Soft hardwood | B18: 2 | C18: 116.7 | D18: 0 | E18: 1000 | F18: 1000 | G18: 1000 | H18: 1000 | I18: 1000 | J18: 0 | K18: 1000 | L18: 1000 | M18: 1000 | N18: 1000 | O18: 1000 | P18: 0 | Q18: 1000 | R18: 1000 | S18: 1000 | T18: 1000 | U18: 1000 | V18: 0 | W18: 1000 | X18: 1000 | Y18: 1000 | Z18: 1000 | AA18: 1000 | AB18: 0 | AC18: 1000 | AD18: 1000 | AE18: 1000 | AF18: 1000 | AG18: 1000 | AH18: 0 | AI18: 1000 | AJ18: 1000 | AK18: 1000 | AL18: 1000 | AM18: 1000 | AN18: 0 | AO18: 1000 | AP18: 1000 | AQ18: 1000 | AR18: 1000 | AS18: 1000 | AT18: 0 | AU18: 1000 | AV18: 1000 | AW18: 1000 | AX18: 1000 | AY18: 1000 | AZ18: 0 | BA18: 1000 | BB18: 1000 | BC18: 1000 | BD18: 1000 | BE18: 1000 | BF18: 0 | BG18: 1000 | BH18: 1000 | BI18: 1000 | BJ18: 1000 | BK18: 1000 | BL18: 0 | BM18: 1000 | BN18: 1000 | BO18: 1000 | BP18: 1000 | BQ18: 1000 | BR18: 0 | BS18: 1000 | BT18: 1000 | BU18: 1000 | BV18: 1000 | BW18: 1000 | BX18: 0 | BY18: 1000 | BZ18: 1000 | CA18: 1000 | CB18: 1000 | CC18: 1000 | CD18: 0 | CE18: 1000 | CF18: 1000 | CG18: 1000 | CH18: 1000 | CI18: 1000 | CJ18: 0 | CK18: 1000 | CL18: 1000 | CM18: 1000 | CN18: 1000 | CO18: 1000 | CP18: 0 | CQ18: 1000 | CR18: 1000 | CS18: 1000 | CT18: 1000 | CU18: 1000 | CV18: 0 | CW18: 1000 | CX18: 1000 | CY18: 1000
A19: Soft hardwood | B19: =B18+2 -> 4 | C19: 28.1 | D19: 0 | E19: 1000 | F19: 1000 | G19: 1000 | H19: 1000 | I19: 1000 | J19: 0 | K19: 1000 | L19: 1000 | M19: 1000 | N19: 1000 | O19: 1000 | P19: 0 | Q19: 1000 | R19: 1000 | S19: 1000 | T19: 1000 | U19: 1000 | V19: 0 | W19: 1000 | X19: 1000 | Y19: 1000 | Z19: 1000 | AA19: 1000 | AB19: 0 | AC19: 1000 | AD19: 1000 | AE19: 1000 | AF19: 1000 | AG19: 1000 | AH19: 0 | AI19: 1000 | AJ19: 1000 | AK19: 1000 | AL19: 1000 | AM19: 1000 | AN19: 0 | AO19: 1000 | AP19: 1000 | AQ19: 1000 | AR19: 1000 | AS19: 1000 | AT19: 0 | AU19: 1000 | AV19: 1000 | AW19: 1000 | AX19: 1000 | AY19: 1000 | AZ19: 0 | BA19: 1000 | BB19: 1000 | BC19: 1000 | BD19: 1000 | BE19: 1000 | BF19: 0 | BG19: 1000 | BH19: 1000 | BI19: 1000 | BJ19: 1000 | BK19: 1000 | BL19: 0 | BM19: 1000 | BN19: 1000 | BO19: 1000 | BP19: 1000 | BQ19: 1000 | BR19: 0 | BS19: 1000 | BT19: 1000 | BU19: 1000 | BV19: 1000 | BW19: 1000 | BX19: 0 | BY19: 1000 | BZ19: 1000 | CA19: 1000 | CB19: 1000 | CC19: 1000 | CD19: 0 | CE19: 1000 | CF19: 1000 | CG19: 1000 | CH19: 1000 | CI19: 1000 | CJ19: 0 | CK19: 1000 | CL19: 1000 | CM19: 1000 | CN19: 1000 | CO19: 1000 | CP19: 0 | CQ19: 1000 | CR19: 1000 | CS19: 1000 | CT19: 1000 | CU19: 1000 | CV19: 0 | CW19: 1000 | CX19: 1000 | CY19: 1000
A20: Soft hardwood | B20: =B19+2 -> 6 | C20: 12.2 | D20: 0 | E20: 1000 | F20: 1000 | G20: 1000 | H20: 1000 | I20: 1000 | J20: 0 | K20: 1000 | L20: 1000 | M20: 1000 | N20: 1000 | O20: 1000 | P20: 0 | Q20: 1000 | R20: 1000 | S20: 1000 | T20: 1000 | U20: 1000 | V20: 0 | W20: 1000 | X20: 1000 | Y20: 1000 | Z20: 1000 | AA20: 1000 | AB20: 0 | AC20: 1000 | AD20: 1000 | AE20: 1000 | AF20: 1000 | AG20: 1000 | AH20: 0 | AI20: 1000 | AJ20: 1000 | AK20: 1000 | AL20: 1000 | AM20: 1000 | AN20: 0 | AO20: 1000 | AP20: 1000 | AQ20: 1000 | AR20: 1000 | AS20: 1000 | AT20: 0 | AU20: 1000 | AV20: 1000 | AW20: 1000 | AX20: 1000 | AY20: 1000 | AZ20: 0 | BA20: 1000 | BB20: 1000 | BC20: 1000 | BD20: 1000 | BE20: 1000 | BF20: 0 | BG20: 1000 | BH20: 1000 | BI20: 1000 | BJ20: 1000 | BK20: 1000 | BL20: 0 | BM20: 1000 | BN20: 1000 | BO20: 1000 | BP20: 1000 | BQ20: 1000 | BR20: 0 | BS20: 1000 | BT20: 1000 | BU20: 1000 | BV20: 1000 | BW20: 1000 | BX20: 0 | BY20: 1000 | BZ20: 1000 | CA20: 1000 | CB20: 1000 | CC20: 1000 | CD20: 0 | CE20: 1000 | CF20: 1000 | CG20: 1000 | CH20: 1000 | CI20: 1000 | CJ20: 0 | CK20: 1000 | CL20: 1000 | CM20: 1000 | CN20: 1000 | CO20: 1000 | CP20: 0 | CQ20: 1000 | CR20: 1000 | CS20: 1000 | CT20: 1000 | CU20: 1000 | CV20: 0 | CW20: 1000 | CX20: 1000 | CY20: 1000
A21: Soft hardwood | B21: =B20+2 -> 8 | C21: 4.8 | D21: 0 | E21: 1000 | F21: 1000 | G21: 1000 | H21: 1000 | I21: 1000 | J21: 0 | K21: 1000 | L21: 1000 | M21: 1000 | N21: 1000 | O21: 1000 | P21: 0 | Q21: 1000 | R21: 1000 | S21: 1000 | T21: 1000 | U21: 1000 | V21: 0 | W21: 1000 | X21: 1000 | Y21: 1000 | Z21: 1000 | AA21: 1000 | AB21: 0 | AC21: 1000 | AD21: 1000 | AE21: 1000 | AF21: 1000 | AG21: 1000 | AH21: 0 | AI21: 1000 | AJ21: 1000 | AK21: 1000 | AL21: 1000 | AM21: 1000 | AN21: 0 | AO21: 1000 | AP21: 1000 | AQ21: 1000 | AR21: 1000 | AS21: 1000 | AT21: 0 | AU21: 1000 | AV21: 1000 | AW21: 1000 | AX21: 1000 | AY21: 1000 | AZ21: 0 | BA21: 1000 | BB21: 1000 | BC21: 1000 | BD21: 1000 | BE21: 1000 | BF21: 0 | BG21: 1000 | BH21: 1000 | BI21: 1000 | BJ21: 1000 | BK21: 1000 | BL21: 0 | BM21: 1000 | BN21: 1000 | BO21: 1000 | BP21: 1000 | BQ21: 1000 | BR21: 0 | BS21: 1000 | BT21: 1000 | BU21: 1000 | BV21: 1000 | BW21: 1000 | BX21: 0 | BY21: 1000 | BZ21: 1000 | CA21: 1000 | CB21: 1000 | CC21: 1000 | CD21: 0 | CE21: 1000 | CF21: 1000 | CG21: 1000 | CH21: 1000 | CI21: 1000 | CJ21: 0 | CK21: 1000 | CL21: 1000 | CM21: 1000 | CN21: 1000 | CO21: 1000 | CP21: 0 | CQ21: 1000 | CR21: 1000 | CS21: 1000 | CT21: 1000 | CU21: 1000 | CV21: 0 | CW21: 1000 | CX21: 1000 | CY21: 1000
A22: Soft hardwood | B22: =B21+2 -> 10 | C22: 2.2 | D22: 0 | E22: 1000 | F22: 1000 | G22: 1000 | H22: 1000 | I22: 1000 | J22: 0 | K22: 1000 | L22: 1000 | M22: 1000 | N22: 1000 | O22: 1000 | P22: 0 | Q22: 1000 | R22: 1000 | S22: 1000 | T22: 1000 | U22: 1000 | V22: 0 | W22: 1000 | X22: 1000 | Y22: 1000 | Z22: 1000 | AA22: 1000 | AB22: 0 | AC22: 1000 | AD22: 1000 | AE22: 1000 | AF22: 1000 | AG22: 1000 | AH22: 0 | AI22: 1000 | AJ22: 1000 | AK22: 1000 | AL22: 1000 | AM22: 1000 | AN22: 0 | AO22: 1000 | AP22: 1000 | AQ22: 1000 | AR22: 1000 | AS22: 1000 | AT22: 0 | AU22: 1000 | AV22: 1000 | AW22: 1000 | AX22: 1000 | AY22: 1000 | AZ22: 0 | BA22: 1000 | BB22: 1000 | BC22: 1000 | BD22: 1000 | BE22: 1000 | BF22: 0 | BG22: 1000 | BH22: 1000 | BI22: 1000 | BJ22: 1000 | BK22: 1000 | BL22: 0 | BM22: 1000 | BN22: 1000 | BO22: 1000 | BP22: 1000 | BQ22: 1000 | BR22: 0 | BS22: 1000 | BT22: 1000 | BU22: 1000 | BV22: 1000 | BW22: 1000 | BX22: 0 | BY22: 1000 | BZ22: 1000 | CA22: 1000 | CB22: 1000 | CC22: 1000 | CD22: 0 | CE22: 1000 | CF22: 1000 | CG22: 1000 | CH22: 1000 | CI22: 1000 | CJ22: 0 | CK22: 1000 | CL22: 1000 | CM22: 1000 | CN22: 1000 | CO22: 1000 | CP22: 0 | CQ22: 1000 | CR22: 1000 | CS22: 1000 | CT22: 1000 | CU22: 1000 | CV22: 0 | CW22: 1000 | CX22: 1000 | CY22: 1000
A23: Soft hardwood | B23: =B22+2 -> 12 | C23: 1 | D23: 0 | E23: 1000 | F23: 1000 | G23: 1000 | H23: 1000 | I23: 1000 | J23: 0 | K23: 1000 | L23: 1000 | M23: 1000 | N23: 1000 | O23: 1000 | P23: 0 | Q23: 1000 | R23: 1000 | S23: 1000 | T23: 1000 | U23: 1000 | V23: 0 | W23: 1000 | X23: 1000 | Y23: 1000 | Z23: 1000 | AA23: 1000 | AB23: 0 | AC23: 1000 | AD23: 1000 | AE23: 1000 | AF23: 1000 | AG23: 1000 | AH23: 0 | AI23: 1000 | AJ23: 1000 | AK23: 1000 | AL23: 1000 | AM23: 1000 | AN23: 0 | AO23: 1000 | AP23: 1000 | AQ23: 1000 | AR23: 1000 | AS23: 1000 | AT23: 0 | AU23: 1000 | AV23: 1000 | AW23: 1000 | AX23: 1000 | AY23: 1000 | AZ23: 0 | BA23: 1000 | BB23: 1000 | BC23: 1000 | BD23: 1000 | BE23: 1000 | BF23: 0 | BG23: 1000 | BH23: 1000 | BI23: 1000 | BJ23: 1000 | BK23: 1000 | BL23: 0 | BM23: 1000 | BN23: 1000 | BO23: 1000 | BP23: 1000 | BQ23: 1000 | BR23: 0 | BS23: 1000 | BT23: 1000 | BU23: 1000 | BV23: 1000 | BW23: 1000 | BX23: 0 | BY23: 1000 | BZ23: 1000 | CA23: 1000 | CB23: 1000 | CC23: 1000 | CD23: 0 | CE23: 1000 | CF23: 1000 | CG23: 1000 | CH23: 1000 | CI23: 1000 | CJ23: 0 | CK23: 1000 | CL23: 1000 | CM23: 1000 | CN23: 1000 | CO23: 1000 | CP23: 0 | CQ23: 1000 | CR23: 1000 | CS23: 1000 | CT23: 1000 | CU23: 1000 | CV23: 0 | CW23: 1000 | CX23: 1000 | CY23: 1000
A24: Soft hardwood | B24: =B23+2 -> 14 | C24: 0.5 | D24: 0 | E24: 1000 | F24: 1000 | G24: 1000 | H24: 1000 | I24: 1000 | J24: 0 | K24: 1000 | L24: 1000 | M24: 1000 | N24: 1000 | O24: 1000 | P24: 0 | Q24: 1000 | R24: 1000 | S24: 1000 | T24: 1000 | U24: 1000 | V24: 0 | W24: 1000 | X24: 1000 | Y24: 1000 | Z24: 1000 | AA24: 1000 | AB24: 0 | AC24: 1000 | AD24: 1000 | AE24: 1000 | AF24: 1000 | AG24: 1000 | AH24: 0 | AI24: 1000 | AJ24: 1000 | AK24: 1000 | AL24: 1000 | AM24: 1000 | AN24: 0 | AO24: 1000 | AP24: 1000 | AQ24: 1000 | AR24: 1000 | AS24: 1000 | AT24: 0 | AU24: 1000 | AV24: 1000 | AW24: 1000 | AX24: 1000 | AY24: 1000 | AZ24: 0 | BA24: 1000 | BB24: 1000 | BC24: 1000 | BD24: 1000 | BE24: 1000 | BF24: 0 | BG24: 1000 | BH24: 1000 | BI24: 1000 | BJ24: 1000 | BK24: 1000 | BL24: 0 | BM24: 1000 | BN24: 1000 | BO24: 1000 | BP24: 1000 | BQ24: 1000 | BR24: 0 | BS24: 1000 | BT24: 1000 | BU24: 1000 | BV24: 1000 | BW24: 1000 | BX24: 0 | BY24: 1000 | BZ24: 1000 | CA24: 1000 | CB24: 1000 | CC24: 1000 | CD24: 0 | CE24: 1000 | CF24: 1000 | CG24: 1000 | CH24: 1000 | CI24: 1000 | CJ24: 0 | CK24: 1000 | CL24: 1000 | CM24: 1000 | CN24: 1000 | CO24: 1000 | CP24: 0 | CQ24: 1000 | CR24: 1000 | CS24: 1000 | CT24: 1000 | CU24: 1000 | CV24: 0 | CW24: 1000 | CX24: 1000 | CY24: 1000
A25: Soft hardwood | B25: =B24+2 -> 16 | C25: 0.3 | D25: 0 | E25: 1000 | F25: 1000 | G25: 1000 | H25: 1000 | I25: 1000 | J25: 0 | K25: 1000 | L25: 1000 | M25: 1000 | N25: 1000 | O25: 1000 | P25: 0 | Q25: 1000 | R25: 1000 | S25: 1000 | T25: 1000 | U25: 1000 | V25: 0 | W25: 1000 | X25: 1000 | Y25: 1000 | Z25: 1000 | AA25: 1000 | AB25: 0 | AC25: 1000 | AD25: 1000 | AE25: 1000 | AF25: 1000 | AG25: 1000 | AH25: 0 | AI25: 1000 | AJ25: 1000 | AK25: 1000 | AL25: 1000 | AM25: 1000 | AN25: 0 | AO25: 1000 | AP25: 1000 | AQ25: 1000 | AR25: 1000 | AS25: 1000 | AT25: 0 | AU25: 1000 | AV25: 1000 | AW25: 1000 | AX25: 1000 | AY25: 1000 | AZ25: 0 | BA25: 1000 | BB25: 1000 | BC25: 1000 | BD25: 1000 | BE25: 1000 | BF25: 0 | BG25: 1000 | BH25: 1000 | BI25: 1000 | BJ25: 1000 | BK25: 1000 | BL25: 0 | BM25: 1000 | BN25: 1000 | BO25: 1000 | BP25: 1000 | BQ25: 1000 | BR25: 0 | BS25: 1000 | BT25: 1000 | BU25: 1000 | BV25: 1000 | BW25: 1000 | BX25: 0 | BY25: 1000 | BZ25: 1000 | CA25: 1000 | CB25: 1000 | CC25: 1000 | CD25: 0 | CE25: 1000 | CF25: 1000 | CG25: 1000 | CH25: 1000 | CI25: 1000 | CJ25: 0 | CK25: 1000 | CL25: 1000 | CM25: 1000 | CN25: 1000 | CO25: 1000 | CP25: 0 | CQ25: 1000 | CR25: 1000 | CS25: 1000 | CT25: 1000 | CU25: 1000 | CV25: 0 | CW25: 1000 | CX25: 1000 | CY25: 1000
A26: Soft hardwood | B26: =B25+2 -> 18 | C26: 0.1 | D26: 0 | E26: 1000 | F26: 1000 | G26: 1000 | H26: 1000 | I26: 1000 | J26: 0 | K26: 1000 | L26: 1000 | M26: 1000 | N26: 1000 | O26: 1000 | P26: 0 | Q26: 1000 | R26: 1000 | S26: 1000 | T26: 1000 | U26: 1000 | V26: 0 | W26: 1000 | X26: 1000 | Y26: 1000 | Z26: 1000 | AA26: 1000 | AB26: 0 | AC26: 1000 | AD26: 1000 | AE26: 1000 | AF26: 1000 | AG26: 1000 | AH26: 0 | AI26: 1000 | AJ26: 1000 | AK26: 1000 | AL26: 1000 | AM26: 1000 | AN26: 0 | AO26: 1000 | AP26: 1000 | AQ26: 1000 | AR26: 1000 | AS26: 1000 | AT26: 0 | AU26: 1000 | AV26: 1000 | AW26: 1000 | AX26: 1000 | AY26: 1000 | AZ26: 0 | BA26: 1000 | BB26: 1000 | BC26: 1000 | BD26: 1000 | BE26: 1000 | BF26: 0 | BG26: 1000 | BH26: 1000 | BI26: 1000 | BJ26: 1000 | BK26: 1000 | BL26: 0 | BM26: 1000 | BN26: 1000 | BO26: 1000 | BP26: 1000 | BQ26: 1000 | BR26: 0 | BS26: 1000 | BT26: 1000 | BU26: 1000 | BV26: 1000 | BW26: 1000 | BX26: 0 | BY26: 1000 | BZ26: 1000 | CA26: 1000 | CB26: 1000 | CC26: 1000 | CD26: 0 | CE26: 1000 | CF26: 1000 | CG26: 1000 | CH26: 1000 | CI26: 1000 | CJ26: 0 | CK26: 1000 | CL26: 1000 | CM26: 1000 | CN26: 1000 | CO26: 1000 | CP26: 0 | CQ26: 1000 | CR26: 1000 | CS26: 1000 | CT26: 1000 | CU26: 1000 | CV26: 0 | CW26: 1000 | CX26: 1000 | CY26: 1000
A27: Soft hardwood | B27: =B26+2 -> 20 | C27: 0.1 | D27: 0 | E27: 1000 | F27: 1000 | G27: 1000 | H27: 1000 | I27: 1000 | J27: 0 | K27: 1000 | L27: 1000 | M27: 1000 | N27: 1000 | O27: 1000 | P27: 0 | Q27: 1000 | R27: 1000 | S27: 1000 | T27: 1000 | U27: 1000 | V27: 0 | W27: 1000 | X27: 1000 | Y27: 1000 | Z27: 1000 | AA27: 1000 | AB27: 0 | AC27: 1000 | AD27: 1000 | AE27: 1000 | AF27: 1000 | AG27: 1000 | AH27: 0 | AI27: 1000 | AJ27: 1000 | AK27: 1000 | AL27: 1000 | AM27: 1000 | AN27: 0 | AO27: 1000 | AP27: 1000 | AQ27: 1000 | AR27: 1000 | AS27: 1000 | AT27: 0 | AU27: 1000 | AV27: 1000 | AW27: 1000 | AX27: 1000 | AY27: 1000 | AZ27: 0 | BA27: 1000 | BB27: 1000 | BC27: 1000 | BD27: 1000 | BE27: 1000 | BF27: 0 | BG27: 1000 | BH27: 1000 | BI27: 1000 | BJ27: 1000 | BK27: 1000 | BL27: 0 | BM27: 1000 | BN27: 1000 | BO27: 1000 | BP27: 1000 | BQ27: 1000 | BR27: 0 | BS27: 1000 | BT27: 1000 | BU27: 1000 | BV27: 1000 | BW27: 1000 | BX27: 0 | BY27: 1000 | BZ27: 1000 | CA27: 1000 | CB27: 1000 | CC27: 1000 | CD27: 0 | CE27: 1000 | CF27: 1000 | CG27: 1000 | CH27: 1000 | CI27: 1000 | CJ27: 0 | CK27: 1000 | CL27: 1000 | CM27: 1000 | CN27: 1000 | CO27: 1000 | CP27: 0 | CQ27: 1000 | CR27: 1000 | CS27: 1000 | CT27: 1000 | CU27: 1000 | CV27: 0 | CW27: 1000 | CX27: 1000 | CY27: 1000
A28: Soft hardwood | B28: =B27+2 -> 22 | C28: 0 | D28: 0 | E28: 1000 | F28: 1000 | G28: 1000 | H28: 1000 | I28: 1000 | J28: 0 | K28: 1000 | L28: 1000 | M28: 1000 | N28: 1000 | O28: 1000 | P28: 0 | Q28: 1000 | R28: 1000 | S28: 1000 | T28: 1000 | U28: 1000 | V28: 0 | W28: 1000 | X28: 1000 | Y28: 1000 | Z28: 1000 | AA28: 1000 | AB28: 0 | AC28: 1000 | AD28: 1000 | AE28: 1000 | AF28: 1000 | AG28: 1000 | AH28: 0 | AI28: 1000 | AJ28: 1000 | AK28: 1000 | AL28: 1000 | AM28: 1000 | AN28: 0 | AO28: 1000 | AP28: 1000 | AQ28: 1000 | AR28: 1000 | AS28: 1000 | AT28: 0 | AU28: 1000 | AV28: 1000 | AW28: 1000 | AX28: 1000 | AY28: 1000 | AZ28: 0 | BA28: 1000 | BB28: 1000 | BC28: 1000 | BD28: 1000 | BE28: 1000 | BF28: 0 | BG28: 1000 | BH28: 1000 | BI28: 1000 | BJ28: 1000 | BK28: 1000 | BL28: 0 | BM28: 1000 | BN28: 1000 | BO28: 1000 | BP28: 1000 | BQ28: 1000 | BR28: 0 | BS28: 1000 | BT28: 1000 | BU28: 1000 | BV28: 1000 | BW28: 1000 | BX28: 0 | BY28: 1000 | BZ28: 1000 | CA28: 1000 | CB28: 1000 | CC28: 1000 | CD28: 0 | CE28: 1000 | CF28: 1000 | CG28: 1000 | CH28: 1000 | CI28: 1000 | CJ28: 0 | CK28: 1000 | CL28: 1000 | CM28: 1000 | CN28: 1000 | CO28: 1000 | CP28: 0 | CQ28: 1000 | CR28: 1000 | CS28: 1000 | CT28: 1000 | CU28: 1000 | CV28: 0 | CW28: 1000 | CX28: 1000 | CY28: 1000
A29: Soft hardwood | B29: =B28+2 -> 24 | C29: 0 | D29: 0 | E29: 1000 | F29: 1000 | G29: 1000 | H29: 1000 | I29: 1000 | J29: 0 | K29: 1000 | L29: 1000 | M29: 1000 | N29: 1000 | O29: 1000 | P29: 0 | Q29: 1000 | R29: 1000 | S29: 1000 | T29: 1000 | U29: 1000 | V29: 0 | W29: 1000 | X29: 1000 | Y29: 1000 | Z29: 1000 | AA29: 1000 | AB29: 0 | AC29: 1000 | AD29: 1000 | AE29: 1000 | AF29: 1000 | AG29: 1000 | AH29: 0 | AI29: 1000 | AJ29: 1000 | AK29: 1000 | AL29: 1000 | AM29: 1000 | AN29: 0 | AO29: 1000 | AP29: 1000 | AQ29: 1000 | AR29: 1000 | AS29: 1000 | AT29: 0 | AU29: 1000 | AV29: 1000 | AW29: 1000 | AX29: 1000 | AY29: 1000 | AZ29: 0 | BA29: 1000 | BB29: 1000 | BC29: 1000 | BD29: 1000 | BE29: 1000 | BF29: 0 | BG29: 1000 | BH29: 1000 | BI29: 1000 | BJ29: 1000 | BK29: 1000 | BL29: 0 | BM29: 1000 | BN29: 1000 | BO29: 1000 | BP29: 1000 | BQ29: 1000 | BR29: 0 | BS29: 1000 | BT29: 1000 | BU29: 1000 | BV29: 1000 | BW29: 1000 | BX29: 0 | BY29: 1000 | BZ29: 1000 | CA29: 1000 | CB29: 1000 | CC29: 1000 | CD29: 0 | CE29: 1000 | CF29: 1000 | CG29: 1000 | CH29: 1000 | CI29: 1000 | CJ29: 0 | CK29: 1000 | CL29: 1000 | CM29: 1000 | CN29: 1000 | CO29: 1000 | CP29: 0 | CQ29: 1000 | CR29: 1000 | CS29: 1000 | CT29: 1000 | CU29: 1000 | CV29: 0 | CW29: 1000 | CX29: 1000 | CY29: 1000
A30: Soft hardwood | B30: =B29+2 -> 26 | C30: 0 | D30: 0 | E30: 1000 | F30: 1000 | G30: 1000 | H30: 1000 | I30: 1000 | J30: 0 | K30: 1000 | L30: 1000 | M30: 1000 | N30: 1000 | O30: 1000 | P30: 0 | Q30: 1000 | R30: 1000 | S30: 1000 | T30: 1000 | U30: 1000 | V30: 0 | W30: 1000 | X30: 1000 | Y30: 1000 | Z30: 1000 | AA30: 1000 | AB30: 0 | AC30: 1000 | AD30: 1000 | AE30: 1000 | AF30: 1000 | AG30: 1000 | AH30: 0 | AI30: 1000 | AJ30: 1000 | AK30: 1000 | AL30: 1000 | AM30: 1000 | AN30: 0 | AO30: 1000 | AP30: 1000 | AQ30: 1000 | AR30: 1000 | AS30: 1000 | AT30: 0 | AU30: 1000 | AV30: 1000 | AW30: 1000 | AX30: 1000 | AY30: 1000 | AZ30: 0 | BA30: 1000 | BB30: 1000 | BC30: 1000 | BD30: 1000 | BE30: 1000 | BF30: 0 | BG30: 1000 | BH30: 1000 | BI30: 1000 | BJ30: 1000 | BK30: 1000 | BL30: 0 | BM30: 1000 | BN30: 1000 | BO30: 1000 | BP30: 1000 | BQ30: 1000 | BR30: 0 | BS30: 1000 | BT30: 1000 | BU30: 1000 | BV30: 1000 | BW30: 1000 | BX30: 0 | BY30: 1000 | BZ30: 1000 | CA30: 1000 | CB30: 1000 | CC30: 1000 | CD30: 0 | CE30: 1000 | CF30: 1000 | CG30: 1000 | CH30: 1000 | CI30: 1000 | CJ30: 0 | CK30: 1000 | CL30: 1000 | CM30: 1000 | CN30: 1000 | CO30: 1000 | CP30: 0 | CQ30: 1000 | CR30: 1000 | CS30: 1000 | CT30: 1000 | CU30: 1000 | CV30: 0 | CW30: 1000 | CX30: 1000 | CY30: 1000
A31: Hard hardwood | B31: 2 | C31: 128.7 | D31: 0 | E31: 1000 | F31: 1000 | G31: 1000 | H31: 1000 | I31: 1000 | J31: 0 | K31: 1000 | L31: 1000 | M31: 1000 | N31: 1000 | O31: 1000 | P31: 0 | Q31: 1000 | R31: 1000 | S31: 1000 | T31: 1000 | U31: 1000 | V31: 0 | W31: 1000 | X31: 1000 | Y31: 1000 | Z31: 1000 | AA31: 1000 | AB31: 0 | AC31: 1000 | AD31: 1000 | AE31: 1000 | AF31: 1000 | AG31: 1000 | AH31: 0 | AI31: 1000 | AJ31: 1000 | AK31: 1000 | AL31: 1000 | AM31: 1000 | AN31: 0 | AO31: 1000 | AP31: 1000 | AQ31: 1000 | AR31: 1000 | AS31: 1000 | AT31: 0 | AU31: 1000 | AV31: 1000 | AW31: 1000 | AX31: 1000 | AY31: 1000 | AZ31: 0 | BA31: 1000 | BB31: 1000 | BC31: 1000 | BD31: 1000 | BE31: 1000 | BF31: 0 | BG31: 1000 | BH31: 1000 | BI31: 1000 | BJ31: 1000 | BK31: 1000 | BL31: 0 | BM31: 1000 | BN31: 1000 | BO31: 1000 | BP31: 1000 | BQ31: 1000 | BR31: 0 | BS31: 1000 | BT31: 1000 | BU31: 1000 | BV31: 1000 | BW31: 1000 | BX31: 0 | BY31: 1000 | BZ31: 1000 | CA31: 1000 | CB31: 1000 | CC31: 1000 | CD31: 0 | CE31: 1000 | CF31: 1000 | CG31: 1000 | CH31: 1000 | CI31: 1000 | CJ31: 0 | CK31: 1000 | CL31: 1000 | CM31: 1000 | CN31: 1000 | CO31: 1000 | CP31: 0 | CQ31: 1000 | CR31: 1000 | CS31: 1000 | CT31: 1000 | CU31: 1000 | CV31: 0 | CW31: 1000 | CX31: 1000 | CY31: 1000
A32: Hard hardwood | B32: =B31+2 -> 4 | C32: 26.9 | D32: 0 | E32: 1000 | F32: 1000 | G32: 1000 | H32: 1000 | I32: 1000 | J32: 0 | K32: 1000 | L32: 1000 | M32: 1000 | N32: 1000 | O32: 1000 | P32: 0 | Q32: 1000 | R32: 1000 | S32: 1000 | T32: 1000 | U32: 1000 | V32: 0 | W32: 1000 | X32: 1000 | Y32: 1000 | Z32: 1000 | AA32: 1000 | AB32: 0 | AC32: 1000 | AD32: 1000 | AE32: 1000 | AF32: 1000 | AG32: 1000 | AH32: 0 | AI32: 1000 | AJ32: 1000 | AK32: 1000 | AL32: 1000 | AM32: 1000 | AN32: 0 | AO32: 1000 | AP32: 1000 | AQ32: 1000 | AR32: 1000 | AS32: 1000 | AT32: 0 | AU32: 1000 | AV32: 1000 | AW32: 1000 | AX32: 1000 | AY32: 1000 | AZ32: 0 | BA32: 1000 | BB32: 1000 | BC32: 1000 | BD32: 1000 | BE32: 1000 | BF32: 0 | BG32: 1000 | BH32: 1000 | BI32: 1000 | BJ32: 1000 | BK32: 1000 | BL32: 0 | BM32: 1000 | BN32: 1000 | BO32: 1000 | BP32: 1000 | BQ32: 1000 | BR32: 0 | BS32: 1000 | BT32: 1000 | BU32: 1000 | BV32: 1000 | BW32: 1000 | BX32: 0 | BY32: 1000 | BZ32: 1000 | CA32: 1000 | CB32: 1000 | CC32: 1000 | CD32: 0 | CE32: 1000 | CF32: 1000 | CG32: 1000 | CH32: 1000 | CI32: 1000 | CJ32: 0 | CK32: 1000 | CL32: 1000 | CM32: 1000 | CN32: 1000 | CO32: 1000 | CP32: 0 | CQ32: 1000 | CR32: 1000 | CS32: 1000 | CT32: 1000 | CU32: 1000 | CV32: 0 | CW32: 1000 | CX32: 1000 | CY32: 1000
A33: Hard hardwood | B33: =B32+2 -> 6 | C33: 10.5 | D33: 0 | E33: 1000 | F33: 1000 | G33: 1000 | H33: 1000 | I33: 1000 | J33: 0 | K33: 1000 | L33: 1000 | M33: 1000 | N33: 1000 | O33: 1000 | P33: 0 | Q33: 1000 | R33: 1000 | S33: 1000 | T33: 1000 | U33: 1000 | V33: 0 | W33: 1000 | X33: 1000 | Y33: 1000 | Z33: 1000 | AA33: 1000 | AB33: 0 | AC33: 1000 | AD33: 1000 | AE33: 1000 | AF33: 1000 | AG33: 1000 | AH33: 0 | AI33: 1000 | AJ33: 1000 | AK33: 1000 | AL33: 1000 | AM33: 1000 | AN33: 0 | AO33: 1000 | AP33: 1000 | AQ33: 1000 | AR33: 1000 | AS33: 1000 | AT33: 0 | AU33: 1000 | AV33: 1000 | AW33: 1000 | AX33: 1000 | AY33: 1000 | AZ33: 0 | BA33: 1000 | BB33: 1000 | BC33: 1000 | BD33: 1000 | BE33: 1000 | BF33: 0 | BG33: 1000 | BH33: 1000 | BI33: 1000 | BJ33: 1000 | BK33: 1000 | BL33: 0 | BM33: 1000 | BN33: 1000 | BO33: 1000 | BP33: 1000 | BQ33: 1000 | BR33: 0 | BS33: 1000 | BT33: 1000 | BU33: 1000 | BV33: 1000 | BW33: 1000 | BX33: 0 | BY33: 1000 | BZ33: 1000 | CA33: 1000 | CB33: 1000 | CC33: 1000 | CD33: 0 | CE33: 1000 | CF33: 1000 | CG33: 1000 | CH33: 1000 | CI33: 1000 | CJ33: 0 | CK33: 1000 | CL33: 1000 | CM33: 1000 | CN33: 1000 | CO33: 1000 | CP33: 0 | CQ33: 1000 | CR33: 1000 | CS33: 1000 | CT33: 1000 | CU33: 1000 | CV33: 0 | CW33: 1000 | CX33: 1000 | CY33: 1000
A34: Hard hardwood | B34: =B33+2 -> 8 | C34: 5.3 | D34: 0 | E34: 1000 | F34: 1000 | G34: 1000 | H34: 1000 | I34: 1000 | J34: 0 | K34: 1000 | L34: 1000 | M34: 1000 | N34: 1000 | O34: 1000 | P34: 0 | Q34: 1000 | R34: 1000 | S34: 1000 | T34: 1000 | U34: 1000 | V34: 0 | W34: 1000 | X34: 1000 | Y34: 1000 | Z34: 1000 | AA34: 1000 | AB34: 0 | AC34: 1000 | AD34: 1000 | AE34: 1000 | AF34: 1000 | AG34: 1000 | AH34: 0 | AI34: 1000 | AJ34: 1000 | AK34: 1000 | AL34: 1000 | AM34: 1000 | AN34: 0 | AO34: 1000 | AP34: 1000 | AQ34: 1000 | AR34: 1000 | AS34: 1000 | AT34: 0 | AU34: 1000 | AV34: 1000 | AW34: 1000 | AX34: 1000 | AY34: 1000 | AZ34: 0 | BA34: 1000 | BB34: 1000 | BC34: 1000 | BD34: 1000 | BE34: 1000 | BF34: 0 | BG34: 1000 | BH34: 1000 | BI34: 1000 | BJ34: 1000 | BK34: 1000 | BL34: 0 | BM34: 1000 | BN34: 1000 | BO34: 1000 | BP34: 1000 | BQ34: 1000 | BR34: 0 | BS34: 1000 | BT34: 1000 | BU34: 1000 | BV34: 1000 | BW34: 1000 | BX34: 0 | BY34: 1000 | BZ34: 1000 | CA34: 1000 | CB34: 1000 | CC34: 1000 | CD34: 0 | CE34: 1000 | CF34: 1000 | CG34: 1000 | CH34: 1000 | CI34: 1000 | CJ34: 0 | CK34: 1000 | CL34: 1000 | CM34: 1000 | CN34: 1000 | CO34: 1000 | CP34: 0 | CQ34: 1000 | CR34: 1000 | CS34: 1000 | CT34: 1000 | CU34: 1000 | CV34: 0 | CW34: 1000 | CX34: 1000 | CY34: 1000
A35: Hard hardwood | B35: =B34+2 -> 10 | C35: 2.7 | D35: 0 | E35: 1000 | F35: 1000 | G35: 1000 | H35: 1000 | I35: 1000 | J35: 0 | K35: 1000 | L35: 1000 | M35: 1000 | N35: 1000 | O35: 1000 | P35: 0 | Q35: 1000 | R35: 1000 | S35: 1000 | T35: 1000 | U35: 1000 | V35: 0 | W35: 1000 | X35: 1000 | Y35: 1000 | Z35: 1000 | AA35: 1000 | AB35: 0 | AC35: 1000 | AD35: 1000 | AE35: 1000 | AF35: 1000 | AG35: 1000 | AH35: 0 | AI35: 1000 | AJ35: 1000 | AK35: 1000 | AL35: 1000 | AM35: 1000 | AN35: 0 | AO35: 1000 | AP35: 1000 | AQ35: 1000 | AR35: 1000 | AS35: 1000 | AT35: 0 | AU35: 1000 | AV35: 1000 | AW35: 1000 | AX35: 1000 | AY35: 1000 | AZ35: 0 | BA35: 1000 | BB35: 1000 | BC35: 1000 | BD35: 1000 | BE35: 1000 | BF35: 0 | BG35: 1000 | BH35: 1000 | BI35: 1000 | BJ35: 1000 | BK35: 1000 | BL35: 0 | BM35: 1000 | BN35: 1000 | BO35: 1000 | BP35: 1000 | BQ35: 1000 | BR35: 0 | BS35: 1000 | BT35: 1000 | BU35: 1000 | BV35: 1000 | BW35: 1000 | BX35: 0 | BY35: 1000 | BZ35: 1000 | CA35: 1000 | CB35: 1000 | CC35: 1000 | CD35: 0 | CE35: 1000 | CF35: 1000 | CG35: 1000 | CH35: 1000 | CI35: 1000 | CJ35: 0 | CK35: 1000 | CL35: 1000 | CM35: 1000 | CN35: 1000 | CO35: 1000 | CP35: 0 | CQ35: 1000 | CR35: 1000 | CS35: 1000 | CT35: 1000 | CU35: 1000 | CV35: 0 | CW35: 1000 | CX35: 1000 | CY35: 1000
A36: Hard hardwood | B36: =B35+2 -> 12 | C36: 1.6 | D36: 0 | E36: 1000 | F36: 1000 | G36: 1000 | H36: 1000 | I36: 1000 | J36: 0 | K36: 1000 | L36: 1000 | M36: 1000 | N36: 1000 | O36: 1000 | P36: 0 | Q36: 1000 | R36: 1000 | S36: 1000 | T36: 1000 | U36: 1000 | V36: 0 | W36: 1000 | X36: 1000 | Y36: 1000 | Z36: 1000 | AA36: 1000 | AB36: 0 | AC36: 1000 | AD36: 1000 | AE36: 1000 | AF36: 1000 | AG36: 1000 | AH36: 0 | AI36: 1000 | AJ36: 1000 | AK36: 1000 | AL36: 1000 | AM36: 1000 | AN36: 0 | AO36: 1000 | AP36: 1000 | AQ36: 1000 | AR36: 1000 | AS36: 1000 | AT36: 0 | AU36: 1000 | AV36: 1000 | AW36: 1000 | AX36: 1000 | AY36: 1000 | AZ36: 0 | BA36: 1000 | BB36: 1000 | BC36: 1000 | BD36: 1000 | BE36: 1000 | BF36: 0 | BG36: 1000 | BH36: 1000 | BI36: 1000 | BJ36: 1000 | BK36: 1000 | BL36: 0 | BM36: 1000 | BN36: 1000 | BO36: 1000 | BP36: 1000 | BQ36: 1000 | BR36: 0 | BS36: 1000 | BT36: 1000 | BU36: 1000 | BV36: 1000 | BW36: 1000 | BX36: 0 | BY36: 1000 | BZ36: 1000 | CA36: 1000 | CB36: 1000 | CC36: 1000 | CD36: 0 | CE36: 1000 | CF36: 1000 | CG36: 1000 | CH36: 1000 | CI36: 1000 | CJ36: 0 | CK36: 1000 | CL36: 1000 | CM36: 1000 | CN36: 1000 | CO36: 1000 | CP36: 0 | CQ36: 1000 | CR36: 1000 | CS36: 1000 | CT36: 1000 | CU36: 1000 | CV36: 0 | CW36: 1000 | CX36: 1000 | CY36: 1000
A37: Hard hardwood | B37: =B36+2 -> 14 | C37: 1.1 | D37: 0 | E37: 1000 | F37: 1000 | G37: 1000 | H37: 1000 | I37: 1000 | J37: 0 | K37: 1000 | L37: 1000 | M37: 1000 | N37: 1000 | O37: 1000 | P37: 0 | Q37: 1000 | R37: 1000 | S37: 1000 | T37: 1000 | U37: 1000 | V37: 0 | W37: 1000 | X37: 1000 | Y37: 1000 | Z37: 1000 | AA37: 1000 | AB37: 0 | AC37: 1000 | AD37: 1000 | AE37: 1000 | AF37: 1000 | AG37: 1000 | AH37: 0 | AI37: 1000 | AJ37: 1000 | AK37: 1000 | AL37: 1000 | AM37: 1000 | AN37: 0 | AO37: 1000 | AP37: 1000 | AQ37: 1000 | AR37: 1000 | AS37: 1000 | AT37: 0 | AU37: 1000 | AV37: 1000 | AW37: 1000 | AX37: 1000 | AY37: 1000 | AZ37: 0 | BA37: 1000 | BB37: 1000 | BC37: 1000 | BD37: 1000 | BE37: 1000 | BF37: 0 | BG37: 1000 | BH37: 1000 | BI37: 1000 | BJ37: 1000 | BK37: 1000 | BL37: 0 | BM37: 1000 | BN37: 1000 | BO37: 1000 | BP37: 1000 | BQ37: 1000 | BR37: 0 | BS37: 1000 | BT37: 1000 | BU37: 1000 | BV37: 1000 | BW37: 1000 | BX37: 0 | BY37: 1000 | BZ37: 1000 | CA37: 1000 | CB37: 1000 | CC37: 1000 | CD37: 0 | CE37: 1000 | CF37: 1000 | CG37: 1000 | CH37: 1000 | CI37: 1000 | CJ37: 0 | CK37: 1000 | CL37: 1000 | CM37: 1000 | CN37: 1000 | CO37: 1000 | CP37: 0 | CQ37: 1000 | CR37: 1000 | CS37: 1000 | CT37: 1000 | CU37: 1000 | CV37: 0 | CW37: 1000 | CX37: 1000 | CY37: 1000
A38: Hard hardwood | B38: =B37+2 -> 16 | C38: 0.6 | D38: 0 | E38: 1000 | F38: 1000 | G38: 1000 | H38: 1000 | I38: 1000 | J38: 0 | K38: 1000 | L38: 1000 | M38: 1000 | N38: 1000 | O38: 1000 | P38: 0 | Q38: 1000 | R38: 1000 | S38: 1000 | T38: 1000 | U38: 1000 | V38: 0 | W38: 1000 | X38: 1000 | Y38: 1000 | Z38: 1000 | AA38: 1000 | AB38: 0 | AC38: 1000 | AD38: 1000 | AE38: 1000 | AF38: 1000 | AG38: 1000 | AH38: 0 | AI38: 1000 | AJ38: 1000 | AK38: 1000 | AL38: 1000 | AM38: 1000 | AN38: 0 | AO38: 1000 | AP38: 1000 | AQ38: 1000 | AR38: 1000 | AS38: 1000 | AT38: 0 | AU38: 1000 | AV38: 1000 | AW38: 1000 | AX38: 1000 | AY38: 1000 | AZ38: 0 | BA38: 1000 | BB38: 1000 | BC38: 1000 | BD38: 1000 | BE38: 1000 | BF38: 0 | BG38: 1000 | BH38: 1000 | BI38: 1000 | BJ38: 1000 | BK38: 1000 | BL38: 0 | BM38: 1000 | BN38: 1000 | BO38: 1000 | BP38: 1000 | BQ38: 1000 | BR38: 0 | BS38: 1000 | BT38: 1000 | BU38: 1000 | BV38: 1000 | BW38: 1000 | BX38: 0 | BY38: 1000 | BZ38: 1000 | CA38: 1000 | CB38: 1000 | CC38: 1000 | CD38: 0 | CE38: 1000 | CF38: 1000 | CG38: 1000 | CH38: 1000 | CI38: 1000 | CJ38: 0 | CK38: 1000 | CL38: 1000 | CM38: 1000 | CN38: 1000 | CO38: 1000 | CP38: 0 | CQ38: 1000 | CR38: 1000 | CS38: 1000 | CT38: 1000 | CU38: 1000 | CV38: 0 | CW38: 1000 | CX38: 1000 | CY38: 1000
A39: Hard hardwood | B39: =B38+2 -> 18 | C39: 0.3 | D39: 0 | E39: 1000 | F39: 1000 | G39: 1000 | H39: 1000 | I39: 1000 | J39: 0 | K39: 1000 | L39: 1000 | M39: 1000 | N39: 1000 | O39: 1000 | P39: 0 | Q39: 1000 | R39: 1000 | S39: 1000 | T39: 1000 | U39: 1000 | V39: 0 | W39: 1000 | X39: 1000 | Y39: 1000 | Z39: 1000 | AA39: 1000 | AB39: 0 | AC39: 1000 | AD39: 1000 | AE39: 1000 | AF39: 1000 | AG39: 1000 | AH39: 0 | AI39: 1000 | AJ39: 1000 | AK39: 1000 | AL39: 1000 | AM39: 1000 | AN39: 0 | AO39: 1000 | AP39: 1000 | AQ39: 1000 | AR39: 1000 | AS39: 1000 | AT39: 0 | AU39: 1000 | AV39: 1000 | AW39: 1000 | AX39: 1000 | AY39: 1000 | AZ39: 0 | BA39: 1000 | BB39: 1000 | BC39: 1000 | BD39: 1000 | BE39: 1000 | BF39: 0 | BG39: 1000 | BH39: 1000 | BI39: 1000 | BJ39: 1000 | BK39: 1000 | BL39: 0 | BM39: 1000 | BN39: 1000 | BO39: 1000 | BP39: 1000 | BQ39: 1000 | BR39: 0 | BS39: 1000 | BT39: 1000 | BU39: 1000 | BV39: 1000 | BW39: 1000 | BX39: 0 | BY39: 1000 | BZ39: 1000 | CA39: 1000 | CB39: 1000 | CC39: 1000 | CD39: 0 | CE39: 1000 | CF39: 1000 | CG39: 1000 | CH39: 1000 | CI39: 1000 | CJ39: 0 | CK39: 1000 | CL39: 1000 | CM39: 1000 | CN39: 1000 | CO39: 1000 | CP39: 0 | CQ39: 1000 | CR39: 1000 | CS39: 1000 | CT39: 1000 | CU39: 1000 | CV39: 0 | CW39: 1000 | CX39: 1000 | CY39: 1000
A40: Hard hardwood | B40: =B39+2 -> 20 | C40: 0.2 | D40: 0 | E40: 1000 | F40: 1000 | G40: 1000 | H40: 1000 | I40: 1000 | J40: 0 | K40: 1000 | L40: 1000 | M40: 1000 | N40: 1000 | O40: 1000 | P40: 0 | Q40: 1000 | R40: 1000 | S40: 1000 | T40: 1000 | U40: 1000 | V40: 0 | W40: 1000 | X40: 1000 | Y40: 1000 | Z40: 1000 | AA40: 1000 | AB40: 0 | AC40: 1000 | AD40: 1000 | AE40: 1000 | AF40: 1000 | AG40: 1000 | AH40: 0 | AI40: 1000 | AJ40: 1000 | AK40: 1000 | AL40: 1000 | AM40: 1000 | AN40: 0 | AO40: 1000 | AP40: 1000 | AQ40: 1000 | AR40: 1000 | AS40: 1000 | AT40: 0 | AU40: 1000 | AV40: 1000 | AW40: 1000 | AX40: 1000 | AY40: 1000 | AZ40: 0 | BA40: 1000 | BB40: 1000 | BC40: 1000 | BD40: 1000 | BE40: 1000 | BF40: 0 | BG40: 1000 | BH40: 1000 | BI40: 1000 | BJ40: 1000 | BK40: 1000 | BL40: 0 | BM40: 1000 | BN40: 1000 | BO40: 1000 | BP40: 1000 | BQ40: 1000 | BR40: 0 | BS40: 1000 | BT40: 1000 | BU40: 1000 | BV40: 1000 | BW40: 1000 | BX40: 0 | BY40: 1000 | BZ40: 1000 | CA40: 1000 | CB40: 1000 | CC40: 1000 | CD40: 0 | CE40: 1000 | CF40: 1000 | CG40: 1000 | CH40: 1000 | CI40: 1000 | CJ40: 0 | CK40: 1000 | CL40: 1000 | CM40: 1000 | CN40: 1000 | CO40: 1000 | CP40: 0 | CQ40: 1000 | CR40: 1000 | CS40: 1000 | CT40: 1000 | CU40: 1000 | CV40: 0 | CW40: 1000 | CX40: 1000 | CY40: 1000
A41: Hard hardwood | B41: =B40+2 -> 22 | C41: 0.1 | D41: 0 | E41: 1000 | F41: 1000 | G41: 1000 | H41: 1000 | I41: 1000 | J41: 0 | K41: 1000 | L41: 1000 | M41: 1000 | N41: 1000 | O41: 1000 | P41: 0 | Q41: 1000 | R41: 1000 | S41: 1000 | T41: 1000 | U41: 1000 | V41: 0 | W41: 1000 | X41: 1000 | Y41: 1000 | Z41: 1000 | AA41: 1000 | AB41: 0 | AC41: 1000 | AD41: 1000 | AE41: 1000 | AF41: 1000 | AG41: 1000 | AH41: 0 | AI41: 1000 | AJ41: 1000 | AK41: 1000 | AL41: 1000 | AM41: 1000 | AN41: 0 | AO41: 1000 | AP41: 1000 | AQ41: 1000 | AR41: 1000 | AS41: 1000 | AT41: 0 | AU41: 1000 | AV41: 1000 | AW41: 1000 | AX41: 1000 | AY41: 1000 | AZ41: 0 | BA41: 1000 | BB41: 1000 | BC41: 1000 | BD41: 1000 | BE41: 1000 | BF41: 0 | BG41: 1000 | BH41: 1000 | BI41: 1000 | BJ41: 1000 | BK41: 1000 | BL41: 0 | BM41: 1000 | BN41: 1000 | BO41: 1000 | BP41: 1000 | BQ41: 1000 | BR41: 0 | BS41: 1000 | BT41: 1000 | BU41: 1000 | BV41: 1000 | BW41: 1000 | BX41: 0 | BY41: 1000 | BZ41: 1000 | CA41: 1000 | CB41: 1000 | CC41: 1000 | CD41: 0 | CE41: 1000 | CF41: 1000 | CG41: 1000 | CH41: 1000 | CI41: 1000 | CJ41: 0 | CK41: 1000 | CL41: 1000 | CM41: 1000 | CN41: 1000 | CO41: 1000 | CP41: 0 | CQ41: 1000 | CR41: 1000 | CS41: 1000 | CT41: 1000 | CU41: 1000 | CV41: 0 | CW41: 1000 | CX41: 1000 | CY41: 1000
A42: Hard hardwood | B42: =B41+2 -> 24 | C42: 0 | D42: 0 | E42: 1000 | F42: 1000 | G42: 1000 | H42: 1000 | I42: 1000 | J42: 0 | K42: 1000 | L42: 1000 | M42: 1000 | N42: 1000 | O42: 1000 | P42: 0 | Q42: 1000 | R42: 1000 | S42: 1000 | T42: 1000 | U42: 1000 | V42: 0 | W42: 1000 | X42: 1000 | Y42: 1000 | Z42: 1000 | AA42: 1000 | AB42: 0 | AC42: 1000 | AD42: 1000 | AE42: 1000 | AF42: 1000 | AG42: 1000 | AH42: 0 | AI42: 1000 | AJ42: 1000 | AK42: 1000 | AL42: 1000 | AM42: 1000 | AN42: 0 | AO42: 1000 | AP42: 1000 | AQ42: 1000 | AR42: 1000 | AS42: 1000 | AT42: 0 | AU42: 1000 | AV42: 1000 | AW42: 1000 | AX42: 1000 | AY42: 1000 | AZ42: 0 | BA42: 1000 | BB42: 1000 | BC42: 1000 | BD42: 1000 | BE42: 1000 | BF42: 0 | BG42: 1000 | BH42: 1000 | BI42: 1000 | BJ42: 1000 | BK42: 1000 | BL42: 0 | BM42: 1000 | BN42: 1000 | BO42: 1000 | BP42: 1000 | BQ42: 1000 | BR42: 0 | BS42: 1000 | BT42: 1000 | BU42: 1000 | BV42: 1000 | BW42: 1000 | BX42: 0 | BY42: 1000 | BZ42: 1000 | CA42: 1000 | CB42: 1000 | CC42: 1000 | CD42: 0 | CE42: 1000 | CF42: 1000 | CG42: 1000 | CH42: 1000 | CI42: 1000 | CJ42: 0 | CK42: 1000 | CL42: 1000 | CM42: 1000 | CN42: 1000 | CO42: 1000 | CP42: 0 | CQ42: 1000 | CR42: 1000 | CS42: 1000 | CT42: 1000 | CU42: 1000 | CV42: 0 | CW42: 1000 | CX42: 1000 | CY42: 1000
A43: Hard hardwood | B43: =B42+2 -> 26 | C43: 0.1 | D43: 0 | E43: 1000 | F43: 1000 | G43: 1000 | H43: 1000 | I43: 1000 | J43: 0 | K43: 1000 | L43: 1000 | M43: 1000 | N43: 1000 | O43: 1000 | P43: 0 | Q43: 1000 | R43: 1000 | S43: 1000 | T43: 1000 | U43: 1000 | V43: 0 | W43: 1000 | X43: 1000 | Y43: 1000 | Z43: 1000 | AA43: 1000 | AB43: 0 | AC43: 1000 | AD43: 1000 | AE43: 1000 | AF43: 1000 | AG43: 1000 | AH43: 0 | AI43: 1000 | AJ43: 1000 | AK43: 1000 | AL43: 1000 | AM43: 1000 | AN43: 0 | AO43: 1000 | AP43: 1000 | AQ43: 1000 | AR43: 1000 | AS43: 1000 | AT43: 0 | AU43: 1000 | AV43: 1000 | AW43: 1000 | AX43: 1000 | AY43: 1000 | AZ43: 0 | BA43: 1000 | BB43: 1000 | BC43: 1000 | BD43: 1000 | BE43: 1000 | BF43: 0 | BG43: 1000 | BH43: 1000 | BI43: 1000 | BJ43: 1000 | BK43: 1000 | BL43: 0 | BM43: 1000 | BN43: 1000 | BO43: 1000 | BP43: 1000 | BQ43: 1000 | BR43: 0 | BS43: 1000 | BT43: 1000 | BU43: 1000 | BV43: 1000 | BW43: 1000 | BX43: 0 | BY43: 1000 | BZ43: 1000 | CA43: 1000 | CB43: 1000 | CC43: 1000 | CD43: 0 | CE43: 1000 | CF43: 1000 | CG43: 1000 | CH43: 1000 | CI43: 1000 | CJ43: 0 | CK43: 1000 | CL43: 1000 | CM43: 1000 | CN43: 1000 | CO43: 1000 | CP43: 0 | CQ43: 1000 | CR43: 1000 | CS43: 1000 | CT43: 1000 | CU43: 1000 | CV43: 0 | CW43: 1000 | CX43: 1000 | CY43: 1000

Sheet Trees
C1: Number of trees per acre left after harvest, by species, size, and year.
A2: Site | B2: =Target!B2 -> 2
A3: Year | C3: 0 | D3: =C3+1 -> 1 | E3: =D3+1 -> 2 | F3: =E3+1 -> 3 | G3: =F3+1 -> 4 | H3: =G3+1 -> 5 | I3: =H3+1 -> 6 | J3: =I3+1 -> 7 | K3: =J3+1 -> 8 | ... CY3: =CX3+1 -> 100
A4: Species | B4: dbh (in.) | C4: trees/a | D4: trees/a | E4: trees/a | F4: trees/a | G4: trees/a | H4: trees/a | I4: trees/a | J4: trees/a | K4: trees/a | L4: trees/a | M4: trees/a | N4: trees/a | O4: trees/a | P4: trees/a | Q4: trees/a | R4: trees/a | S4: trees/a | T4: trees/a | U4: trees/a | V4: trees/a | W4: trees/a | X4: trees/a | Y4: trees/a | Z4: trees/a | AA4: trees/a | AB4: trees/a | AC4: trees/a | AD4: trees/a | AE4: trees/a | AF4: trees/a | AG4: trees/a | AH4: trees/a | AI4: trees/a | AJ4: trees/a | AK4: trees/a | AL4: trees/a | AM4: trees/a | AN4: trees/a | AO4: trees/a | AP4: trees/a | AQ4: trees/a | AR4: trees/a | AS4: trees/a | AT4: trees/a | AU4: trees/a | AV4: trees/a | AW4: trees/a | AX4: trees/a | AY4: trees/a | AZ4: trees/a | BA4: trees/a | BB4: trees/a | BC4: trees/a | BD4: trees/a | BE4: trees/a | BF4: trees/a | BG4: trees/a | BH4: trees/a | BI4: trees/a | BJ4: trees/a | BK4: trees/a | BL4: trees/a | BM4: trees/a | BN4: trees/a | BO4: trees/a | BP4: trees/a | BQ4: trees/a | BR4: trees/a | BS4: trees/a | BT4: trees/a | BU4: trees/a | BV4: trees/a | BW4: trees/a | BX4: trees/a | BY4: trees/a | BZ4: trees/a | CA4: trees/a | CB4: trees/a | CC4: trees/a | CD4: trees/a | CE4: trees/a | CF4: trees/a | CG4: trees/a | CH4: trees/a | CI4: trees/a | CJ4: trees/a | CK4: trees/a | CL4: trees/a | CM4: trees/a | CN4: trees/a | CO4: trees/a | CP4: trees/a | CQ4: trees/a | CR4: trees/a | CS4: trees/a | CT4: trees/a | CU4: trees/a | CV4: trees/a | CW4: trees/a | CX4: trees/a | CY4: trees/a
A5: Softwood | B5: 2 | C5: 19.7 | D5: =MAX(0,C5+ingrowth!D4-upgrowth!D4-Mortality!D4)-TreesCut!C5 -> 20.059345 | E5: =MAX(0,D5+ingrowth!E4-upgrowth!E4-Mortality!E4)-TreesCut!D5 -> 25.879453 | F5: =MAX(0,E5+ingrowth!F4-upgrowth!F4-Mortality!F4)-TreesCut!E5 -> 37.851898 | G5: =MAX(0,F5+ingrowth!G4-upgrowth!G4-Mortality!G4)-TreesCut!F5 -> 48.622612 | H5: =MAX(0,G5+ingrowth!H4-upgrowth!H4-Mortality!H4)-TreesCut!G5 -> 58.282922 | I5: =MAX(0,H5+ingrowth!I4-upgrowth!I4-Mortality!I4)-TreesCut!H5 -> 66.915938 | J5: =MAX(0,I5+ingrowth!J4-upgrowth!J4-Mortality!J4)-TreesCut!I5 -> 74.597379 | K5: =MAX(0,J5+ingrowth!K4-upgrowth!K4-Mortality!K4)-TreesCut!J5 -> 81.396228 | ... CY5: =MAX(0,CX5+ingrowth!CY4-upgrowth!CY4-Mortality!CY4)-TreesCut!CX5 -> 122.3961
A6: Softwood | B6: =B5+2 -> 4 | C6: 27.2 | D6: =MAX(0,C6+upgrowth!D4-upgrowth!D5-Mortality!D5)-TreesCut!C6 -> 25.569823 | E6: =MAX(0,D6+upgrowth!E4-upgrowth!E5-Mortality!E5)-TreesCut!D6 -> 24.093814 | F6: =MAX(0,E6+upgrowth!F4-upgrowth!F5-Mortality!F5)-TreesCut!E6 -> 23.01416 | G6: =MAX(0,F6+upgrowth!G4-upgrowth!G5-Mortality!G5)-TreesCut!F6 -> 22.589984 | H6: =MAX(0,G6+upgrowth!H4-upgrowth!H5-Mortality!H5)-TreesCut!G6 -> 22.696765 | I6: =MAX(0,H6+upgrowth!I4-upgrowth!I5-Mortality!I5)-TreesCut!H6 -> 23.226934 | J6: =MAX(0,I6+upgrowth!J4-upgrowth!J5-Mortality!J5)-TreesCut!I6 -> 24.087818 | K6: =MAX(0,J6+upgrowth!K4-upgrowth!K5-Mortality!K5)-TreesCut!J6 -> 25.199808 | ... CY6: =MAX(0,CX6+upgrowth!CY4-upgrowth!CY5-Mortality!CY5)-TreesCut!CX6 -> 56.294118
A7: Softwood | B7: =B6+2 -> 6 | C7: 16 | D7: =MAX(0,C7+upgrowth!D5-upgrowth!D6-Mortality!D6)-TreesCut!C7 -> 15.970896 | E7: =MAX(0,D7+upgrowth!E5-upgrowth!E6-Mortality!E6)-TreesCut!D7 -> 15.936131 | F7: =MAX(0,E7+upgrowth!F5-upgrowth!F6-Mortality!F6)-TreesCut!E7 -> 15.888618 | G7: =MAX(0,F7+upgrowth!G5-upgrowth!G6-Mortality!G6)-TreesCut!F7 -> 15.773265 | H7: =MAX(0,G7+upgrowth!H5-upgrowth!H6-Mortality!H6)-TreesCut!G7 -> 15.639772 | I7: =MAX(0,H7+upgrowth!I5-upgrowth!I6-Mortality!I6)-TreesCut!H7 -> 15.524215 | J7: =MAX(0,I7+upgrowth!J5-upgrowth!J6-Mortality!J6)-TreesCut!I7 -> 15.451649 | K7: =MAX(0,J7+upgrowth!K5-upgrowth!K6-Mortality!K6)-TreesCut!J7 -> 15.438306 | ... CY7: =MAX(0,CX7+upgrowth!CY5-upgrowth!CY6-Mortality!CY6)-TreesCut!CX7 -> 35.79375
A8: Softwood | B8: =B7+2 -> 8 | C8: 14.2 | D8: =MAX(0,C8+upgrowth!D6-upgrowth!D7-Mortality!D7)-TreesCut!C8 -> 13.921049 | E8: =MAX(0,D8+upgrowth!E6-upgrowth!E7-Mortality!E7)-TreesCut!D8 -> 13.698377 | F8: =MAX(0,E8+upgrowth!F6-upgrowth!F7-Mortality!F7)-TreesCut!E8 -> 13.523287 | G8: =MAX(0,F8+upgrowth!G6-upgrowth!G7-Mortality!G7)-TreesCut!F8 -> 13.362193 | H8: =MAX(0,G8+upgrowth!H6-upgrowth!H7-Mortality!H7)-TreesCut!G8 -> 13.208013 | I8: =MAX(0,H8+upgrowth!I6-upgrowth!I7-Mortality!I7)-TreesCut!H8 -> 13.058473 | J8: =MAX(0,I8+upgrowth!J6-upgrowth!J7-Mortality!J7)-TreesCut!I8 -> 12.914439 | K8: =MAX(0,J8+upgrowth!K6-upgrowth!K7-Mortality!K7)-TreesCut!J8 -> 12.778666 | ... CY8: =MAX(0,CX8+upgrowth!CY6-upgrowth!CY7-Mortality!CY7)-TreesCut!CX8 -> 27.443022
A9: Softwood | B9: =B8+2 -> 10 | C9: 14.7 | D9: =MAX(0,C9+upgrowth!D7-upgrowth!D8-Mortality!D8)-TreesCut!C9 -> 11.972912 | E9: =MAX(0,D9+upgrowth!E7-upgrowth!E8-Mortality!E8)-TreesCut!D9 -> 11.926151 | F9: =MAX(0,E9+upgrowth!F7-upgrowth!F8-Mortality!F8)-TreesCut!E9 -> 11.887772 | G9: =MAX(0,F9+upgrowth!G7-upgrowth!G8-Mortality!G8)-TreesCut!F9 -> 11.836533 | H9: =MAX(0,G9+upgrowth!H7-upgrowth!H8-Mortality!H8)-TreesCut!G9 -> 11.775191 | I9: =MAX(0,H9+upgrowth!I7-upgrowth!I8-Mortality!I8)-TreesCut!H9 -> 11.705518 | J9: =MAX(0,I9+upgrowth!J7-upgrowth!J8-Mortality!J8)-TreesCut!I9 -> 11.628871 | K9: =MAX(0,J9+upgrowth!K7-upgrowth!K8-Mortality!K8)-TreesCut!J9 -> 11.546525 | ... CY9: =MAX(0,CX9+upgrowth!CY7-upgrowth!CY8-Mortality!CY8)-TreesCut!CX9 -> 23.605934
A10: Softwood | B10: =B9+2 -> 12 | C10: 12 | D10: =MAX(0,C10+upgrowth!D8-upgrowth!D9-Mortality!D9)-TreesCut!C10 -> 8.3008875 | E10: =MAX(0,D10+upgrowth!E8-upgrowth!E9-Mortality!E9)-TreesCut!D10 -> 8.5683581 | F10: =MAX(0,E10+upgrowth!F8-upgrowth!F9-Mortality!F9)-TreesCut!E10 -> 8.8330963 | G10: =MAX(0,F10+upgrowth!G8-upgrowth!G9-Mortality!G9)-TreesCut!F10 -> 9.0627038 | H10: =MAX(0,G10+upgrowth!H8-upgrowth!H9-Mortality!H9)-TreesCut!G10 -> 9.2599252 | I10: =MAX(0,H10+upgrowth!I8-upgrowth!I9-Mortality!I9)-TreesCut!H10 -> 9.4274711 | J10: =MAX(0,I10+upgrowth!J8-upgrowth!J9-Mortality!J9)-TreesCut!I10 -> 9.567919 | K10: =MAX(0,J10+upgrowth!K8-upgrowth!K9-Mortality!K9)-TreesCut!J10 -> 9.683685 | ... CY10: =MAX(0,CX10+upgrowth!CY8-upgrowth!CY9-Mortality!CY9)-TreesCut!CX10 -> 21.742567
A11: Softwood | B11: =B10+2 -> 14 | C11: 10 | D11: =MAX(0,C11+upgrowth!D9-upgrowth!D10-Mortality!D10)-TreesCut!C11 -> 5.4335373 | E11: =MAX(0,D11+upgrowth!E9-upgrowth!E10-Mortality!E10)-TreesCut!D11 -> 0.2721855 | F11: =MAX(0,E11+upgrowth!F9-upgrowth!F10-Mortality!F10)-TreesCut!E11 -> 1.1932874 | G11: =MAX(0,F11+upgrowth!G9-upgrowth!G10-Mortality!G10)-TreesCut!F11 -> 2.0354308 | H11: =MAX(0,G11+upgrowth!H9-upgrowth!H10-Mortality!H10)-TreesCut!G11 -> 2.8040579 | I11: =MAX(0,H11+upgrowth!I9-upgrowth!I10-Mortality!I10)-TreesCut!H11 -> 3.504279 | J11: =MAX(0,I11+upgrowth!J9-upgrowth!J10-Mortality!J10)-TreesCut!I11 -> 4.1409069 | K11: =MAX(0,J11+upgrowth!K9-upgrowth!K10-Mortality!K10)-TreesCut!J11 -> 0.57756858 | ... CY11: =MAX(0,CX11+upgrowth!CY9-upgrowth!CY10-Mortality!CY10)-TreesCut!CX11 -> 5.3172354
A12: Softwood | B12: =B11+2 -> 16 | C12: 7.4 | D12: =MAX(0,C12+upgrowth!D10-upgrowth!D11-Mortality!D11)-TreesCut!C12 -> 3.45203 | E12: =MAX(0,D12+upgrowth!E10-upgrowth!E11-Mortality!E11)-TreesCut!D12 -> 0.21037823 | F12: =MAX(0,E12+upgrowth!F10-upgrowth!F11-Mortality!F11)-TreesCut!E12 -> 0.21721921 | G12: =MAX(0,F12+upgrowth!G10-upgrowth!G11-Mortality!G11)-TreesCut!F12 -> 0.32933811 | H12: =MAX(0,G12+upgrowth!H10-upgrowth!H11-Mortality!H11)-TreesCut!G12 -> 0.52490268 | I12: =MAX(0,H12+upgrowth!I10-upgrowth!I11-Mortality!I11)-TreesCut!H12 -> 0.78536295 | J12: =MAX(0,I12+upgrowth!J10-upgrowth!J11-Mortality!J11)-TreesCut!I12 -> 1.0950156 | K12: =MAX(0,J12+upgrowth!K10-upgrowth!K11-Mortality!K11)-TreesCut!J12 -> 0.34560872 | ... CY12: =MAX(0,CX12+upgrowth!CY10-upgrowth!CY11-Mortality!CY11)-TreesCut!CX12 -> 1.0930912
A13: Softwood | B13: =B12+2 -> 18 | C13: 4.1 | D13: =MAX(0,C13+upgrowth!D11-upgrowth!D12-Mortality!D12)-TreesCut!C13 -> 2.046843 | E13: =MAX(0,D13+upgrowth!E11-upgrowth!E12-Mortality!E12)-TreesCut!D13 -> 0.15761365 | F13: =MAX(0,E13+upgrowth!F11-upgrowth!F12-Mortality!F12)-TreesCut!E13 -> 0.16401234 | G13: =MAX(0,F13+upgrowth!G11-upgrowth!G12-Mortality!G12)-TreesCut!F13 -> 0.17045791 | H13: =MAX(0,G13+upgrowth!H11-upgrowth!H12-Mortality!H12)-TreesCut!G13 -> 0.18918754 | I13: =MAX(0,H13+upgrowth!I11-upgrowth!I12-Mortality!I12)-TreesCut!H13 -> 0.22841108 | J13: =MAX(0,I13+upgrowth!J11-upgrowth!J12-Mortality!J12)-TreesCut!I13 -> 0.29318437 | K13: =MAX(0,J13+upgrowth!K11-upgrowth!K12-Mortality!K12)-TreesCut!J13 -> 0.092941581 | ... CY13: =MAX(0,CX13+upgrowth!CY11-upgrowth!CY12-Mortality!CY12)-TreesCut!CX13 -> 0.35217313
A14: Softwood | B14: =B13+2 -> 20 | C14: 2.4 | D14: =MAX(0,C14+upgrowth!D12-upgrowth!D13-Mortality!D13)-TreesCut!C14 -> 1.0793316 | E14: =MAX(0,D14+upgrowth!E12-upgrowth!E13-Mortality!E13)-TreesCut!D14 -> 0.10858436 | F14: =MAX(0,E14+upgrowth!F12-upgrowth!F13-Mortality!F13)-TreesCut!E14 -> 0.1146988 | G14: =MAX(0,F14+upgrowth!G12-upgrowth!G13-Mortality!G13)-TreesCut!F14 -> 0.12085634 | H14: =MAX(0,G14+upgrowth!H12-upgrowth!H13-Mortality!H13)-TreesCut!G14 -> 0.12705623 | I14: =MAX(0,H14+upgrowth!I12-upgrowth!I13-Mortality!I13)-TreesCut!H14 -> 0.13469915 | J14: =MAX(0,I14+upgrowth!J12-upgrowth!J13-Mortality!J13)-TreesCut!I14 -> 0.1459578 | K14: =MAX(0,J14+upgrowth!K12-upgrowth!K13-Mortality!K13)-TreesCut!J14 -> 0.017365271 | ... CY14: =MAX(0,CX14+upgrowth!CY12-upgrowth!CY13-Mortality!CY13)-TreesCut!CX14 -> 0.10200471
A15: Softwood | B15: =B14+2 -> 22 | C15: 1.4 | D15: =MAX(0,C15+upgrowth!D13-upgrowth!D14-Mortality!D14)-TreesCut!C15 -> 0.50071465 | E15: =MAX(0,D15+upgrowth!E13-upgrowth!E14-Mortality!E14)-TreesCut!D15 -> 0.061795272 | F15: =MAX(0,E15+upgrowth!F13-upgrowth!F14-Mortality!F14)-TreesCut!E15 -> 0.067232593 | G15: =MAX(0,F15+upgrowth!G13-upgrowth!G14-Mortality!G14)-TreesCut!F15 -> 0.072752437 | H15: =MAX(0,G15+upgrowth!H13-upgrowth!H14-Mortality!H14)-TreesCut!G15 -> 0.078349355 | I15: =MAX(0,H15+upgrowth!I13-upgrowth!I14-Mortality!I14)-TreesCut!H15 -> 0.084018352 | J15: =MAX(0,I15+upgrowth!J13-upgrowth!J14-Mortality!J14)-TreesCut!I15 -> 0.08990878 | K15: =MAX(0,J15+upgrowth!K13-upgrowth!K14-Mortality!K14)-TreesCut!J15 -> 0.0064819967 | ... CY15: =MAX(0,CX15+upgrowth!CY13-upgrowth!CY14-Mortality!CY14)-TreesCut!CX15 -> 0.026493704
A16: Softwood | B16: =B15+2 -> 24 | C16: 0.6 | D16: =MAX(0,C16+upgrowth!D14-upgrowth!D15-Mortality!D15)-TreesCut!C16 -> 0.27284836 | E16: =MAX(0,D16+upgrowth!E14-upgrowth!E15-Mortality!E15)-TreesCut!D16 -> 0.022424649 | F16: =MAX(0,E16+upgrowth!F14-upgrowth!F15-Mortality!F15)-TreesCut!E16 -> 0.026558001 | G16: =MAX(0,F16+upgrowth!G14-upgrowth!G15-Mortality!G15)-TreesCut!F16 -> 0.030824067 | H16: =MAX(0,G16+upgrowth!H14-upgrowth!H15-Mortality!H15)-TreesCut!G16 -> 0.03521643 | I16: =MAX(0,H16+upgrowth!I14-upgrowth!I15-Mortality!I15)-TreesCut!H16 -> 0.039728711 | J16: =MAX(0,I16+upgrowth!J14-upgrowth!J15-Mortality!J15)-TreesCut!I16 -> 0.044354614 | K16: =MAX(0,J16+upgrowth!K14-upgrowth!K15-Mortality!K15)-TreesCut!J16 -> 0.0047490922 | ... CY16: =MAX(0,CX16+upgrowth!CY14-upgrowth!CY15-Mortality!CY15)-TreesCut!CX16 -> 0.0067787776
A17: Softwood | B17: =B16+2 -> 26 | C17: 0.5 | D17: =MAX(0,C17+upgrowth!D15-upgrowth!D16-Mortality!D16)-TreesCut!C17 -> 0.14039613 | E17: =MAX(0,D17+upgrowth!E15-upgrowth!E16-Mortality!E16)-TreesCut!D17 -> 0.021568367 | F17: =MAX(0,E17+upgrowth!F15-upgrowth!F16-Mortality!F16)-TreesCut!E17 -> 0.023362509 | G17: =MAX(0,F17+upgrowth!G15-upgrowth!G16-Mortality!G16)-TreesCut!F17 -> 0.025510702 | H17: =MAX(0,G17+upgrowth!H15-upgrowth!H16-Mortality!H16)-TreesCut!G17 -> 0.028017493 | I17: =MAX(0,H17+upgrowth!I15-upgrowth!I16-Mortality!I16)-TreesCut!H17 -> 0.030886443 | J17: =MAX(0,I17+upgrowth!J15-upgrowth!J16-Mortality!J16)-TreesCut!I17 -> 0.034120138 | K17: =MAX(0,J17+upgrowth!K15-upgrowth!K16-Mortality!K16)-TreesCut!J17 -> 0.003600067 | ... CY17: =MAX(0,CX17+upgrowth!CY15-upgrowth!CY16-Mortality!CY16)-TreesCut!CX17 -> 0.0019759496
A18: Soft hardwood | B18: 2 | C18: 158.9 | D18: =MAX(0,C18+ingrowth!D17-upgrowth!D17-Mortality!D17)-TreesCut!C18 -> 117.50057 | E18: =MAX(0,D18+ingrowth!E17-upgrowth!E17-Mortality!E17)-TreesCut!D18 -> 3.0833901 | F18: =MAX(0,E18+ingrowth!F17-upgrowth!F17-Mortality!F17)-TreesCut!E18 -> 12.163558 | G18: =MAX(0,F18+ingrowth!G17-upgrowth!G17-Mortality!G17)-TreesCut!F18 -> 20.745202 | H18: =MAX(0,G18+ingrowth!H17-upgrowth!H17-Mortality!H17)-TreesCut!G18 -> 28.856273 | I18: =MAX(0,H18+ingrowth!I17-upgrowth!I17-Mortality!I17)-TreesCut!H18 -> 36.522984 | J18: =MAX(0,I18+ingrowth!J17-upgrowth!J17-Mortality!J17)-TreesCut!I18 -> 43.76994 | K18: =MAX(0,J18+ingrowth!K17-upgrowth!K17-Mortality!K17)-TreesCut!J18 -> 6.8502915 | ... CY18: =MAX(0,CX18+ingrowth!CY17-upgrowth!CY17-Mortality!CY17)-TreesCut!CX18 -> 19.763222
A19: Soft hardwood | B19: =B18+2 -> 4 | C19: 44.8 | D19: =MAX(0,C19+upgrowth!D17-upgrowth!D18-Mortality!D18)-TreesCut!C19 -> 30.240626 | E19: =MAX(0,D19+upgrowth!E17-upgrowth!E18-Mortality!E18)-TreesCut!D19 -> 2.1678988 | F19: =MAX(0,E19+upgrowth!F17-upgrowth!F18-Mortality!F18)-TreesCut!E19 -> 2.1518018 | G19: =MAX(0,F19+upgrowth!G17-upgrowth!G18-Mortality!G18)-TreesCut!F19 -> 2.4890625 | H19: =MAX(0,G19+upgrowth!H17-upgrowth!H18-Mortality!H18)-TreesCut!G19 -> 3.1339025 | I19: =MAX(0,H19+upgrowth!I17-upgrowth!I18-Mortality!I18)-TreesCut!H19 -> 4.0447965 | J19: =MAX(0,I19+upgrowth!J17-upgrowth!J18-Mortality!J18)-TreesCut!I19 -> 5.1841316 | K19: =MAX(0,J19+upgrowth!K17-upgrowth!K18-Mortality!K18)-TreesCut!J19 -> 1.3337583 | ... CY19: =MAX(0,CX19+upgrowth!CY17-upgrowth!CY18-Mortality!CY18)-TreesCut!CX19 -> 1.5401823
A20: Soft hardwood | B20: =B19+2 -> 6 | C20: 20.3 | D20: =MAX(0,C20+upgrowth!D18-upgrowth!D19-Mortality!D19)-TreesCut!C20 -> 12.731517 | E20: =MAX(0,D20+upgrowth!E18-upgrowth!E19-Mortality!E19)-TreesCut!D20 -> 0.49754134 | F20: =MAX(0,E20+upgrowth!F18-upgrowth!F19-Mortality!F19)-TreesCut!E20 -> 0.56720975 | G20: =MAX(0,F20+upgrowth!G18-upgrowth!G19-Mortality!G19)-TreesCut!F20 -> 0.63129867 | H20: =MAX(0,G20+upgrowth!H18-upgrowth!H19-Mortality!H19)-TreesCut!G20 -> 0.70656011 | I20: =MAX(0,H20+upgrowth!I18-upgrowth!I19-Mortality!I19)-TreesCut!H20 -> 0.80630406 | J20: =MAX(0,I20+upgrowth!J18-upgrowth!J19-Mortality!J19)-TreesCut!I20 -> 0.94085229 | K20: =MAX(0,J20+upgrowth!K18-upgrowth!K19-Mortality!K19)-TreesCut!J20 -> 0.17709291 | ... CY20: =MAX(0,CX20+upgrowth!CY18-upgrowth!CY19-Mortality!CY19)-TreesCut!CX20 -> 0.20546432
A21: Soft hardwood | B21: =B20+2 -> 8 | C21: 9.1 | D21: =MAX(0,C21+upgrowth!D19-upgrowth!D20-Mortality!D20)-TreesCut!C21 -> 5.1631361 | E21: =MAX(0,D21+upgrowth!E19-upgrowth!E20-Mortality!E20)-TreesCut!D21 -> 0.2946048 | F21: =MAX(0,E21+upgrowth!F19-upgrowth!F20-Mortality!F20)-TreesCut!E21 -> 0.30188294 | G21: =MAX(0,F21+upgrowth!G19-upgrowth!G20-Mortality!G20)-TreesCut!F21 -> 0.31230983 | H21: =MAX(0,G21+upgrowth!H19-upgrowth!H20-Mortality!H20)-TreesCut!G21 -> 0.32535891 | I21: =MAX(0,H21+upgrowth!I19-upgrowth!I20-Mortality!I20)-TreesCut!H21 -> 0.34141428 | J21: =MAX(0,I21+upgrowth!J19-upgrowth!J20-Mortality!J20)-TreesCut!I21 -> 0.36151668 | K21: =MAX(0,J21+upgrowth!K19-upgrowth!K20-Mortality!K20)-TreesCut!J21 -> 0.025636306 | ... CY21: =MAX(0,CX21+upgrowth!CY19-upgrowth!CY20-Mortality!CY20)-TreesCut!CX21 -> 0.02853267
A22: Soft hardwood | B22: =B21+2 -> 10 | C22: 4.3 | D22: =MAX(0,C22+upgrowth!D20-upgrowth!D21-Mortality!D21)-TreesCut!C22 -> 2.3893697 | E22: =MAX(0,D22+upgrowth!E20-upgrowth!E21-Mortality!E21)-TreesCut!D22 -> 0.12396076 | F22: =MAX(0,E22+upgrowth!F20-upgrowth!F21-Mortality!F21)-TreesCut!E22 -> 0.13277049 | G22: =MAX(0,F22+upgrowth!G20-upgrowth!G21-Mortality!G21)-TreesCut!F22 -> 0.14138761 | H22: =MAX(0,G22+upgrowth!H20-upgrowth!H21-Mortality!H21)-TreesCut!G22 -> 0.15000134 | I22: =MAX(0,H22+upgrowth!I20-upgrowth!I21-Mortality!I21)-TreesCut!H22 -> 0.15875666 | J22: =MAX(0,I22+upgrowth!J20-upgrowth!J21-Mortality!J21)-TreesCut!I22 -> 0.16780876 | K22: =MAX(0,J22+upgrowth!K20-upgrowth!K21-Mortality!K21)-TreesCut!J22 -> 0.0095497721 | ... CY22: =MAX(0,CX22+upgrowth!CY20-upgrowth!CY21-Mortality!CY21)-TreesCut!CX22 -> 0.0041680545
A23: Soft hardwood | B23: =B22+2 -> 12 | C23: 1.8 | D23: =MAX(0,C23+upgrowth!D21-upgrowth!D22-Mortality!D22)-TreesCut!C23 -> 1.1133742 | E23: =MAX(0,D23+upgrowth!E21-upgrowth!E22-Mortality!E22)-TreesCut!D23 -> 0.063334 | F23: =MAX(0,E23+upgrowth!F21-upgrowth!F22-Mortality!F22)-TreesCut!E23 -> 0.066654917 | G23: =MAX(0,F23+upgrowth!G21-upgrowth!G22-Mortality!G22)-TreesCut!F23 -> 0.070272122 | H23: =MAX(0,G23+upgrowth!H21-upgrowth!H22-Mortality!H22)-TreesCut!G23 -> 0.074151982 | I23: =MAX(0,H23+upgrowth!I21-upgrowth!I22-Mortality!I22)-TreesCut!H23 -> 0.078274309 | J23: =MAX(0,I23+upgrowth!J21-upgrowth!J22-Mortality!J22)-TreesCut!I23 -> 0.082628733 | K23: =MAX(0,J23+upgrowth!K21-upgrowth!K22-Mortality!K22)-TreesCut!J23 -> 0.0045857814 | ... CY23: =MAX(0,CX23+upgrowth!CY21-upgrowth!CY22-Mortality!CY22)-TreesCut!CX23 -> 0.00065555214
A24: Soft hardwood | B24: =B23+2 -> 14 | C24: 1.2 | D24: =MAX(0,C24+upgrowth!D22-upgrowth!D23-Mortality!D23)-TreesCut!C24 -> 0.52610772 | E24: =MAX(0,D24+upgrowth!E22-upgrowth!E23-Mortality!E23)-TreesCut!D24 -> 0.030372189 | F24: =MAX(0,E24+upgrowth!F22-upgrowth!F23-Mortality!F23)-TreesCut!E24 -> 0.032269783 | G24: =MAX(0,F24+upgrowth!G22-upgrowth!G23-Mortality!G23)-TreesCut!F24 -> 0.03423961 | H24: =MAX(0,G24+upgrowth!H22-upgrowth!H23-Mortality!H23)-TreesCut!G24 -> 0.036293765 | I24: =MAX(0,H24+upgrowth!I22-upgrowth!I23-Mortality!I23)-TreesCut!H24 -> 0.038441367 | J24: =MAX(0,I24+upgrowth!J22-upgrowth!J23-Mortality!J23)-TreesCut!I24 -> 0.040689578 | K24: =MAX(0,J24+upgrowth!K22-upgrowth!K23-Mortality!K23)-TreesCut!J24 -> 0.0023547479 | ... CY24: =MAX(0,CX24+upgrowth!CY22-upgrowth!CY23-Mortality!CY23)-TreesCut!CX24 -> 0.00010463765
A25: Soft hardwood | B25: =B24+2 -> 16 | C25: 0.7 | D25: =MAX(0,C25+upgrowth!D23-upgrowth!D24-Mortality!D24)-TreesCut!C25 -> 0.32236443 | E25: =MAX(0,D25+upgrowth!E23-upgrowth!E24-Mortality!E24)-TreesCut!D25 -> 0.010033003 | F25: =MAX(0,E25+upgrowth!F23-upgrowth!F24-Mortality!F24)-TreesCut!E25 -> 0.011211806 | G25: =MAX(0,F25+upgrowth!G23-upgrowth!G24-Mortality!G24)-TreesCut!F25 -> 0.012425262 | H25: =MAX(0,G25+upgrowth!H23-upgrowth!H24-Mortality!H24)-TreesCut!G25 -> 0.013674896 | I25: =MAX(0,H25+upgrowth!I23-upgrowth!I24-Mortality!I24)-TreesCut!H25 -> 0.014962794 | J25: =MAX(0,I25+upgrowth!J23-upgrowth!J24-Mortality!J24)-TreesCut!I25 -> 0.016291388 | K25: =MAX(0,J25+upgrowth!K23-upgrowth!K24-Mortality!K24)-TreesCut!J25 -> 0.0013719194 | ... CY25: =MAX(0,CX25+upgrowth!CY23-upgrowth!CY24-Mortality!CY24)-TreesCut!CX25 -> 1.6393282e-05
A26: Soft hardwood | B26: =B25+2 -> 18 | C26: 0.3 | D26: =MAX(0,C26+upgrowth!D24-upgrowth!D25-Mortality!D25)-TreesCut!C26 -> 0.11716115 | E26: =MAX(0,D26+upgrowth!E24-upgrowth!E25-Mortality!E25)-TreesCut!D26 -> 0.0099537752 | F26: =MAX(0,E26+upgrowth!F24-upgrowth!F25-Mortality!F25)-TreesCut!E26 -> 0.0099236061 | G26: =MAX(0,F26+upgrowth!G24-upgrowth!G25-Mortality!G25)-TreesCut!F26 -> 0.0099614527 | H26: =MAX(0,G26+upgrowth!H24-upgrowth!H25-Mortality!H25)-TreesCut!G26 -> 0.01006462 | I26: =MAX(0,H26+upgrowth!I24-upgrowth!I25-Mortality!I25)-TreesCut!H26 -> 0.01023064 | J26: =MAX(0,I26+upgrowth!J24-upgrowth!J25-Mortality!J25)-TreesCut!I26 -> 0.010457288 | K26: =MAX(0,J26+upgrowth!K24-upgrowth!K25-Mortality!K25)-TreesCut!J26 -> 0.0002852995 | ... CY26: =MAX(0,CX26+upgrowth!CY24-upgrowth!CY25-Mortality!CY25)-TreesCut!CX26 -> 2.4529119e-06
A27: Soft hardwood | B27: =B26+2 -> 20 | C27: 0.1 | D27: =MAX(0,C27+upgrowth!D25-upgrowth!D26-Mortality!D26)-TreesCut!C27 -> 0.10762257 | E27: =MAX(0,D27+upgrowth!E25-upgrowth!E26-Mortality!E26)-TreesCut!D27 -> -0.00017315321 | F27: =MAX(0,E27+upgrowth!F25-upgrowth!F26-Mortality!F26)-TreesCut!E27 -> 0.00034305004 | G27: =MAX(0,F27+upgrowth!G25-upgrowth!G26-Mortality!G26)-TreesCut!F27 -> 0.00083572202 | H27: =MAX(0,G27+upgrowth!H25-upgrowth!H26-Mortality!H26)-TreesCut!G27 -> 0.0012998834 | I27: =MAX(0,H27+upgrowth!I25-upgrowth!I26-Mortality!I26)-TreesCut!H27 -> 0.0017406133 | J27: =MAX(0,I27+upgrowth!J25-upgrowth!J26-Mortality!J26)-TreesCut!I27 -> 0.0021625207 | K27: =MAX(0,J27+upgrowth!K25-upgrowth!K26-Mortality!K26)-TreesCut!J27 -> 0.00040726428 | ... CY27: =MAX(0,CX27+upgrowth!CY25-upgrowth!CY26-Mortality!CY26)-TreesCut!CX27 -> 3.3698891e-07
A28: Soft hardwood | B28: =B27+2 -> 22 | C28: 0.1 | D28: =MAX(0,C28+upgrowth!D26-upgrowth!D27-Mortality!D27)-TreesCut!C28 -> -0.000916 | E28: =MAX(0,D28+upgrowth!E26-upgrowth!E27-Mortality!E27)-TreesCut!D28 -> 0.0033473402 | F28: =MAX(0,E28+upgrowth!F26-upgrowth!F27-Mortality!F27)-TreesCut!E28 -> 0.0031642406 | G28: =MAX(0,F28+upgrowth!G26-upgrowth!G27-Mortality!G27)-TreesCut!F28 -> 0.0030074349 | H28: =MAX(0,G28+upgrowth!H26-upgrowth!H27-Mortality!H27)-TreesCut!G28 -> 0.0028820227 | I28: =MAX(0,H28+upgrowth!I26-upgrowth!I27-Mortality!I27)-TreesCut!H28 -> 0.0027847328 | J28: =MAX(0,I28+upgrowth!J26-upgrowth!J27-Mortality!J27)-TreesCut!I28 -> 0.0027127206 | K28: =MAX(0,J28+upgrowth!K26-upgrowth!K27-Mortality!K27)-TreesCut!J28 -> -4.920024e-05 | ... CY28: =MAX(0,CX28+upgrowth!CY26-upgrowth!CY27-Mortality!CY27)-TreesCut!CX28 -> 4.0371544e-08
A29: Soft hardwood | B29: =B28+2 -> 24 | C29: 0 | D29: =MAX(0,C29+upgrowth!D27-upgrowth!D28-Mortality!D28)-TreesCut!C29 -> 0.0026552864 | E29: =MAX(0,D29+upgrowth!E27-upgrowth!E28-Mortality!E28)-TreesCut!D29 -> -0.00012069289 | F29: =MAX(0,E29+upgrowth!F27-upgrowth!F28-Mortality!F28)-TreesCut!E29 -> 4.6986394e-06 | G29: =MAX(0,F29+upgrowth!G27-upgrowth!G28-Mortality!G28)-TreesCut!F29 -> 0.0001222552 | H29: =MAX(0,G29+upgrowth!H27-upgrowth!H28-Mortality!H28)-TreesCut!G29 -> 0.00022725627 | I29: =MAX(0,H29+upgrowth!I27-upgrowth!I28-Mortality!I28)-TreesCut!H29 -> 0.00032159403 | J29: =MAX(0,I29+upgrowth!J27-upgrowth!J28-Mortality!J28)-TreesCut!I29 -> 0.00040692096 | K29: =MAX(0,J29+upgrowth!K27-upgrowth!K28-Mortality!K28)-TreesCut!J29 -> 7.7758947e-05 | ... CY29: =MAX(0,CX29+upgrowth!CY27-upgrowth!CY28-Mortality!CY28)-TreesCut!CX29 -> 3.9068345e-09
A30: Soft hardwood | B30: =B29+2 -> 26 | C30: 0 | D30: =MAX(0,C30+upgrowth!D28-upgrowth!D29-Mortality!D29)-TreesCut!C30 -> 0 | E30: =MAX(0,D30+upgrowth!E28-upgrowth!E29-Mortality!E29)-TreesCut!D30 -> 5.7603281e-05 | F30: =MAX(0,E30+upgrowth!F28-upgrowth!F29-Mortality!F29)-TreesCut!E30 -> 5.5785322e-05 | G30: =MAX(0,F30+upgrowth!G28-upgrowth!G29-Mortality!G29)-TreesCut!F30 -> 5.4153421e-05 | H30: =MAX(0,G30+upgrowth!H28-upgrowth!H29-Mortality!H29)-TreesCut!G30 -> 5.5762723e-05 | I30: =MAX(0,H30+upgrowth!I28-upgrowth!I29-Mortality!I29)-TreesCut!H30 -> 6.0113053e-05 | J30: =MAX(0,I30+upgrowth!J28-upgrowth!J29-Mortality!J29)-TreesCut!I30 -> 6.6776389e-05 | K30: =MAX(0,J30+upgrowth!K28-upgrowth!K29-Mortality!K29)-TreesCut!J30 -> 8.6107393e-06 | ... CY30: =MAX(0,CX30+upgrowth!CY28-upgrowth!CY29-Mortality!CY29)-TreesCut!CX30 -> 2.7434469e-10
A31: Hard hardwood | B31: 2 | C31: 141.9 | D31: =MAX(0,C31+ingrowth!D30-upgrowth!D30-Mortality!D30)-TreesCut!C31 -> 128.85372 | E31: =MAX(0,D31+ingrowth!E30-upgrowth!E30-Mortality!E30)-TreesCut!D31 -> 1.3265083 | F31: =MAX(0,E31+ingrowth!F30-upgrowth!F30-Mortality!F30)-TreesCut!E31 -> 10.358702 | G31: =MAX(0,F31+ingrowth!G30-upgrowth!G30-Mortality!G30)-TreesCut!F31 -> 18.781114 | H31: =MAX(0,G31+ingrowth!H30-upgrowth!H30-Mortality!H30)-TreesCut!G31 -> 26.636721 | I31: =MAX(0,H31+ingrowth!I30-upgrowth!I30-Mortality!I30)-TreesCut!H31 -> 33.96531 | J31: =MAX(0,I31+ingrowth!J30-upgrowth!J30-Mortality!J30)-TreesCut!I31 -> 40.803727 | K31: =MAX(0,J31+ingrowth!K30-upgrowth!K30-Mortality!K30)-TreesCut!J31 -> 6.3823581 | ... CY31: =MAX(0,CX31+ingrowth!CY30-upgrowth!CY30-Mortality!CY30)-TreesCut!CX31 -> 19.079173
A32: Hard hardwood | B32: =B31+2 -> 4 | C32: 33.3 | D32: =MAX(0,C32+upgrowth!D30-upgrowth!D31-Mortality!D31)-TreesCut!C32 -> 28.010181 | E32: =MAX(0,D32+upgrowth!E30-upgrowth!E31-Mortality!E31)-TreesCut!D32 -> 2.033114 | F32: =MAX(0,E32+upgrowth!F30-upgrowth!F31-Mortality!F31)-TreesCut!E32 -> 1.9245136 | G32: =MAX(0,F32+upgrowth!G30-upgrowth!G31-Mortality!G31)-TreesCut!F32 -> 2.1958258 | H32: =MAX(0,G32+upgrowth!H30-upgrowth!H31-Mortality!H31)-TreesCut!G32 -> 2.7841269 | I32: =MAX(0,H32+upgrowth!I30-upgrowth!I31-Mortality!I31)-TreesCut!H32 -> 3.6339746 | J32: =MAX(0,I32+upgrowth!J30-upgrowth!J31-Mortality!J31)-TreesCut!I32 -> 4.6966287 | K32: =MAX(0,J32+upgrowth!K30-upgrowth!K31-Mortality!K31)-TreesCut!J32 -> 1.2327146 | ... CY32: =MAX(0,CX32+upgrowth!CY30-upgrowth!CY31-Mortality!CY31)-TreesCut!CX32 -> 1.3373729
A33: Hard hardwood | B33: =B32+2 -> 6 | C33: 11.7 | D33: =MAX(0,C33+upgrowth!D31-upgrowth!D32-Mortality!D32)-TreesCut!C33 -> 10.974974 | E33: =MAX(0,D33+upgrowth!E31-upgrowth!E32-Mortality!E32)-TreesCut!D33 -> 0.4705437 | F33: =MAX(0,E33+upgrowth!F31-upgrowth!F32-Mortality!F32)-TreesCut!E33 -> 0.54670866 | G33: =MAX(0,F33+upgrowth!G31-upgrowth!G32-Mortality!G32)-TreesCut!F33 -> 0.60921481 | H33: =MAX(0,G33+upgrowth!H31-upgrowth!H32-Mortality!H32)-TreesCut!G33 -> 0.68113836 | I33: =MAX(0,H33+upgrowth!I31-upgrowth!I32-Mortality!I32)-TreesCut!H33 -> 0.77943354 | J33: =MAX(0,I33+upgrowth!J31-upgrowth!J32-Mortality!J32)-TreesCut!I33 -> 0.91600294 | K33: =MAX(0,J33+upgrowth!K31-upgrowth!K32-Mortality!K32)-TreesCut!J33 -> 0.18261359 | ... CY33: =MAX(0,CX33+upgrowth!CY31-upgrowth!CY32-Mortality!CY32)-TreesCut!CX33 -> 0.19696615
A34: Hard hardwood | B34: =B33+2 -> 8 | C34: 6.2 | D34: =MAX(0,C34+upgrowth!D32-upgrowth!D33-Mortality!D33)-TreesCut!C34 -> 5.4435567 | E34: =MAX(0,D34+upgrowth!E32-upgrowth!E33-Mortality!E33)-TreesCut!D34 -> 0.21228507 | F34: =MAX(0,E34+upgrowth!F32-upgrowth!F33-Mortality!F33)-TreesCut!E34 -> 0.22591763 | G34: =MAX(0,F34+upgrowth!G32-upgrowth!G33-Mortality!G33)-TreesCut!F34 -> 0.24363309 | H34: =MAX(0,G34+upgrowth!H32-upgrowth!H33-Mortality!H33)-TreesCut!G34 -> 0.26399862 | I34: =MAX(0,H34+upgrowth!I32-upgrowth!I33-Mortality!I33)-TreesCut!H34 -> 0.28738584 | J34: =MAX(0,I34+upgrowth!J32-upgrowth!J33-Mortality!J33)-TreesCut!I34 -> 0.31532093 | K34: =MAX(0,J34+upgrowth!K32-upgrowth!K33-Mortality!K33)-TreesCut!J34 -> 0.034665313 | ... CY34: =MAX(0,CX34+upgrowth!CY32-upgrowth!CY33-Mortality!CY33)-TreesCut!CX34 -> 0.033964105
A35: Hard hardwood | B35: =B34+2 -> 10 | C35: 3.4 | D35: =MAX(0,C35+upgrowth!D33-upgrowth!D34-Mortality!D34)-TreesCut!C35 -> 2.8215074 | E35: =MAX(0,D35+upgrowth!E33-upgrowth!E34-Mortality!E34)-TreesCut!D35 -> 0.14363264 | F35: =MAX(0,E35+upgrowth!F33-upgrowth!F34-Mortality!F34)-TreesCut!E35 -> 0.14681565 | G35: =MAX(0,F35+upgrowth!G33-upgrowth!G34-Mortality!G34)-TreesCut!F35 -> 0.15079804 | H35: =MAX(0,G35+upgrowth!H33-upgrowth!H34-Mortality!H34)-TreesCut!G35 -> 0.1558317 | I35: =MAX(0,H35+upgrowth!I33-upgrowth!I34-Mortality!I34)-TreesCut!H35 -> 0.16201723 | J35: =MAX(0,I35+upgrowth!J33-upgrowth!J34-Mortality!J34)-TreesCut!I35 -> 0.16947292 | K35: =MAX(0,J35+upgrowth!K33-upgrowth!K34-Mortality!K34)-TreesCut!J35 -> 0.0089551476 | ... CY35: =MAX(0,CX35+upgrowth!CY33-upgrowth!CY34-Mortality!CY34)-TreesCut!CX35 -> 0.006551171
A36: Hard hardwood | B36: =B35+2 -> 12 | C36: 1.9 | D36: =MAX(0,C36+upgrowth!D34-upgrowth!D35-Mortality!D35)-TreesCut!C36 -> 1.6878918 | E36: =MAX(0,D36+upgrowth!E34-upgrowth!E35-Mortality!E35)-TreesCut!D36 -> 0.072835526 | F36: =MAX(0,E36+upgrowth!F34-upgrowth!F35-Mortality!F35)-TreesCut!E36 -> 0.078589186 | G36: =MAX(0,F36+upgrowth!G34-upgrowth!G35-Mortality!G35)-TreesCut!F36 -> 0.083986608 | H36: =MAX(0,G36+upgrowth!H34-upgrowth!H35-Mortality!H35)-TreesCut!G36 -> 0.089143403 | I36: =MAX(0,H36+upgrowth!I34-upgrowth!I35-Mortality!I35)-TreesCut!H36 -> 0.094185034 | J36: =MAX(0,I36+upgrowth!J34-upgrowth!J35-Mortality!J35)-TreesCut!I36 -> 0.099231119 | K36: =MAX(0,J36+upgrowth!K34-upgrowth!K35-Mortality!K35)-TreesCut!J36 -> 0.0051664938 | ... CY36: =MAX(0,CX36+upgrowth!CY34-upgrowth!CY35-Mortality!CY35)-TreesCut!CX36 -> 0.0014616814
A37: Hard hardwood | B37: =B36+2 -> 14 | C37: 1.5 | D37: =MAX(0,C37+upgrowth!D35-upgrowth!D36-Mortality!D36)-TreesCut!C37 -> 1.1175725 | E37: =MAX(0,D37+upgrowth!E35-upgrowth!E36-Mortality!E36)-TreesCut!D37 -> 0.041313108 | F37: =MAX(0,E37+upgrowth!F35-upgrowth!F36-Mortality!F36)-TreesCut!E37 -> 0.04415208 | G37: =MAX(0,F37+upgrowth!G35-upgrowth!G36-Mortality!G36)-TreesCut!F37 -> 0.04725018 | H37: =MAX(0,G37+upgrowth!H35-upgrowth!H36-Mortality!H36)-TreesCut!G37 -> 0.050537597 | I37: =MAX(0,H37+upgrowth!I35-upgrowth!I36-Mortality!I36)-TreesCut!H37 -> 0.053965081 | J37: =MAX(0,I37+upgrowth!J35-upgrowth!J36-Mortality!J36)-TreesCut!I37 -> 0.057502353 | K37: =MAX(0,J37+upgrowth!K35-upgrowth!K36-Mortality!K36)-TreesCut!J37 -> 0.0036327144 | ... CY37: =MAX(0,CX37+upgrowth!CY35-upgrowth!CY36-Mortality!CY36)-TreesCut!CX37 -> 0.0003546332
A38: Hard hardwood | B38: =B37+2 -> 16 | C38: 0.8 | D38: =MAX(0,C38+upgrowth!D36-upgrowth!D37-Mortality!D37)-TreesCut!C38 -> 0.65704685 | E38: =MAX(0,D38+upgrowth!E36-upgrowth!E37-Mortality!E37)-TreesCut!D38 -> 0.04041254 | F38: =MAX(0,E38+upgrowth!F36-upgrowth!F37-Mortality!F37)-TreesCut!E38 -> 0.040148861 | G38: =MAX(0,F38+upgrowth!G36-upgrowth!G37-Mortality!G37)-TreesCut!F38 -> 0.040230546 | H38: =MAX(0,G38+upgrowth!H36-upgrowth!H37-Mortality!H37)-TreesCut!G38 -> 0.040642278 | I38: =MAX(0,H38+upgrowth!I36-upgrowth!I37-Mortality!I37)-TreesCut!H38 -> 0.041362819 | J38: =MAX(0,I38+upgrowth!J36-upgrowth!J37-Mortality!J37)-TreesCut!I38 -> 0.042368074 | K38: =MAX(0,J38+upgrowth!K36-upgrowth!K37-Mortality!K37)-TreesCut!J38 -> 0.0012655001 | ... CY38: =MAX(0,CX38+upgrowth!CY36-upgrowth!CY37-Mortality!CY37)-TreesCut!CX38 -> 9.0334846e-05
A39: Hard hardwood | B39: =B38+2 -> 18 | C39: 0.6 | D39: =MAX(0,C39+upgrowth!D37-upgrowth!D38-Mortality!D38)-TreesCut!C39 -> 0.31435624 | E39: =MAX(0,D39+upgrowth!E37-upgrowth!E38-Mortality!E38)-TreesCut!D39 -> 0.03347116 | F39: =MAX(0,E39+upgrowth!F37-upgrowth!F38-Mortality!F38)-TreesCut!E39 -> 0.033999665 | G39: =MAX(0,F39+upgrowth!G37-upgrowth!G38-Mortality!G38)-TreesCut!F39 -> 0.034429669 | H39: =MAX(0,G39+upgrowth!H37-upgrowth!H38-Mortality!H38)-TreesCut!G39 -> 0.034813487 | I39: =MAX(0,H39+upgrowth!I37-upgrowth!I38-Mortality!I38)-TreesCut!H39 -> 0.035194722 | J39: =MAX(0,I39+upgrowth!J37-upgrowth!J38-Mortality!J38)-TreesCut!I39 -> 0.035608717 | K39: =MAX(0,J39+upgrowth!K37-upgrowth!K38-Mortality!K38)-TreesCut!J39 -> 0.00047461043 | ... CY39: =MAX(0,CX39+upgrowth!CY37-upgrowth!CY38-Mortality!CY38)-TreesCut!CX39 -> 2.3870301e-05
A40: Hard hardwood | B40: =B39+2 -> 20 | C40: 0.4 | D40: =MAX(0,C40+upgrowth!D38-upgrowth!D39-Mortality!D39)-TreesCut!C40 -> 0.21635624 | E40: =MAX(0,D40+upgrowth!E38-upgrowth!E39-Mortality!E39)-TreesCut!D40 -> 0.0087031155 | F40: =MAX(0,E40+upgrowth!F38-upgrowth!F39-Mortality!F39)-TreesCut!E40 -> 0.011557797 | G40: =MAX(0,F40+upgrowth!G38-upgrowth!G39-Mortality!G39)-TreesCut!F40 -> 0.01410356 | H40: =MAX(0,G40+upgrowth!H38-upgrowth!H39-Mortality!H39)-TreesCut!G40 -> 0.01636926 | I40: =MAX(0,H40+upgrowth!I38-upgrowth!I39-Mortality!I39)-TreesCut!H40 -> 0.018386114 | J40: =MAX(0,I40+upgrowth!J38-upgrowth!J39-Mortality!J39)-TreesCut!I40 -> 0.020186321 | K40: =MAX(0,J40+upgrowth!K38-upgrowth!K39-Mortality!K39)-TreesCut!J40 -> 0.0016156027 | ... CY40: =MAX(0,CX40+upgrowth!CY38-upgrowth!CY39-Mortality!CY39)-TreesCut!CX40 -> 6.4292321e-06
A41: Hard hardwood | B41: =B40+2 -> 22 | C41: 0.2 | D41: =MAX(0,C41+upgrowth!D39-upgrowth!D40-Mortality!D40)-TreesCut!C41 -> 0.11787624 | E41: =MAX(0,D41+upgrowth!E39-upgrowth!E40-Mortality!E40)-TreesCut!D41 -> 0.0094722705 | F41: =MAX(0,E41+upgrowth!F39-upgrowth!F40-Mortality!F40)-TreesCut!E41 -> 0.0092842173 | G41: =MAX(0,F41+upgrowth!G39-upgrowth!G40-Mortality!G40)-TreesCut!F41 -> 0.0094588629 | H41: =MAX(0,G41+upgrowth!H39-upgrowth!H40-Mortality!H40)-TreesCut!G41 -> 0.0099106179 | I41: =MAX(0,H41+upgrowth!I39-upgrowth!I40-Mortality!I40)-TreesCut!H41 -> 0.010568945 | J41: =MAX(0,I41+upgrowth!J39-upgrowth!J40-Mortality!J40)-TreesCut!I41 -> 0.01137659 | K41: =MAX(0,J41+upgrowth!K39-upgrowth!K40-Mortality!K40)-TreesCut!J41 -> 0.00091129167 | ... CY41: =MAX(0,CX41+upgrowth!CY39-upgrowth!CY40-Mortality!CY40)-TreesCut!CX41 -> 1.7325683e-06
A42: Hard hardwood | B42: =B41+2 -> 24 | C42: 0.1 | D42: =MAX(0,C42+upgrowth!D40-upgrowth!D41-Mortality!D41)-TreesCut!C42 -> 0.0085181221 | E42: =MAX(0,D42+upgrowth!E40-upgrowth!E41-Mortality!E41)-TreesCut!D42 -> 0.011589891 | F42: =MAX(0,E42+upgrowth!F40-upgrowth!F41-Mortality!F41)-TreesCut!E42 -> 0.011190447 | G42: =MAX(0,F42+upgrowth!G40-upgrowth!G41-Mortality!G41)-TreesCut!F42 -> 0.010821814 | H42: =MAX(0,G42+upgrowth!H40-upgrowth!H41-Mortality!H41)-TreesCut!G42 -> 0.010522163 | I42: =MAX(0,H42+upgrowth!I40-upgrowth!I41-Mortality!I41)-TreesCut!H42 -> 0.010314325 | J42: =MAX(0,I42+upgrowth!J40-upgrowth!J41-Mortality!J41)-TreesCut!I42 -> 0.0102097 | K42: =MAX(0,J42+upgrowth!K40-upgrowth!K41-Mortality!K41)-TreesCut!J42 -> 1.7153081e-06 | ... CY42: =MAX(0,CX42+upgrowth!CY40-upgrowth!CY41-Mortality!CY41)-TreesCut!CX42 -> 4.5984632e-07
A43: Hard hardwood | B43: =B42+2 -> 26 | C43: 0.1 | D43: =MAX(0,C43+upgrowth!D41-upgrowth!D42-Mortality!D42)-TreesCut!C43 -> 0.10723812 | E43: =MAX(0,D43+upgrowth!E41-upgrowth!E42-Mortality!E42)-TreesCut!D43 -> -0.0015197104 | F43: =MAX(0,E43+upgrowth!F41-upgrowth!F42-Mortality!F42)-TreesCut!E43 -> 0 | G43: =MAX(0,F43+upgrowth!G41-upgrowth!G42-Mortality!G42)-TreesCut!F43 -> 0.0012719866 | H43: =MAX(0,G43+upgrowth!H41-upgrowth!H42-Mortality!H42)-TreesCut!G43 -> 0.002468899 | I43: =MAX(0,H43+upgrowth!I41-upgrowth!I42-Mortality!I42)-TreesCut!H43 -> 0.0036002992 | J43: =MAX(0,I43+upgrowth!J41-upgrowth!J42-Mortality!J42)-TreesCut!I43 -> 0.0046780277 | K43: =MAX(0,J43+upgrowth!K41-upgrowth!K42-Mortality!K42)-TreesCut!J43 -> 0.0010367938 | ... CY43: =MAX(0,CX43+upgrowth!CY41-upgrowth!CY42-Mortality!CY42)-TreesCut!CX43 -> 1.5647472e-07
A44: Softwood | B44: All sizes | C44: =SUM(C5:C17) -> 130.2 | D44: =SUM(D5:D17) -> 108.72061 | E44: =SUM(E5:E17) -> 100.95683 | F44: =SUM(F5:F17) -> 112.8052 | G44: =SUM(G5:G17) -> 124.03246 | H44: =SUM(H5:H17) -> 134.64938 | I44: =SUM(I5:I17) -> 144.66594 | J44: =SUM(J5:J17) -> 154.09152 | ... CY44: =SUM(CY5:CY17) -> 294.17525
A45: Soft hardwood | B45: All sizes | C45: =SUM(C18:C30) -> 241.6 | D45: =SUM(D18:D30) -> 170.21359 | E45: =SUM(E18:E30) -> 6.2841999 | F45: =SUM(F18:F30) -> 15.440851 | G45: =SUM(G18:G30) -> 24.450178 | H45: =SUM(H18:H30) -> 33.310746 | I45: =SUM(I18:I30) -> 42.021072 | J45: =SUM(J18:J30) -> 50.579665 | ... CY45: =SUM(CY18:CY30) -> 21.542349
A46: Hard hardwood | B46: All sizes | C46: =SUM(C31:C43) -> 202.1 | D46: =SUM(D31:D43) -> 180.3308 | E46: =SUM(E31:E43) -> 4.4023615 | F46: =SUM(F31:F43) -> 13.43158 | G46: =SUM(G31:G43) -> 22.222139 | H46: =SUM(H31:H43) -> 30.776224 | I46: =SUM(I31:I43) -> 39.095698 | J46: =SUM(J31:J43) -> 47.182314 | ... CY46: =SUM(CY31:CY43) -> 20.655967
A47: All species | B47: All sizes | C47: =SUM(C44:C46) -> 573.9 | D47: =SUM(D44:D46) -> 459.265 | E47: =SUM(E44:E46) -> 111.64339 | F47: =SUM(F44:F46) -> 141.67763 | G47: =SUM(G44:G46) -> 170.70478 | H47: =SUM(H44:H46) -> 198.73635 | I47: =SUM(I44:I46) -> 225.78271 | J47: =SUM(J44:J46) -> 251.8535 | ... CY47: =SUM(CY44:CY46) -> 336.37357

Sheet TargetVsAchieved
C1: Desired vs achieved diameter distribution of trees after 100 years management.

Sheet TreesCut
C1: Number of trees cut, by species, size, and year.
A2: Site | B2: =Target!B2 -> 2
A3: Year | C3: 0 | D3: =C3+1 -> 1 | E3: =D3+1 -> 2 | F3: =E3+1 -> 3 | G3: =F3+1 -> 4 | H3: =G3+1 -> 5 | I3: =H3+1 -> 6 | J3: =I3+1 -> 7 | K3: =J3+1 -> 8 | ... CY3: =CX3+1 -> 100
A4: Species | B4: dbh (in.) | C4: trees/a | D4: trees/a | E4: trees/a | F4: trees/a | G4: trees/a | H4: trees/a | I4: trees/a | J4: trees/a | K4: trees/a | L4: trees/a | M4: trees/a | N4: trees/a | O4: trees/a | P4: trees/a | Q4: trees/a | R4: trees/a | S4: trees/a | T4: trees/a | U4: trees/a | V4: trees/a | W4: trees/a | X4: trees/a | Y4: trees/a | Z4: trees/a | AA4: trees/a | AB4: trees/a | AC4: trees/a | AD4: trees/a | AE4: trees/a | AF4: trees/a | AG4: trees/a | AH4: trees/a | AI4: trees/a | AJ4: trees/a | AK4: trees/a | AL4: trees/a | AM4: trees/a | AN4: trees/a | AO4: trees/a | AP4: trees/a | AQ4: trees/a | AR4: trees/a | AS4: trees/a | AT4: trees/a | AU4: trees/a | AV4: trees/a | AW4: trees/a | AX4: trees/a | AY4: trees/a | AZ4: trees/a | BA4: trees/a | BB4: trees/a | BC4: trees/a | BD4: trees/a | BE4: trees/a | BF4: trees/a | BG4: trees/a | BH4: trees/a | BI4: trees/a | BJ4: trees/a | BK4: trees/a | BL4: trees/a | BM4: trees/a | BN4: trees/a | BO4: trees/a | BP4: trees/a | BQ4: trees/a | BR4: trees/a | BS4: trees/a | BT4: trees/a | BU4: trees/a | BV4: trees/a | BW4: trees/a | BX4: trees/a | BY4: trees/a | BZ4: trees/a | CA4: trees/a | CB4: trees/a | CC4: trees/a | CD4: trees/a | CE4: trees/a | CF4: trees/a | CG4: trees/a | CH4: trees/a | CI4: trees/a | CJ4: trees/a | CK4: trees/a | CL4: trees/a | CM4: trees/a | CN4: trees/a | CO4: trees/a | CP4: trees/a | CQ4: trees/a | CR4: trees/a | CS4: trees/a | CT4: trees/a | CU4: trees/a | CV4: trees/a | CW4: trees/a | CX4: trees/a | CY4: trees/a
A5: Softwood | B5: 2 | C5: =MAX(0,Trees!C5-Target!C5) -> 0 | D5: =MAX(0,Trees!D5-Target!D5) -> 0 | E5: =MAX(0,Trees!E5-Target!E5) -> 0 | F5: =MAX(0,Trees!F5-Target!F5) -> 0 | G5: =MAX(0,Trees!G5-Target!G5) -> 0 | H5: =MAX(0,Trees!H5-Target!H5) -> 0 | I5: =MAX(0,Trees!I5-Target!I5) -> 0 | J5: =MAX(0,Trees!J5-Target!J5) -> 0 | ... CY5: =MAX(0,Trees!CY5-Target!CY5) -> 0
A6: Softwood | B6: =B5+2 -> 4 | C6: =MAX(0,Trees!C6-Target!C6) -> 0 | D6: =MAX(0,Trees!D6-Target!D6) -> 0 | E6: =MAX(0,Trees!E6-Target!E6) -> 0 | F6: =MAX(0,Trees!F6-Target!F6) -> 0 | G6: =MAX(0,Trees!G6-Target!G6) -> 0 | H6: =MAX(0,Trees!H6-Target!H6) -> 0 | I6: =MAX(0,Trees!I6-Target!I6) -> 0 | J6: =MAX(0,Trees!J6-Target!J6) -> 0 | ... CY6: =MAX(0,Trees!CY6-Target!CY6) -> 0
A7: Softwood | B7: =B6+2 -> 6 | C7: =MAX(0,Trees!C7-Target!C7) -> 0 | D7: =MAX(0,Trees!D7-Target!D7) -> 0 | E7: =MAX(0,Trees!E7-Target!E7) -> 0 | F7: =MAX(0,Trees!F7-Target!F7) -> 0 | G7: =MAX(0,Trees!G7-Target!G7) -> 0 | H7: =MAX(0,Trees!H7-Target!H7) -> 0 | I7: =MAX(0,Trees!I7-Target!I7) -> 0 | J7: =MAX(0,Trees!J7-Target!J7) -> 0 | ... CY7: =MAX(0,Trees!CY7-Target!CY7) -> 0
A8: Softwood | B8: =B7+2 -> 8 | C8: =MAX(0,Trees!C8-Target!C8) -> 0 | D8: =MAX(0,Trees!D8-Target!D8) -> 0 | E8: =MAX(0,Trees!E8-Target!E8) -> 0 | F8: =MAX(0,Trees!F8-Target!F8) -> 0 | G8: =MAX(0,Trees!G8-Target!G8) -> 0 | H8: =MAX(0,Trees!H8-Target!H8) -> 0 | I8: =MAX(0,Trees!I8-Target!I8) -> 0 | J8: =MAX(0,Trees!J8-Target!J8) -> 0 | ... CY8: =MAX(0,Trees!CY8-Target!CY8) -> 0
A9: Softwood | B9: =B8+2 -> 10 | C9: =MAX(0,Trees!C9-Target!C9) -> 2.4 | D9: =MAX(0,Trees!D9-Target!D9) -> 0 | E9: =MAX(0,Trees!E9-Target!E9) -> 0 | F9: =MAX(0,Trees!F9-Target!F9) -> 0 | G9: =MAX(0,Trees!G9-Target!G9) -> 0 | H9: =MAX(0,Trees!H9-Target!H9) -> 0 | I9: =MAX(0,Trees!I9-Target!I9) -> 0 | J9: =MAX(0,Trees!J9-Target!J9) -> 0 | ... CY9: =MAX(0,Trees!CY9-Target!CY9) -> 0
A10: Softwood | B10: =B9+2 -> 12 | C10: =MAX(0,Trees!C10-Target!C10) -> 3.8 | D10: =MAX(0,Trees!D10-Target!D10) -> 0 | E10: =MAX(0,Trees!E10-Target!E10) -> 0 | F10: =MAX(0,Trees!F10-Target!F10) -> 0 | G10: =MAX(0,Trees!G10-Target!G10) -> 0 | H10: =MAX(0,Trees!H10-Target!H10) -> 0 | I10: =MAX(0,Trees!I10-Target!I10) -> 0 | J10: =MAX(0,Trees!J10-Target!J10) -> 0 | ... CY10: =MAX(0,Trees!CY10-Target!CY10) -> 0
A11: Softwood | B11: =B10+2 -> 14 | C11: =MAX(0,Trees!C11-Target!C11) -> 4.7 | D11: =MAX(0,Trees!D11-Target!D11) -> 5.4335373 | E11: =MAX(0,Trees!E11-Target!E11) -> 0 | F11: =MAX(0,Trees!F11-Target!F11) -> 0 | G11: =MAX(0,Trees!G11-Target!G11) -> 0 | H11: =MAX(0,Trees!H11-Target!H11) -> 0 | I11: =MAX(0,Trees!I11-Target!I11) -> 0 | J11: =MAX(0,Trees!J11-Target!J11) -> 4.1409069 | ... CY11: =MAX(0,Trees!CY11-Target!CY11) -> 0
A12: Softwood | B12: =B11+2 -> 16 | C12: =MAX(0,Trees!C12-Target!C12) -> 4.2 | D12: =MAX(0,Trees!D12-Target!D12) -> 3.45203 | E12: =MAX(0,Trees!E12-Target!E12) -> 0 | F12: =MAX(0,Trees!F12-Target!F12) -> 0 | G12: =MAX(0,Trees!G12-Target!G12) -> 0 | H12: =MAX(0,Trees!H12-Target!H12) -> 0 | I12: =MAX(0,Trees!I12-Target!I12) -> 0 | J12: =MAX(0,Trees!J12-Target!J12) -> 1.0950156 | ... CY12: =MAX(0,Trees!CY12-Target!CY12) -> 0
A13: Softwood | B13: =B12+2 -> 18 | C13: =MAX(0,Trees!C13-Target!C13) -> 2.4 | D13: =MAX(0,Trees!D13-Target!D13) -> 2.046843 | E13: =MAX(0,Trees!E13-Target!E13) -> 0 | F13: =MAX(0,Trees!F13-Target!F13) -> 0 | G13: =MAX(0,Trees!G13-Target!G13) -> 0 | H13: =MAX(0,Trees!H13-Target!H13) -> 0 | I13: =MAX(0,Trees!I13-Target!I13) -> 0 | J13: =MAX(0,Trees!J13-Target!J13) -> 0.29318437 | ... CY13: =MAX(0,Trees!CY13-Target!CY13) -> 0
A14: Softwood | B14: =B13+2 -> 20 | C14: =MAX(0,Trees!C14-Target!C14) -> 1.5 | D14: =MAX(0,Trees!D14-Target!D14) -> 1.0793316 | E14: =MAX(0,Trees!E14-Target!E14) -> 0 | F14: =MAX(0,Trees!F14-Target!F14) -> 0 | G14: =MAX(0,Trees!G14-Target!G14) -> 0 | H14: =MAX(0,Trees!H14-Target!H14) -> 0 | I14: =MAX(0,Trees!I14-Target!I14) -> 0 | J14: =MAX(0,Trees!J14-Target!J14) -> 0.1459578 | ... CY14: =MAX(0,Trees!CY14-Target!CY14) -> 0
A15: Softwood | B15: =B14+2 -> 22 | C15: =MAX(0,Trees!C15-Target!C15) -> 1 | D15: =MAX(0,Trees!D15-Target!D15) -> 0.50071465 | E15: =MAX(0,Trees!E15-Target!E15) -> 0 | F15: =MAX(0,Trees!F15-Target!F15) -> 0 | G15: =MAX(0,Trees!G15-Target!G15) -> 0 | H15: =MAX(0,Trees!H15-Target!H15) -> 0 | I15: =MAX(0,Trees!I15-Target!I15) -> 0 | J15: =MAX(0,Trees!J15-Target!J15) -> 0.08990878 | ... CY15: =MAX(0,Trees!CY15-Target!CY15) -> 0
A16: Softwood | B16: =B15+2 -> 24 | C16: =MAX(0,Trees!C16-Target!C16) -> 0.4 | D16: =MAX(0,Trees!D16-Target!D16) -> 0.27284836 | E16: =MAX(0,Trees!E16-Target!E16) -> 0 | F16: =MAX(0,Trees!F16-Target!F16) -> 0 | G16: =MAX(0,Trees!G16-Target!G16) -> 0 | H16: =MAX(0,Trees!H16-Target!H16) -> 0 | I16: =MAX(0,Trees!I16-Target!I16) -> 0 | J16: =MAX(0,Trees!J16-Target!J16) -> 0.044354614 | ... CY16: =MAX(0,Trees!CY16-Target!CY16) -> 0
A17: Softwood | B17: =B16+2 -> 26 | C17: =MAX(0,Trees!C17-Target!C17) -> 0.4 | D17: =MAX(0,Trees!D17-Target!D17) -> 0.14039613 | E17: =MAX(0,Trees!E17-Target!E17) -> 0 | F17: =MAX(0,Trees!F17-Target!F17) -> 0 | G17: =MAX(0,Trees!G17-Target!G17) -> 0 | H17: =MAX(0,Trees!H17-Target!H17) -> 0 | I17: =MAX(0,Trees!I17-Target!I17) -> 0 | J17: =MAX(0,Trees!J17-Target!J17) -> 0.034120138 | ... CY17: =MAX(0,Trees!CY17-Target!CY17) -> 0
A18: Soft hardwood | B18: 2 | C18: =MAX(0,Trees!C18-Target!C18) -> 42.2 | D18: =MAX(0,Trees!D18-Target!D18) -> 117.50057 | E18: =MAX(0,Trees!E18-Target!E18) -> 0 | F18: =MAX(0,Trees!F18-Target!F18) -> 0 | G18: =MAX(0,Trees!G18-Target!G18) -> 0 | H18: =MAX(0,Trees!H18-Target!H18) -> 0 | I18: =MAX(0,Trees!I18-Target!I18) -> 0 | J18: =MAX(0,Trees!J18-Target!J18) -> 43.76994 | ... CY18: =MAX(0,Trees!CY18-Target!CY18) -> 0
A19: Soft hardwood | B19: =B18+2 -> 4 | C19: =MAX(0,Trees!C19-Target!C19) -> 16.7 | D19: =MAX(0,Trees!D19-Target!D19) -> 30.240626 | E19: =MAX(0,Trees!E19-Target!E19) -> 0 | F19: =MAX(0,Trees!F19-Target!F19) -> 0 | G19: =MAX(0,Trees!G19-Target!G19) -> 0 | H19: =MAX(0,Trees!H19-Target!H19) -> 0 | I19: =MAX(0,Trees!I19-Target!I19) -> 0 | J19: =MAX(0,Trees!J19-Target!J19) -> 5.1841316 | ... CY19: =MAX(0,Trees!CY19-Target!CY19) -> 0
A20: Soft hardwood | B20: =B19+2 -> 6 | C20: =MAX(0,Trees!C20-Target!C20) -> 8.1 | D20: =MAX(0,Trees!D20-Target!D20) -> 12.731517 | E20: =MAX(0,Trees!E20-Target!E20) -> 0 | F20: =MAX(0,Trees!F20-Target!F20) -> 0 | G20: =MAX(0,Trees!G20-Target!G20) -> 0 | H20: =MAX(0,Trees!H20-Target!H20) -> 0 | I20: =MAX(0,Trees!I20-Target!I20) -> 0 | J20: =MAX(0,Trees!J20-Target!J20) -> 0.94085229 | ... CY20: =MAX(0,Trees!CY20-Target!CY20) -> 0
A21: Soft hardwood | B21: =B20+2 -> 8 | C21: =MAX(0,Trees!C21-Target!C21) -> 4.3 | D21: =MAX(0,Trees!D21-Target!D21) -> 5.1631361 | E21: =MAX(0,Trees!E21-Target!E21) -> 0 | F21: =MAX(0,Trees!F21-Target!F21) -> 0 | G21: =MAX(0,Trees!G21-Target!G21) -> 0 | H21: =MAX(0,Trees!H21-Target!H21) -> 0 | I21: =MAX(0,Trees!I21-Target!I21) -> 0 | J21: =MAX(0,Trees!J21-Target!J21) -> 0.36151668 | ... CY21: =MAX(0,Trees!CY21-Target!CY21) -> 0
A22: Soft hardwood | B22: =B21+2 -> 10 | C22: =MAX(0,Trees!C22-Target!C22) -> 2.1 | D22: =MAX(0,Trees!D22-Target!D22) -> 2.3893697 | E22: =MAX(0,Trees!E22-Target!E22) -> 0 | F22: =MAX(0,Trees!F22-Target!F22) -> 0 | G22: =MAX(0,Trees!G22-Target!G22) -> 0 | H22: =MAX(0,Trees!H22-Target!H22) -> 0 | I22: =MAX(0,Trees!I22-Target!I22) -> 0 | J22: =MAX(0,Trees!J22-Target!J22) -> 0.16780876 | ... CY22: =MAX(0,Trees!CY22-Target!CY22) -> 0
A23: Soft hardwood | B23: =B22+2 -> 12 | C23: =MAX(0,Trees!C23-Target!C23) -> 0.8 | D23: =MAX(0,Trees!D23-Target!D23) -> 1.1133742 | E23: =MAX(0,Trees!E23-Target!E23) -> 0 | F23: =MAX(0,Trees!F23-Target!F23) -> 0 | G23: =MAX(0,Trees!G23-Target!G23) -> 0 | H23: =MAX(0,Trees!H23-Target!H23) -> 0 | I23: =MAX(0,Trees!I23-Target!I23) -> 0 | J23: =MAX(0,Trees!J23-Target!J23) -> 0.082628733 | ... CY23: =MAX(0,Trees!CY23-Target!CY23) -> 0
A24: Soft hardwood | B24: =B23+2 -> 14 | C24: =MAX(0,Trees!C24-Target!C24) -> 0.7 | D24: =MAX(0,Trees!D24-Target!D24) -> 0.52610772 | E24: =MAX(0,Trees!E24-Target!E24) -> 0 | F24: =MAX(0,Trees!F24-Target!F24) -> 0 | G24: =MAX(0,Trees!G24-Target!G24) -> 0 | H24: =MAX(0,Trees!H24-Target!H24) -> 0 | I24: =MAX(0,Trees!I24-Target!I24) -> 0 | J24: =MAX(0,Trees!J24-Target!J24) -> 0.040689578 | ... CY24: =MAX(0,Trees!CY24-Target!CY24) -> 0
A25: Soft hardwood | B25: =B24+2 -> 16 | C25: =MAX(0,Trees!C25-Target!C25) -> 0.4 | D25: =MAX(0,Trees!D25-Target!D25) -> 0.32236443 | E25: =MAX(0,Trees!E25-Target!E25) -> 0 | F25: =MAX(0,Trees!F25-Target!F25) -> 0 | G25: =MAX(0,Trees!G25-Target!G25) -> 0 | H25: =MAX(0,Trees!H25-Target!H25) -> 0 | I25: =MAX(0,Trees!I25-Target!I25) -> 0 | J25: =MAX(0,Trees!J25-Target!J25) -> 0.016291388 | ... CY25: =MAX(0,Trees!CY25-Target!CY25) -> 0
A26: Soft hardwood | B26: =B25+2 -> 18 | C26: =MAX(0,Trees!C26-Target!C26) -> 0.2 | D26: =MAX(0,Trees!D26-Target!D26) -> 0.11716115 | E26: =MAX(0,Trees!E26-Target!E26) -> 0 | F26: =MAX(0,Trees!F26-Target!F26) -> 0 | G26: =MAX(0,Trees!G26-Target!G26) -> 0 | H26: =MAX(0,Trees!H26-Target!H26) -> 0 | I26: =MAX(0,Trees!I26-Target!I26) -> 0 | J26: =MAX(0,Trees!J26-Target!J26) -> 0.010457288 | ... CY26: =MAX(0,Trees!CY26-Target!CY26) -> 0
A27: Soft hardwood | B27: =B26+2 -> 20 | C27: =MAX(0,Trees!C27-Target!C27) -> 0 | D27: =MAX(0,Trees!D27-Target!D27) -> 0.10762257 | E27: =MAX(0,Trees!E27-Target!E27) -> 0 | F27: =MAX(0,Trees!F27-Target!F27) -> 0 | G27: =MAX(0,Trees!G27-Target!G27) -> 0 | H27: =MAX(0,Trees!H27-Target!H27) -> 0 | I27: =MAX(0,Trees!I27-Target!I27) -> 0 | J27: =MAX(0,Trees!J27-Target!J27) -> 0.0021625207 | ... CY27: =MAX(0,Trees!CY27-Target!CY27) -> 0
A28: Soft hardwood | B28: =B27+2 -> 22 | C28: =MAX(0,Trees!C28-Target!C28) -> 0.1 | D28: =MAX(0,Trees!D28-Target!D28) -> 0 | E28: =MAX(0,Trees!E28-Target!E28) -> 0 | F28: =MAX(0,Trees!F28-Target!F28) -> 0 | G28: =MAX(0,Trees!G28-Target!G28) -> 0 | H28: =MAX(0,Trees!H28-Target!H28) -> 0 | I28: =MAX(0,Trees!I28-Target!I28) -> 0 | J28: =MAX(0,Trees!J28-Target!J28) -> 0.0027127206 | ... CY28: =MAX(0,Trees!CY28-Target!CY28) -> 0
A29: Soft hardwood | B29: =B28+2 -> 24 | C29: =MAX(0,Trees!C29-Target!C29) -> 0 | D29: =MAX(0,Trees!D29-Target!D29) -> 0.0026552864 | E29: =MAX(0,Trees!E29-Target!E29) -> 0 | F29: =MAX(0,Trees!F29-Target!F29) -> 0 | G29: =MAX(0,Trees!G29-Target!G29) -> 0 | H29: =MAX(0,Trees!H29-Target!H29) -> 0 | I29: =MAX(0,Trees!I29-Target!I29) -> 0 | J29: =MAX(0,Trees!J29-Target!J29) -> 0.00040692096 | ... CY29: =MAX(0,Trees!CY29-Target!CY29) -> 0
A30: Soft hardwood | B30: =B29+2 -> 26 | C30: =MAX(0,Trees!C30-Target!C30) -> 0 | D30: =MAX(0,Trees!D30-Target!D30) -> 0 | E30: =MAX(0,Trees!E30-Target!E30) -> 0 | F30: =MAX(0,Trees!F30-Target!F30) -> 0 | G30: =MAX(0,Trees!G30-Target!G30) -> 0 | H30: =MAX(0,Trees!H30-Target!H30) -> 0 | I30: =MAX(0,Trees!I30-Target!I30) -> 0 | J30: =MAX(0,Trees!J30-Target!J30) -> 6.6776389e-05 | ... CY30: =MAX(0,Trees!CY30-Target!CY30) -> 0
A31: Hard hardwood | B31: 2 | C31: =MAX(0,Trees!C31-Target!C31) -> 13.2 | D31: =MAX(0,Trees!D31-Target!D31) -> 128.85372 | E31: =MAX(0,Trees!E31-Target!E31) -> 0 | F31: =MAX(0,Trees!F31-Target!F31) -> 0 | G31: =MAX(0,Trees!G31-Target!G31) -> 0 | H31: =MAX(0,Trees!H31-Target!H31) -> 0 | I31: =MAX(0,Trees!I31-Target!I31) -> 0 | J31: =MAX(0,Trees!J31-Target!J31) -> 40.803727 | ... CY31: =MAX(0,Trees!CY31-Target!CY31) -> 0
A32: Hard hardwood | B32: =B31+2 -> 4 | C32: =MAX(0,Trees!C32-Target!C32) -> 6.4 | D32: =MAX(0,Trees!D32-Target!D32) -> 28.010181 | E32: =MAX(0,Trees!E32-Target!E32) -> 0 | F32: =MAX(0,Trees!F32-Target!F32) -> 0 | G32: =MAX(0,Trees!G32-Target!G32) -> 0 | H32: =MAX(0,Trees!H32-Target!H32) -> 0 | I32: =MAX(0,Trees!I32-Target!I32) -> 0 | J32: =MAX(0,Trees!J32-Target!J32) -> 4.6966287 | ... CY32: =MAX(0,Trees!CY32-Target!CY32) -> 0
A33: Hard hardwood | B33: =B32+2 -> 6 | C33: =MAX(0,Trees!C33-Target!C33) -> 1.2 | D33: =MAX(0,Trees!D33-Target!D33) -> 10.974974 | E33: =MAX(0,Trees!E33-Target!E33) -> 0 | F33: =MAX(0,Trees!F33-Target!F33) -> 0 | G33: =MAX(0,Trees!G33-Target!G33) -> 0 | H33: =MAX(0,Trees!H33-Target!H33) -> 0 | I33: =MAX(0,Trees!I33-Target!I33) -> 0 | J33: =MAX(0,Trees!J33-Target!J33) -> 0.91600294 | ... CY33: =MAX(0,Trees!CY33-Target!CY33) -> 0
A34: Hard hardwood | B34: =B33+2 -> 8 | C34: =MAX(0,Trees!C34-Target!C34) -> 0.9 | D34: =MAX(0,Trees!D34-Target!D34) -> 5.4435567 | E34: =MAX(0,Trees!E34-Target!E34) -> 0 | F34: =MAX(0,Trees!F34-Target!F34) -> 0 | G34: =MAX(0,Trees!G34-Target!G34) -> 0 | H34: =MAX(0,Trees!H34-Target!H34) -> 0 | I34: =MAX(0,Trees!I34-Target!I34) -> 0 | J34: =MAX(0,Trees!J34-Target!J34) -> 0.31532093 | ... CY34: =MAX(0,Trees!CY34-Target!CY34) -> 0
A35: Hard hardwood | B35: =B34+2 -> 10 | C35: =MAX(0,Trees!C35-Target!C35) -> 0.7 | D35: =MAX(0,Trees!D35-Target!D35) -> 2.8215074 | E35: =MAX(0,Trees!E35-Target!E35) -> 0 | F35: =MAX(0,Trees!F35-Target!F35) -> 0 | G35: =MAX(0,Trees!G35-Target!G35) -> 0 | H35: =MAX(0,Trees!H35-Target!H35) -> 0 | I35: =MAX(0,Trees!I35-Target!I35) -> 0 | J35: =MAX(0,Trees!J35-Target!J35) -> 0.16947292 | ... CY35: =MAX(0,Trees!CY35-Target!CY35) -> 0
A36: Hard hardwood | B36: =B35+2 -> 12 | C36: =MAX(0,Trees!C36-Target!C36) -> 0.3 | D36: =MAX(0,Trees!D36-Target!D36) -> 1.6878918 | E36: =MAX(0,Trees!E36-Target!E36) -> 0 | F36: =MAX(0,Trees!F36-Target!F36) -> 0 | G36: =MAX(0,Trees!G36-Target!G36) -> 0 | H36: =MAX(0,Trees!H36-Target!H36) -> 0 | I36: =MAX(0,Trees!I36-Target!I36) -> 0 | J36: =MAX(0,Trees!J36-Target!J36) -> 0.099231119 | ... CY36: =MAX(0,Trees!CY36-Target!CY36) -> 0
A37: Hard hardwood | B37: =B36+2 -> 14 | C37: =MAX(0,Trees!C37-Target!C37) -> 0.4 | D37: =MAX(0,Trees!D37-Target!D37) -> 1.1175725 | E37: =MAX(0,Trees!E37-Target!E37) -> 0 | F37: =MAX(0,Trees!F37-Target!F37) -> 0 | G37: =MAX(0,Trees!G37-Target!G37) -> 0 | H37: =MAX(0,Trees!H37-Target!H37) -> 0 | I37: =MAX(0,Trees!I37-Target!I37) -> 0 | J37: =MAX(0,Trees!J37-Target!J37) -> 0.057502353 | ... CY37: =MAX(0,Trees!CY37-Target!CY37) -> 0
A38: Hard hardwood | B38: =B37+2 -> 16 | C38: =MAX(0,Trees!C38-Target!C38) -> 0.2 | D38: =MAX(0,Trees!D38-Target!D38) -> 0.65704685 | E38: =MAX(0,Trees!E38-Target!E38) -> 0 | F38: =MAX(0,Trees!F38-Target!F38) -> 0 | G38: =MAX(0,Trees!G38-Target!G38) -> 0 | H38: =MAX(0,Trees!H38-Target!H38) -> 0 | I38: =MAX(0,Trees!I38-Target!I38) -> 0 | J38: =MAX(0,Trees!J38-Target!J38) -> 0.042368074 | ... CY38: =MAX(0,Trees!CY38-Target!CY38) -> 0
A39: Hard hardwood | B39: =B38+2 -> 18 | C39: =MAX(0,Trees!C39-Target!C39) -> 0.3 | D39: =MAX(0,Trees!D39-Target!D39) -> 0.31435624 | E39: =MAX(0,Trees!E39-Target!E39) -> 0 | F39: =MAX(0,Trees!F39-Target!F39) -> 0 | G39: =MAX(0,Trees!G39-Target!G39) -> 0 | H39: =MAX(0,Trees!H39-Target!H39) -> 0 | I39: =MAX(0,Trees!I39-Target!I39) -> 0 | J39: =MAX(0,Trees!J39-Target!J39) -> 0.035608717 | ... CY39: =MAX(0,Trees!CY39-Target!CY39) -> 0
A40: Hard hardwood | B40: =B39+2 -> 20 | C40: =MAX(0,Trees!C40-Target!C40) -> 0.2 | D40: =MAX(0,Trees!D40-Target!D40) -> 0.21635624 | E40: =MAX(0,Trees!E40-Target!E40) -> 0 | F40: =MAX(0,Trees!F40-Target!F40) -> 0 | G40: =MAX(0,Trees!G40-Target!G40) -> 0 | H40: =MAX(0,Trees!H40-Target!H40) -> 0 | I40: =MAX(0,Trees!I40-Target!I40) -> 0 | J40: =MAX(0,Trees!J40-Target!J40) -> 0.020186321 | ... CY40: =MAX(0,Trees!CY40-Target!CY40) -> 0
A41: Hard hardwood | B41: =B40+2 -> 22 | C41: =MAX(0,Trees!C41-Target!C41) -> 0.1 | D41: =MAX(0,Trees!D41-Target!D41) -> 0.11787624 | E41: =MAX(0,Trees!E41-Target!E41) -> 0 | F41: =MAX(0,Trees!F41-Target!F41) -> 0 | G41: =MAX(0,Trees!G41-Target!G41) -> 0 | H41: =MAX(0,Trees!H41-Target!H41) -> 0 | I41: =MAX(0,Trees!I41-Target!I41) -> 0 | J41: =MAX(0,Trees!J41-Target!J41) -> 0.01137659 | ... CY41: =MAX(0,Trees!CY41-Target!CY41) -> 0
A42: Hard hardwood | B42: =B41+2 -> 24 | C42: =MAX(0,Trees!C42-Target!C42) -> 0.1 | D42: =MAX(0,Trees!D42-Target!D42) -> 0.0085181221 | E42: =MAX(0,Trees!E42-Target!E42) -> 0 | F42: =MAX(0,Trees!F42-Target!F42) -> 0 | G42: =MAX(0,Trees!G42-Target!G42) -> 0 | H42: =MAX(0,Trees!H42-Target!H42) -> 0 | I42: =MAX(0,Trees!I42-Target!I42) -> 0 | J42: =MAX(0,Trees!J42-Target!J42) -> 0.0102097 | ... CY42: =MAX(0,Trees!CY42-Target!CY42) -> 0
A43: Hard hardwood | B43: =B42+2 -> 26 | C43: =MAX(0,Trees!C43-Target!C43) -> 0 | D43: =MAX(0,Trees!D43-Target!D43) -> 0.10723812 | E43: =MAX(0,Trees!E43-Target!E43) -> 0 | F43: =MAX(0,Trees!F43-Target!F43) -> 0 | G43: =MAX(0,Trees!G43-Target!G43) -> 0 | H43: =MAX(0,Trees!H43-Target!H43) -> 0 | I43: =MAX(0,Trees!I43-Target!I43) -> 0 | J43: =MAX(0,Trees!J43-Target!J43) -> 0.0046780277 | ... CY43: =MAX(0,Trees!CY43-Target!CY43) -> 0
A44: Softwood | B44: All sizes | C44: =SUM(C5:C17) -> 20.8 | D44: =SUM(D5:D17) -> 12.925701 | E44: =SUM(E5:E17) -> 0 | F44: =SUM(F5:F17) -> 0 | G44: =SUM(G5:G17) -> 0 | H44: =SUM(H5:H17) -> 0 | I44: =SUM(I5:I17) -> 0 | J44: =SUM(J5:J17) -> 5.8434482 | ... CY44: =SUM(CY5:CY17) -> 0
A45: Soft hardwood | B45: All sizes | C45: =SUM(C18:C30) -> 75.6 | D45: =SUM(D18:D30) -> 170.21451 | E45: =SUM(E18:E30) -> 0 | F45: =SUM(F18:F30) -> 0 | G45: =SUM(G18:G30) -> 0 | H45: =SUM(H18:H30) -> 0 | I45: =SUM(I18:I30) -> 0 | J45: =SUM(J18:J30) -> 50.579665 | ... CY45: =SUM(CY18:CY30) -> 0
A46: Hard hardwood | B46: All sizes | C46: =SUM(C31:C43) -> 24 | D46: =SUM(D31:D43) -> 180.3308 | E46: =SUM(E31:E43) -> 0 | F46: =SUM(F31:F43) -> 0 | G46: =SUM(G31:G43) -> 0 | H46: =SUM(H31:H43) -> 0 | I46: =SUM(I31:I43) -> 0 | J46: =SUM(J31:J43) -> 47.182314 | ... CY46: =SUM(CY31:CY43) -> 0
A47: All species | B47: All sizes | C47: =SUM(C44:C46) -> 120.4 | D47: =SUM(D44:D46) -> 363.47101 | E47: =SUM(E44:E46) -> 0 | F47: =SUM(F44:F46) -> 0 | G47: =SUM(G44:G46) -> 0 | H47: =SUM(H44:H46) -> 0 | I47: =SUM(I44:I46) -> 0 | J47: =SUM(J44:J46) -> 103.60543 | ... CY47: =SUM(CY44:CY46) -> 0

Sheet BasalArea
C1: Basal area of trees left after harvest, by species, size, and year.
A2: Site | B2: =Target!B2 -> 2
A3: Year | C3: 0 | D3: =C3+1 -> 1 | E3: =D3+1 -> 2 | F3: =E3+1 -> 3 | G3: =F3+1 -> 4 | H3: =G3+1 -> 5 | I3: =H3+1 -> 6 | J3: =I3+1 -> 7 | K3: =J3+1 -> 8 | ... CY3: =CX3+1 -> 100
A4: Species | B4: dbh (in.) | C4: ft^2/a | D4: ft^2/a | E4: ft^2/a | F4: ft^2/a | G4: ft^2/a | H4: ft^2/a | I4: ft^2/a | J4: ft^2/a | K4: ft^2/a | L4: ft^2/a | M4: ft^2/a | N4: ft^2/a | O4: ft^2/a | P4: ft^2/a | Q4: ft^2/a | R4: ft^2/a | S4: ft^2/a | T4: ft^2/a | U4: ft^2/a | V4: ft^2/a | W4: ft^2/a | X4: ft^2/a | Y4: ft^2/a | Z4: ft^2/a | AA4: ft^2/a | AB4: ft^2/a | AC4: ft^2/a | AD4: ft^2/a | AE4: ft^2/a | AF4: ft^2/a | AG4: ft^2/a | AH4: ft^2/a | AI4: ft^2/a | AJ4: ft^2/a | AK4: ft^2/a | AL4: ft^2/a | AM4: ft^2/a | AN4: ft^2/a | AO4: ft^2/a | AP4: ft^2/a | AQ4: ft^2/a | AR4: ft^2/a | AS4: ft^2/a | AT4: ft^2/a | AU4: ft^2/a | AV4: ft^2/a | AW4: ft^2/a | AX4: ft^2/a | AY4: ft^2/a | AZ4: ft^2/a | BA4: ft^2/a | BB4: ft^2/a | BC4: ft^2/a | BD4: ft^2/a | BE4: ft^2/a | BF4: ft^2/a | BG4: ft^2/a | BH4: ft^2/a | BI4: ft^2/a | BJ4: ft^2/a | BK4: ft^2/a | BL4: ft^2/a | BM4: ft^2/a | BN4: ft^2/a | BO4: ft^2/a | BP4: ft^2/a | BQ4: ft^2/a | BR4: ft^2/a | BS4: ft^2/a | BT4: ft^2/a | BU4: ft^2/a | BV4: ft^2/a | BW4: ft^2/a | BX4: ft^2/a | BY4: ft^2/a | BZ4: ft^2/a | CA4: ft^2/a | CB4: ft^2/a | CC4: ft^2/a | CD4: ft^2/a | CE4: ft^2/a | CF4: ft^2/a | CG4: ft^2/a | CH4: ft^2/a | CI4: ft^2/a | CJ4: ft^2/a | CK4: ft^2/a | CL4: ft^2/a | CM4: ft^2/a | CN4: ft^2/a | CO4: ft^2/a | CP4: ft^2/a | CQ4: ft^2/a | CR4: ft^2/a | CS4: ft^2/a | CT4: ft^2/a | CU4: ft^2/a | CV4: ft^2/a | CW4: ft^2/a | CX4: ft^2/a | CY4: ft^2/a
A5: Softwood | B5: 2 | C5: =Trees!C5*(($B5/12)^2)*PI()/4 -> 0.42978733 | D5: =Trees!D5*(($B5/12)^2)*PI()/4 -> 0.43762702 | E5: =Trees!E5*(($B5/12)^2)*PI()/4 -> 0.56460207 | F5: =Trees!F5*(($B5/12)^2)*PI()/4 -> 0.8258003 | G5: =Trees!G5*(($B5/12)^2)*PI()/4 -> 1.0607808 | H5: =Trees!H5*(($B5/12)^2)*PI()/4 -> 1.2715361 | I5: =Trees!I5*(($B5/12)^2)*PI()/4 -> 1.4598793 | J5: =Trees!J5*(($B5/12)^2)*PI()/4 -> 1.6274624 | ... CY5: =Trees!CY5*(($B5/12)^2)*PI()/4 -> 2.6702688
A6: Softwood | B6: 4 | C6: =Trees!C6*(($B6/12)^2)*PI()/4 -> 2.3736478 | D6: =Trees!D6*(($B6/12)^2)*PI()/4 -> 2.231388 | E6: =Trees!E6*(($B6/12)^2)*PI()/4 -> 2.1025819 | F6: =Trees!F6*(($B6/12)^2)*PI()/4 -> 2.0083643 | G6: =Trees!G6*(($B6/12)^2)*PI()/4 -> 1.971348 | H6: =Trees!H6*(($B6/12)^2)*PI()/4 -> 1.9806664 | I6: =Trees!I6*(($B6/12)^2)*PI()/4 -> 2.0269324 | J6: =Trees!J6*(($B6/12)^2)*PI()/4 -> 2.1020587 | ... CY6: =Trees!CY6*(($B6/12)^2)*PI()/4 -> 4.9125886
A7: Softwood | B7: 6 | C7: =Trees!C7*(($B7/12)^2)*PI()/4 -> 3.1415927 | D7: =Trees!D7*(($B7/12)^2)*PI()/4 -> 3.1358781 | E7: =Trees!E7*(($B7/12)^2)*PI()/4 -> 3.1290519 | F7: =Trees!F7*(($B7/12)^2)*PI()/4 -> 3.1197228 | G7: =Trees!G7*(($B7/12)^2)*PI()/4 -> 3.0970733 | H7: =Trees!H7*(($B7/12)^2)*PI()/4 -> 3.0708621 | I7: =Trees!I7*(($B7/12)^2)*PI()/4 -> 3.0481726 | J7: =Trees!J7*(($B7/12)^2)*PI()/4 -> 3.0339243 | ... CY7: =Trees!CY7*(($B7/12)^2)*PI()/4 -> 7.0280865
A8: Softwood | B8: 8 | C8: =Trees!C8*(($B8/12)^2)*PI()/4 -> 4.9567351 | D8: =Trees!D8*(($B8/12)^2)*PI()/4 -> 4.8593629 | E8: =Trees!E8*(($B8/12)^2)*PI()/4 -> 4.7816356 | F8: =Trees!F8*(($B8/12)^2)*PI()/4 -> 4.7205177 | G8: =Trees!G8*(($B8/12)^2)*PI()/4 -> 4.6642851 | H8: =Trees!H8*(($B8/12)^2)*PI()/4 -> 4.6104663 | I8: =Trees!I8*(($B8/12)^2)*PI()/4 -> 4.5582669 | J8: =Trees!J8*(($B8/12)^2)*PI()/4 -> 4.5079896 | ... CY8: =Trees!CY8*(($B8/12)^2)*PI()/4 -> 9.5794217
A9: Softwood | B9: 10 | C9: =Trees!C9*(($B9/12)^2)*PI()/4 -> 8.0176063 | D9: =Trees!D9*(($B9/12)^2)*PI()/4 -> 6.5302104 | E9: =Trees!E9*(($B9/12)^2)*PI()/4 -> 6.5047064 | F9: =Trees!F9*(($B9/12)^2)*PI()/4 -> 6.4837738 | G9: =Trees!G9*(($B9/12)^2)*PI()/4 -> 6.4558274 | H9: =Trees!H9*(($B9/12)^2)*PI()/4 -> 6.4223702 | I9: =Trees!I9*(($B9/12)^2)*PI()/4 -> 6.3843698 | J9: =Trees!J9*(($B9/12)^2)*PI()/4 -> 6.3425651 | ... CY9: =Trees!CY9*(($B9/12)^2)*PI()/4 -> 12.87504
A10: Softwood | B10: 12 | C10: =Trees!C10*(($B10/12)^2)*PI()/4 -> 9.424778 | D10: =Trees!D10*(($B10/12)^2)*PI()/4 -> 6.5195018 | E10: =Trees!E10*(($B10/12)^2)*PI()/4 -> 6.7295727 | F10: =Trees!F10*(($B10/12)^2)*PI()/4 -> 6.9374976 | G10: =Trees!G10*(($B10/12)^2)*PI()/4 -> 7.1178309 | H10: =Trees!H10*(($B10/12)^2)*PI()/4 -> 7.2727282 | I10: =Trees!I10*(($B10/12)^2)*PI()/4 -> 7.4043185 | J10: =Trees!J10*(($B10/12)^2)*PI()/4 -> 7.514626 | ... CY10: =Trees!CY10*(($B10/12)^2)*PI()/4 -> 17.076572
A11: Softwood | B11: 14 | C11: =Trees!C11*(($B11/12)^2)*PI()/4 -> 10.690142 | D11: =Trees!D11*(($B11/12)^2)*PI()/4 -> 5.8085284 | E11: =Trees!E11*(($B11/12)^2)*PI()/4 -> 0.29097015 | F11: =Trees!F11*(($B11/12)^2)*PI()/4 -> 1.2756411 | G11: =Trees!G11*(($B11/12)^2)*PI()/4 -> 2.1759044 | H11: =Trees!H11*(($B11/12)^2)*PI()/4 -> 2.9975777 | I11: =Trees!I11*(($B11/12)^2)*PI()/4 -> 3.7461239 | J11: =Trees!J11*(($B11/12)^2)*PI()/4 -> 4.4266881 | ... CY11: =Trees!CY11*(($B11/12)^2)*PI()/4 -> 5.6842
A12: Softwood | B12: 16 | C12: =Trees!C12*(($B12/12)^2)*PI()/4 -> 10.332349 | D12: =Trees!D12*(($B12/12)^2)*PI()/4 -> 4.8199432 | E12: =Trees!E12*(($B12/12)^2)*PI()/4 -> 0.29374342 | F12: =Trees!F12*(($B12/12)^2)*PI()/4 -> 0.30329523 | G12: =Trees!G12*(($B12/12)^2)*PI()/4 -> 0.45984275 | H12: =Trees!H12*(($B12/12)^2)*PI()/4 -> 0.7329024 | I12: =Trees!I12*(($B12/12)^2)*PI()/4 -> 1.0965735 | J12: =Trees!J12*(($B12/12)^2)*PI()/4 -> 1.5289302 | ... CY12: =Trees!CY12*(($B12/12)^2)*PI()/4 -> 1.5262432
A13: Softwood | B13: 18 | C13: =Trees!C13*(($B13/12)^2)*PI()/4 -> 7.2452981 | D13: =Trees!D13*(($B13/12)^2)*PI()/4 -> 3.6170701 | E13: =Trees!E13*(($B13/12)^2)*PI()/4 -> 0.27852631 | F13: =Trees!F13*(($B13/12)^2)*PI()/4 -> 0.28983373 | G13: =Trees!G13*(($B13/12)^2)*PI()/4 -> 0.30122399 | H13: =Trees!H13*(($B13/12)^2)*PI()/4 -> 0.33432198 | I13: =Trees!I13*(($B13/12)^2)*PI()/4 -> 0.40363569 | J13: =Trees!J13*(($B13/12)^2)*PI()/4 -> 0.51809955 | ... CY13: =Trees!CY13*(($B13/12)^2)*PI()/4 -> 0.62234128
A14: Softwood | B14: 20 | C14: =Trees!C14*(($B14/12)^2)*PI()/4 -> 5.2359878 | D14: =Trees!D14*(($B14/12)^2)*PI()/4 -> 2.3547364 | E14: =Trees!E14*(($B14/12)^2)*PI()/4 -> 0.23689432 | F14: =Trees!F14*(($B14/12)^2)*PI()/4 -> 0.25023397 | G14: =Trees!G14*(($B14/12)^2)*PI()/4 -> 0.26366764 | H14: =Trees!H14*(($B14/12)^2)*PI()/4 -> 0.2771937 | I14: =Trees!I14*(($B14/12)^2)*PI()/4 -> 0.29386795 | J14: =Trees!J14*(($B14/12)^2)*PI()/4 -> 0.31843052 | ... CY14: =Trees!CY14*(($B14/12)^2)*PI()/4 -> 0.22253976
A15: Softwood | B15: 22 | C15: =Trees!C15*(($B15/12)^2)*PI()/4 -> 3.6957347 | D15: =Trees!D15*(($B15/12)^2)*PI()/4 -> 1.3217918 | E15: =Trees!E15*(($B15/12)^2)*PI()/4 -> 0.16312781 | F15: =Trees!F15*(($B15/12)^2)*PI()/4 -> 0.17748131 | G15: =Trees!G15*(($B15/12)^2)*PI()/4 -> 0.19205265 | H15: =Trees!H15*(($B15/12)^2)*PI()/4 -> 0.20682745 | I15: =Trees!I15*(($B15/12)^2)*PI()/4 -> 0.22179253 | J15: =Trees!J15*(($B15/12)^2)*PI()/4 -> 0.23734214 | ... CY15: =Trees!CY15*(($B15/12)^2)*PI()/4 -> 0.069938357
A16: Softwood | B16: 24 | C16: =Trees!C16*(($B16/12)^2)*PI()/4 -> 1.8849556 | D16: =Trees!D16*(($B16/12)^2)*PI()/4 -> 0.85717841 | E16: =Trees!E16*(($B16/12)^2)*PI()/4 -> 0.070449113 | F16: =Trees!F16*(($B16/12)^2)*PI()/4 -> 0.083434422 | G16: =Trees!G16*(($B16/12)^2)*PI()/4 -> 0.096836662 | H16: =Trees!H16*(($B16/12)^2)*PI()/4 -> 0.11063568 | I16: =Trees!I16*(($B16/12)^2)*PI()/4 -> 0.12481143 | J16: =Trees!J16*(($B16/12)^2)*PI()/4 -> 0.13934413 | ... CY16: =Trees!CY16*(($B16/12)^2)*PI()/4 -> 0.021296158
... A43: Hard hardwood | B43: 26 | C43: =Trees!C43*(($B43/12)^2)*PI()/4 -> 0.3687008 | D43: =Trees!D43*(($B43/12)^2)*PI()/4 -> 0.39538782 | E43: =Trees!E43*(($B43/12)^2)*PI()/4 -> -0.0056031846 | F43: =Trees!F43*(($B43/12)^2)*PI()/4 -> 0 | G43: =Trees!G43*(($B43/12)^2)*PI()/4 -> 0.0046898247 | H43: =Trees!H43*(($B43/12)^2)*PI()/4 -> 0.0091028505 | I43: =Trees!I43*(($B43/12)^2)*PI()/4 -> 0.013274332 | J43: =Trees!J43*(($B43/12)^2)*PI()/4 -> 0.017247926 | ... CY43: =Trees!CY43*(($B43/12)^2)*PI()/4 -> 5.7692355e-07
A44: Softwood | B44: All sizes | C44: =SUM(C5:C17) -> 69.272118 | D44: =SUM(D5:D17) -> 43.010858 | E44: =SUM(E5:E17) -> 25.225385 | F44: =SUM(F5:F17) -> 26.561734 | G44: =SUM(G5:G17) -> 27.950732 | H44: =SUM(H5:H17) -> 29.391389 | I44: =SUM(I5:I17) -> 30.882623 | J44: =SUM(J5:J17) -> 32.423262 | ... CY44: =SUM(CY5:CY17) -> 62.295821
A45: Soft hardwood | B45: All sizes | C45: =SUM(C18:C30) -> 21.570088 | D45: =SUM(D18:D30) -> 13.142483 | E45: =SUM(E18:E30) -> 0.64669359 | F45: =SUM(F18:F30) -> 0.87167172 | G45: =SUM(G18:G30) -> 1.1169812 | H45: =SUM(H18:H30) -> 1.3824285 | I45: =SUM(I18:I30) -> 1.6677873 | J45: =SUM(J18:J30) -> 1.9727917 | ... CY45: =SUM(CY18:CY30) -> 0.61880362
A46: Hard hardwood | B46: All sizes | C46: =SUM(C31:C43) -> 19.674224 | D46: =SUM(D31:D43) -> 16.048113 | E46: =SUM(E31:E43) -> 0.74293849 | F46: =SUM(F31:F43) -> 0.9701623 | G46: =SUM(G31:G43) -> 1.216188 | H46: =SUM(H31:H43) -> 1.481311 | I46: =SUM(I31:I43) -> 1.7651567 | J46: =SUM(J31:J43) -> 2.067299 | ... CY46: =SUM(CY31:CY43) -> 0.58876987
A47: All species | B47: All sizes | C47: =SUM(C44:C46) -> 110.51643 | D47: =SUM(D44:D46) -> 72.201455 | E47: =SUM(E44:E46) -> 26.615017 | F47: =SUM(F44:F46) -> 28.403568 | G47: =SUM(G44:G46) -> 30.283901 | H47: =SUM(H44:H46) -> 32.255129 | I47: =SUM(I44:I46) -> 34.315567 | J47: =SUM(J44:J46) -> 36.463353 | ... CY47: =SUM(CY44:CY46) -> 63.503395

Sheet BasalAreaChart
C1: Basal area of trees left after harvest, by species, size, and year.

Sheet BasalAreaCut
C1: Basal area of trees cut, by species, size, and year.
A2: Site | B2: =Target!B2 -> 2
A3: Year | C3: 0 | D3: =C3+1 -> 1 | E3: =D3+1 -> 2 | F3: =E3+1 -> 3 | G3: =F3+1 -> 4 | H3: =G3+1 -> 5 | I3: =H3+1 -> 6 | J3: =I3+1 -> 7 | K3: =J3+1 -> 8 | ... CY3: =CX3+1 -> 100
A4: Species | B4: dbh (in.) | C4: ft^2/a | D4: ft^2/a | E4: ft^2/a | F4: ft^2/a | G4: ft^2/a | H4: ft^2/a | I4: ft^2/a | J4: ft^2/a | K4: ft^2/a | L4: ft^2/a | M4: ft^2/a | N4: ft^2/a | O4: ft^2/a | P4: ft^2/a | Q4: ft^2/a | R4: ft^2/a | S4: ft^2/a | T4: ft^2/a | U4: ft^2/a | V4: ft^2/a | W4: ft^2/a | X4: ft^2/a | Y4: ft^2/a | Z4: ft^2/a | AA4: ft^2/a | AB4: ft^2/a | AC4: ft^2/a | AD4: ft^2/a | AE4: ft^2/a | AF4: ft^2/a | AG4: ft^2/a | AH4: ft^2/a | AI4: ft^2/a | AJ4: ft^2/a | AK4: ft^2/a | AL4: ft^2/a | AM4: ft^2/a | AN4: ft^2/a | AO4: ft^2/a | AP4: ft^2/a | AQ4: ft^2/a | AR4: ft^2/a | AS4: ft^2/a | AT4: ft^2/a | AU4: ft^2/a | AV4: ft^2/a | AW4: ft^2/a | AX4: ft^2/a | AY4: ft^2/a | AZ4: ft^2/a | BA4: ft^2/a | BB4: ft^2/a | BC4: ft^2/a | BD4: ft^2/a | BE4: ft^2/a | BF4: ft^2/a | BG4: ft^2/a | BH4: ft^2/a | BI4: ft^2/a | BJ4: ft^2/a | BK4: ft^2/a | BL4: ft^2/a | BM4: ft^2/a | BN4: ft^2/a | BO4: ft^2/a | BP4: ft^2/a | BQ4: ft^2/a | BR4: ft^2/a | BS4: ft^2/a | BT4: ft^2/a | BU4: ft^2/a | BV4: ft^2/a | BW4: ft^2/a | BX4: ft^2/a | BY4: ft^2/a | BZ4: ft^2/a | CA4: ft^2/a | CB4: ft^2/a | CC4: ft^2/a | CD4: ft^2/a | CE4: ft^2/a | CF4: ft^2/a | CG4: ft^2/a | CH4: ft^2/a | CI4: ft^2/a | CJ4: ft^2/a | CK4: ft^2/a | CL4: ft^2/a | CM4: ft^2/a | CN4: ft^2/a | CO4: ft^2/a | CP4: ft^2/a | CQ4: ft^2/a | CR4: ft^2/a | CS4: ft^2/a | CT4: ft^2/a | CU4: ft^2/a | CV4: ft^2/a | CW4: ft^2/a | CX4: ft^2/a | CY4: ft^2/a
A5: Softwood | B5: 2 | C5: =TreesCut!C5*(($B5/12)^2)*PI()/4 -> 0 | D5: =TreesCut!D5*(($B5/12)^2)*PI()/4 -> 0 | E5: =TreesCut!E5*(($B5/12)^2)*PI()/4 -> 0 | F5: =TreesCut!F5*(($B5/12)^2)*PI()/4 -> 0 | G5: =TreesCut!G5*(($B5/12)^2)*PI()/4 -> 0 | H5: =TreesCut!H5*(($B5/12)^2)*PI()/4 -> 0 | I5: =TreesCut!I5*(($B5/12)^2)*PI()/4 -> 0 | J5: =TreesCut!J5*(($B5/12)^2)*PI()/4 -> 0 | ... CY5: =TreesCut!CY5*(($B5/12)^2)*PI()/4 -> 0
A6: Softwood | B6: 4 | C6: =TreesCut!C6*(($B6/12)^2)*PI()/4 -> 0 | D6: =TreesCut!D6*(($B6/12)^2)*PI()/4 -> 0 | E6: =TreesCut!E6*(($B6/12)^2)*PI()/4 -> 0 | F6: =TreesCut!F6*(($B6/12)^2)*PI()/4 -> 0 | G6: =TreesCut!G6*(($B6/12)^2)*PI()/4 -> 0 | H6: =TreesCut!H6*(($B6/12)^2)*PI()/4 -> 0 | I6: =TreesCut!I6*(($B6/12)^2)*PI()/4 -> 0 | J6: =TreesCut!J6*(($B6/12)^2)*PI()/4 -> 0 | ... CY6: =TreesCut!CY6*(($B6/12)^2)*PI()/4 -> 0
A7: Softwood | B7: 6 | C7: =TreesCut!C7*(($B7/12)^2)*PI()/4 -> 0 | D7: =TreesCut!D7*(($B7/12)^2)*PI()/4 -> 0 | E7: =TreesCut!E7*(($B7/12)^2)*PI()/4 -> 0 | F7: =TreesCut!F7*(($B7/12)^2)*PI()/4 -> 0 | G7: =TreesCut!G7*(($B7/12)^2)*PI()/4 -> 0 | H7: =TreesCut!H7*(($B7/12)^2)*PI()/4 -> 0 | I7: =TreesCut!I7*(($B7/12)^2)*PI()/4 -> 0 | J7: =TreesCut!J7*(($B7/12)^2)*PI()/4 -> 0 | ... CY7: =TreesCut!CY7*(($B7/12)^2)*PI()/4 -> 0
A8: Softwood | B8: 8 | C8: =TreesCut!C8*(($B8/12)^2)*PI()/4 -> 0 | D8: =TreesCut!D8*(($B8/12)^2)*PI()/4 -> 0 | E8: =TreesCut!E8*(($B8/12)^2)*PI()/4 -> 0 | F8: =TreesCut!F8*(($B8/12)^2)*PI()/4 -> 0 | G8: =TreesCut!G8*(($B8/12)^2)*PI()/4 -> 0 | H8: =TreesCut!H8*(($B8/12)^2)*PI()/4 -> 0 | I8: =TreesCut!I8*(($B8/12)^2)*PI()/4 -> 0 | J8: =TreesCut!J8*(($B8/12)^2)*PI()/4 -> 0 | ... CY8: =TreesCut!CY8*(($B8/12)^2)*PI()/4 -> 0
A9: Softwood | B9: 10 | C9: =TreesCut!C9*(($B9/12)^2)*PI()/4 -> 1.3089969 | D9: =TreesCut!D9*(($B9/12)^2)*PI()/4 -> 0 | E9: =TreesCut!E9*(($B9/12)^2)*PI()/4 -> 0 | F9: =TreesCut!F9*(($B9/12)^2)*PI()/4 -> 0 | G9: =TreesCut!G9*(($B9/12)^2)*PI()/4 -> 0 | H9: =TreesCut!H9*(($B9/12)^2)*PI()/4 -> 0 | I9: =TreesCut!I9*(($B9/12)^2)*PI()/4 -> 0 | J9: =TreesCut!J9*(($B9/12)^2)*PI()/4 -> 0 | ... CY9: =TreesCut!CY9*(($B9/12)^2)*PI()/4 -> 0
A10: Softwood | B10: 12 | C10: =TreesCut!C10*(($B10/12)^2)*PI()/4 -> 2.984513 | D10: =TreesCut!D10*(($B10/12)^2)*PI()/4 -> 0 | E10: =TreesCut!E10*(($B10/12)^2)*PI()/4 -> 0 | F10: =TreesCut!F10*(($B10/12)^2)*PI()/4 -> 0 | G10: =TreesCut!G10*(($B10/12)^2)*PI()/4 -> 0 | H10: =TreesCut!H10*(($B10/12)^2)*PI()/4 -> 0 | I10: =TreesCut!I10*(($B10/12)^2)*PI()/4 -> 0 | J10: =TreesCut!J10*(($B10/12)^2)*PI()/4 -> 0 | ... CY10: =TreesCut!CY10*(($B10/12)^2)*PI()/4 -> 0
A11: Softwood | B11: 14 | C11: =TreesCut!C11*(($B11/12)^2)*PI()/4 -> 5.0243666 | D11: =TreesCut!D11*(($B11/12)^2)*PI()/4 -> 5.8085284 | E11: =TreesCut!E11*(($B11/12)^2)*PI()/4 -> 0 | F11: =TreesCut!F11*(($B11/12)^2)*PI()/4 -> 0 | G11: =TreesCut!G11*(($B11/12)^2)*PI()/4 -> 0 | H11: =TreesCut!H11*(($B11/12)^2)*PI()/4 -> 0 | I11: =TreesCut!I11*(($B11/12)^2)*PI()/4 -> 0 | J11: =TreesCut!J11*(($B11/12)^2)*PI()/4 -> 4.4266881 | ... CY11: =TreesCut!CY11*(($B11/12)^2)*PI()/4 -> 0
A12: Softwood | B12: 16 | C12: =TreesCut!C12*(($B12/12)^2)*PI()/4 -> 5.8643063 | D12: =TreesCut!D12*(($B12/12)^2)*PI()/4 -> 4.8199432 | E12: =TreesCut!E12*(($B12/12)^2)*PI()/4 -> 0 | F12: =TreesCut!F12*(($B12/12)^2)*PI()/4 -> 0 | G12: =TreesCut!G12*(($B12/12)^2)*PI()/4 -> 0 | H12: =TreesCut!H12*(($B12/12)^2)*PI()/4 -> 0 | I12: =TreesCut!I12*(($B12/12)^2)*PI()/4 -> 0 | J12: =TreesCut!J12*(($B12/12)^2)*PI()/4 -> 1.5289302 | ... CY12: =TreesCut!CY12*(($B12/12)^2)*PI()/4 -> 0
A13: Softwood | B13: 18 | C13: =TreesCut!C13*(($B13/12)^2)*PI()/4 -> 4.2411501 | D13: =TreesCut!D13*(($B13/12)^2)*PI()/4 -> 3.6170701 | E13: =TreesCut!E13*(($B13/12)^2)*PI()/4 -> 0 | F13: =TreesCut!F13*(($B13/12)^2)*PI()/4 -> 0 | G13: =TreesCut!G13*(($B13/12)^2)*PI()/4 -> 0 | H13: =TreesCut!H13*(($B13/12)^2)*PI()/4 -> 0 | I13: =TreesCut!I13*(($B13/12)^2)*PI()/4 -> 0 | J13: =TreesCut!J13*(($B13/12)^2)*PI()/4 -> 0.51809955 | ... CY13: =TreesCut!CY13*(($B13/12)^2)*PI()/4 -> 0
A14: Softwood | B14: 20 | C14: =TreesCut!C14*(($B14/12)^2)*PI()/4 -> 3.2724923 | D14: =TreesCut!D14*(($B14/12)^2)*PI()/4 -> 2.3547364 | E14: =TreesCut!E14*(($B14/12)^2)*PI()/4 -> 0 | F14: =TreesCut!F14*(($B14/12)^2)*PI()/4 -> 0 | G14: =TreesCut!G14*(($B14/12)^2)*PI()/4 -> 0 | H14: =TreesCut!H14*(($B14/12)^2)*PI()/4 -> 0 | I14: =TreesCut!I14*(($B14/12)^2)*PI()/4 -> 0 | J14: =TreesCut!J14*(($B14/12)^2)*PI()/4 -> 0.31843052 | ... CY14: =TreesCut!CY14*(($B14/12)^2)*PI()/4 -> 0
A15: Softwood | B15: 22 | C15: =TreesCut!C15*(($B15/12)^2)*PI()/4 -> 2.6398105 | D15: =TreesCut!D15*(($B15/12)^2)*PI()/4 -> 1.3217918 | E15: =TreesCut!E15*(($B15/12)^2)*PI()/4 -> 0 | F15: =TreesCut!F15*(($B15/12)^2)*PI()/4 -> 0 | G15: =TreesCut!G15*(($B15/12)^2)*PI()/4 -> 0 | H15: =TreesCut!H15*(($B15/12)^2)*PI()/4 -> 0 | I15: =TreesCut!I15*(($B15/12)^2)*PI()/4 -> 0 | J15: =TreesCut!J15*(($B15/12)^2)*PI()/4 -> 0.23734214 | ... CY15: =TreesCut!CY15*(($B15/12)^2)*PI()/4 -> 0
A16: Softwood | B16: 24 | C16: =TreesCut!C16*(($B16/12)^2)*PI()/4 -> 1.2566371 | D16: =TreesCut!D16*(($B16/12)^2)*PI()/4 -> 0.85717841 | E16: =TreesCut!E16*(($B16/12)^2)*PI()/4 -> 0 | F16: =TreesCut!F16*(($B16/12)^2)*PI()/4 -> 0 | G16: =TreesCut!G16*(($B16/12)^2)*PI()/4 -> 0 | H16: =TreesCut!H16*(($B16/12)^2)*PI()/4 -> 0 | I16: =TreesCut!I16*(($B16/12)^2)*PI()/4 -> 0 | J16: =TreesCut!J16*(($B16/12)^2)*PI()/4 -> 0.13934413 | ... CY16: =TreesCut!CY16*(($B16/12)^2)*PI()/4 -> 0
... A43: Hard hardwood | B43: 26 | C43: =TreesCut!C43*(($B43/12)^2)*PI()/4 -> 0 | D43: =TreesCut!D43*(($B43/12)^2)*PI()/4 -> 0.39538782 | E43: =TreesCut!E43*(($B43/12)^2)*PI()/4 -> 0 | F43: =TreesCut!F43*(($B43/12)^2)*PI()/4 -> 0 | G43: =TreesCut!G43*(($B43/12)^2)*PI()/4 -> 0 | H43: =TreesCut!H43*(($B43/12)^2)*PI()/4 -> 0 | I43: =TreesCut!I43*(($B43/12)^2)*PI()/4 -> 0 | J43: =TreesCut!J43*(($B43/12)^2)*PI()/4 -> 0.017247926 | ... CY43: =TreesCut!CY43*(($B43/12)^2)*PI()/4 -> 0
A44: Softwood | B44: All sizes | C44: =SUM(C5:C17) -> 28.067076 | D44: =SUM(D5:D17) -> 19.29689 | E44: =SUM(E5:E17) -> 0 | F44: =SUM(F5:F17) -> 0 | G44: =SUM(G5:G17) -> 0 | H44: =SUM(H5:H17) -> 0 | I44: =SUM(I5:I17) -> 0 | J44: =SUM(J5:J17) -> 7.2946359 | ... CY44: =SUM(CY5:CY17) -> 0
A45: Soft hardwood | B45: All sizes | C45: =SUM(C18:C30) -> 9.1673419 | D45: =SUM(D18:D30) -> 13.144901 | E45: =SUM(E18:E30) -> 0 | F45: =SUM(F18:F30) -> 0 | G45: =SUM(G18:G30) -> 0 | H45: =SUM(H18:H30) -> 0 | I45: =SUM(I18:I30) -> 0 | J45: =SUM(J18:J30) -> 1.9727917 | ... CY45: =SUM(CY18:CY30) -> 0
A46: Hard hardwood | B46: All sizes | C46: =SUM(C31:C43) -> 4.2651484 | D46: =SUM(D31:D43) -> 16.048113 | E46: =SUM(E31:E43) -> 0 | F46: =SUM(F31:F43) -> 0 | G46: =SUM(G31:G43) -> 0 | H46: =SUM(H31:H43) -> 0 | I46: =SUM(I31:I43) -> 0 | J46: =SUM(J31:J43) -> 2.067299 | ... CY46: =SUM(CY31:CY43) -> 0
A47: All species | B47: All sizes | C47: =SUM(C44:C46) -> 41.499566 | D47: =SUM(D44:D46) -> 48.489904 | E47: =SUM(E44:E46) -> 0 | F47: =SUM(F44:F46) -> 0 | G47: =SUM(G44:G46) -> 0 | H47: =SUM(H44:H46) -> 0 | I47: =SUM(I44:I46) -> 0 | J47: =SUM(J44:J46) -> 11.334727 | ... CY47: =SUM(CY44:CY46) -> 0

Sheet BasalAreaCutChart
C1: Basal area of trees cut, by species, size, and year.

Sheet SawlogWeight
C1: Weight of sawlog per tree, by species, size, and year
A2: Site | B2: =Target!B2 -> 2
A3: Year | C3: 0 | D3: =C3+1 -> 1 | E3: =D3+1 -> 2 | F3: =E3+1 -> 3 | G3: =F3+1 -> 4 | H3: =G3+1 -> 5 | I3: =H3+1 -> 6 | J3: =I3+1 -> 7 | K3: =J3+1 -> 8 | ... CY3: =CX3+1 -> 100
A4: Species | B4: dbh (in.) | C4: ton/tree | D4: ton/tree | E4: ton/tree | F4: ton/tree | G4: ton/tree | H4: ton/tree | I4: ton/tree | J4: ton/tree | K4: ton/tree | L4: ton/tree | M4: ton/tree | N4: ton/tree | O4: ton/tree | P4: ton/tree | Q4: ton/tree | R4: ton/tree | S4: ton/tree | T4: ton/tree | U4: ton/tree | V4: ton/tree | W4: ton/tree | X4: ton/tree | Y4: ton/tree | Z4: ton/tree | AA4: ton/tree | AB4: ton/tree | AC4: ton/tree | AD4: ton/tree | AE4: ton/tree | AF4: ton/tree | AG4: ton/tree | AH4: ton/tree | AI4: ton/tree | AJ4: ton/tree | AK4: ton/tree | AL4: ton/tree | AM4: ton/tree | AN4: ton/tree | AO4: ton/tree | AP4: ton/tree | AQ4: ton/tree | AR4: ton/tree | AS4: ton/tree | AT4: ton/tree | AU4: ton/tree | AV4: ton/tree | AW4: ton/tree | AX4: ton/tree | AY4: ton/tree | AZ4: ton/tree | BA4: ton/tree | BB4: ton/tree | BC4: ton/tree | BD4: ton/tree | BE4: ton/tree | BF4: ton/tree | BG4: ton/tree | BH4: ton/tree | BI4: ton/tree | BJ4: ton/tree | BK4: ton/tree | BL4: ton/tree | BM4: ton/tree | BN4: ton/tree | BO4: ton/tree | BP4: ton/tree | BQ4: ton/tree | BR4: ton/tree | BS4: ton/tree | BT4: ton/tree | BU4: ton/tree | BV4: ton/tree | BW4: ton/tree | BX4: ton/tree | BY4: ton/tree | BZ4: ton/tree | CA4: ton/tree | CB4: ton/tree | CC4: ton/tree | CD4: ton/tree | CE4: ton/tree | CF4: ton/tree | CG4: ton/tree | CH4: ton/tree | CI4: ton/tree | CJ4: ton/tree | CK4: ton/tree | CL4: ton/tree | CM4: ton/tree | CN4: ton/tree | CO4: ton/tree | CP4: ton/tree | CQ4: ton/tree | CR4: ton/tree | CS4: ton/tree | CT4: ton/tree | CU4: ton/tree | CV4: ton/tree | CW4: ton/tree | CX4: ton/tree | CY4: ton/tree
A5: Softwood | B5: 2 | C5: 0 | D5: 0 | E5: 0 | F5: 0 | G5: 0 | H5: 0 | I5: 0 | J5: 0 | K5: 0 | L5: 0 | M5: 0 | N5: 0 | O5: 0 | P5: 0 | Q5: 0 | R5: 0 | S5: 0 | T5: 0 | U5: 0 | V5: 0 | W5: 0 | X5: 0 | Y5: 0 | Z5: 0 | AA5: 0 | AB5: 0 | AC5: 0 | AD5: 0 | AE5: 0 | AF5: 0 | AG5: 0 | AH5: 0 | AI5: 0 | AJ5: 0 | AK5: 0 | AL5: 0 | AM5: 0 | AN5: 0 | AO5: 0 | AP5: 0 | AQ5: 0 | AR5: 0 | AS5: 0 | AT5: 0 | AU5: 0 | AV5: 0 | AW5: 0 | AX5: 0 | AY5: 0 | AZ5: 0 | BA5: 0 | BB5: 0 | BC5: 0 | BD5: 0 | BE5: 0 | BF5: 0 | BG5: 0 | BH5: 0 | BI5: 0 | BJ5: 0 | BK5: 0 | BL5: 0 | BM5: 0 | BN5: 0 | BO5: 0 | BP5: 0 | BQ5: 0 | BR5: 0 | BS5: 0 | BT5: 0 | BU5: 0 | BV5: 0 | BW5: 0 | BX5: 0 | BY5: 0 | BZ5: 0 | CA5: 0 | CB5: 0 | CC5: 0 | CD5: 0 | CE5: 0 | CF5: 0 | CG5: 0 | CH5: 0 | CI5: 0 | CJ5: 0 | CK5: 0 | CL5: 0 | CM5: 0 | CN5: 0 | CO5: 0 | CP5: 0 | CQ5: 0 | CR5: 0 | CS5: 0 | CT5: 0 | CU5: 0 | CV5: 0 | CW5: 0 | CX5: 0 | CY5: 0
A6: Softwood | B6: 4 | C6: 0 | D6: 0 | E6: 0 | F6: 0 | G6: 0 | H6: 0 | I6: 0 | J6: 0 | K6: 0 | L6: 0 | M6: 0 | N6: 0 | O6: 0 | P6: 0 | Q6: 0 | R6: 0 | S6: 0 | T6: 0 | U6: 0 | V6: 0 | W6: 0 | X6: 0 | Y6: 0 | Z6: 0 | AA6: 0 | AB6: 0 | AC6: 0 | AD6: 0 | AE6: 0 | AF6: 0 | AG6: 0 | AH6: 0 | AI6: 0 | AJ6: 0 | AK6: 0 | AL6: 0 | AM6: 0 | AN6: 0 | AO6: 0 | AP6: 0 | AQ6: 0 | AR6: 0 | AS6: 0 | AT6: 0 | AU6: 0 | AV6: 0 | AW6: 0 | AX6: 0 | AY6: 0 | AZ6: 0 | BA6: 0 | BB6: 0 | BC6: 0 | BD6: 0 | BE6: 0 | BF6: 0 | BG6: 0 | BH6: 0 | BI6: 0 | BJ6: 0 | BK6: 0 | BL6: 0 | BM6: 0 | BN6: 0 | BO6: 0 | BP6: 0 | BQ6: 0 | BR6: 0 | BS6: 0 | BT6: 0 | BU6: 0 | BV6: 0 | BW6: 0 | BX6: 0 | BY6: 0 | BZ6: 0 | CA6: 0 | CB6: 0 | CC6: 0 | CD6: 0 | CE6: 0 | CF6: 0 | CG6: 0 | CH6: 0 | CI6: 0 | CJ6: 0 | CK6: 0 | CL6: 0 | CM6: 0 | CN6: 0 | CO6: 0 | CP6: 0 | CQ6: 0 | CR6: 0 | CS6: 0 | CT6: 0 | CU6: 0 | CV6: 0 | CW6: 0 | CX6: 0 | CY6: 0
A7: Softwood | B7: 6 | C7: 0 | D7: 0 | E7: 0 | F7: 0 | G7: 0 | H7: 0 | I7: 0 | J7: 0 | K7: 0 | L7: 0 | M7: 0 | N7: 0 | O7: 0 | P7: 0 | Q7: 0 | R7: 0 | S7: 0 | T7: 0 | U7: 0 | V7: 0 | W7: 0 | X7: 0 | Y7: 0 | Z7: 0 | AA7: 0 | AB7: 0 | AC7: 0 | AD7: 0 | AE7: 0 | AF7: 0 | AG7: 0 | AH7: 0 | AI7: 0 | AJ7: 0 | AK7: 0 | AL7: 0 | AM7: 0 | AN7: 0 | AO7: 0 | AP7: 0 | AQ7: 0 | AR7: 0 | AS7: 0 | AT7: 0 | AU7: 0 | AV7: 0 | AW7: 0 | AX7: 0 | AY7: 0 | AZ7: 0 | BA7: 0 | BB7: 0 | BC7: 0 | BD7: 0 | BE7: 0 | BF7: 0 | BG7: 0 | BH7: 0 | BI7: 0 | BJ7: 0 | BK7: 0 | BL7: 0 | BM7: 0 | BN7: 0 | BO7: 0 | BP7: 0 | BQ7: 0 | BR7: 0 | BS7: 0 | BT7: 0 | BU7: 0 | BV7: 0 | BW7: 0 | BX7: 0 | BY7: 0 | BZ7: 0 | CA7: 0 | CB7: 0 | CC7: 0 | CD7: 0 | CE7: 0 | CF7: 0 | CG7: 0 | CH7: 0 | CI7: 0 | CJ7: 0 | CK7: 0 | CL7: 0 | CM7: 0 | CN7: 0 | CO7: 0 | CP7: 0 | CQ7: 0 | CR7: 0 | CS7: 0 | CT7: 0 | CU7: 0 | CV7: 0 | CW7: 0 | CX7: 0 | CY7: 0
A8: Softwood | B8: 8 | C8: 0 | D8: 0 | E8: 0 | F8: 0 | G8: 0 | H8: 0 | I8: 0 | J8: 0 | K8: 0 | L8: 0 | M8: 0 | N8: 0 | O8: 0 | P8: 0 | Q8: 0 | R8: 0 | S8: 0 | T8: 0 | U8: 0 | V8: 0 | W8: 0 | X8: 0 | Y8: 0 | Z8: 0 | AA8: 0 | AB8: 0 | AC8: 0 | AD8: 0 | AE8: 0 | AF8: 0 | AG8: 0 | AH8: 0 | AI8: 0 | AJ8: 0 | AK8: 0 | AL8: 0 | AM8: 0 | AN8: 0 | AO8: 0 | AP8: 0 | AQ8: 0 | AR8: 0 | AS8: 0 | AT8: 0 | AU8: 0 | AV8: 0 | AW8: 0 | AX8: 0 | AY8: 0 | AZ8: 0 | BA8: 0 | BB8: 0 | BC8: 0 | BD8: 0 | BE8: 0 | BF8: 0 | BG8: 0 | BH8: 0 | BI8: 0 | BJ8: 0 | BK8: 0 | BL8: 0 | BM8: 0 | BN8: 0 | BO8: 0 | BP8: 0 | BQ8: 0 | BR8: 0 | BS8: 0 | BT8: 0 | BU8: 0 | BV8: 0 | BW8: 0 | BX8: 0 | BY8: 0 | BZ8: 0 | CA8: 0 | CB8: 0 | CC8: 0 | CD8: 0 | CE8: 0 | CF8: 0 | CG8: 0 | CH8: 0 | CI8: 0 | CJ8: 0 | CK8: 0 | CL8: 0 | CM8: 0 | CN8: 0 | CO8: 0 | CP8: 0 | CQ8: 0 | CR8: 0 | CS8: 0 | CT8: 0 | CU8: 0 | CV8: 0 | CW8: 0 | CX8: 0 | CY8: 0
A9: Softwood | B9: 10 | C9: 0.315 | D9: 0.315 | E9: 0.315 | F9: 0.315 | G9: 0.315 | H9: 0.315 | I9: 0.315 | J9: 0.315 | K9: 0.315 | L9: 0.315 | M9: 0.315 | N9: 0.315 | O9: 0.315 | P9: 0.315 | Q9: 0.315 | R9: 0.315 | S9: 0.315 | T9: 0.315 | U9: 0.315 | V9: 0.315 | W9: 0.315 | X9: 0.315 | Y9: 0.315 | Z9: 0.315 | AA9: 0.315 | AB9: 0.315 | AC9: 0.315 | AD9: 0.315 | AE9: 0.315 | AF9: 0.315 | AG9: 0.315 | AH9: 0.315 | AI9: 0.315 | AJ9: 0.315 | AK9: 0.315 | AL9: 0.315 | AM9: 0.315 | AN9: 0.315 | AO9: 0.315 | AP9: 0.315 | AQ9: 0.315 | AR9: 0.315 | AS9: 0.315 | AT9: 0.315 | AU9: 0.315 | AV9: 0.315 | AW9: 0.315 | AX9: 0.315 | AY9: 0.315 | AZ9: 0.315 | BA9: 0.315 | BB9: 0.315 | BC9: 0.315 | BD9: 0.315 | BE9: 0.315 | BF9: 0.315 | BG9: 0.315 | BH9: 0.315 | BI9: 0.315 | BJ9: 0.315 | BK9: 0.315 | BL9: 0.315 | BM9: 0.315 | BN9: 0.315 | BO9: 0.315 | BP9: 0.315 | BQ9: 0.315 | BR9: 0.315 | BS9: 0.315 | BT9: 0.315 | BU9: 0.315 | BV9: 0.315 | BW9: 0.315 | BX9: 0.315 | BY9: 0.315 | BZ9: 0.315 | CA9: 0.315 | CB9: 0.315 | CC9: 0.315 | CD9: 0.315 | CE9: 0.315 | CF9: 0.315 | CG9: 0.315 | CH9: 0.315 | CI9: 0.315 | CJ9: 0.315 | CK9: 0.315 | CL9: 0.315 | CM9: 0.315 | CN9: 0.315 | CO9: 0.315 | CP9: 0.315 | CQ9: 0.315 | CR9: 0.315 | CS9: 0.315 | CT9: 0.315 | CU9: 0.315 | CV9: 0.315 | CW9: 0.315 | CX9: 0.315 | CY9: 0.315
A10: Softwood | B10: 12 | C10: 0.4375 | D10: 0.4375 | E10: 0.4375 | F10: 0.4375 | G10: 0.4375 | H10: 0.4375 | I10: 0.4375 | J10: 0.4375 | K10: 0.4375 | L10: 0.4375 | M10: 0.4375 | N10: 0.4375 | O10: 0.4375 | P10: 0.4375 | Q10: 0.4375 | R10: 0.4375 | S10: 0.4375 | T10: 0.4375 | U10: 0.4375 | V10: 0.4375 | W10: 0.4375 | X10: 0.4375 | Y10: 0.4375 | Z10: 0.4375 | AA10: 0.4375 | AB10: 0.4375 | AC10: 0.4375 | AD10: 0.4375 | AE10: 0.4375 | AF10: 0.4375 | AG10: 0.4375 | AH10: 0.4375 | AI10: 0.4375 | AJ10: 0.4375 | AK10: 0.4375 | AL10: 0.4375 | AM10: 0.4375 | AN10: 0.4375 | AO10: 0.4375 | AP10: 0.4375 | AQ10: 0.4375 | AR10: 0.4375 | AS10: 0.4375 | AT10: 0.4375 | AU10: 0.4375 | AV10: 0.4375 | AW10: 0.4375 | AX10: 0.4375 | AY10: 0.4375 | AZ10: 0.4375 | BA10: 0.4375 | BB10: 0.4375 | BC10: 0.4375 | BD10: 0.4375 | BE10: 0.4375 | BF10: 0.4375 | BG10: 0.4375 | BH10: 0.4375 | BI10: 0.4375 | BJ10: 0.4375 | BK10: 0.4375 | BL10: 0.4375 | BM10: 0.4375 | BN10: 0.4375 | BO10: 0.4375 | BP10: 0.4375 | BQ10: 0.4375 | BR10: 0.4375 | BS10: 0.4375 | BT10: 0.4375 | BU10: 0.4375 | BV10: 0.4375 | BW10: 0.4375 | BX10: 0.4375 | BY10: 0.4375 | BZ10: 0.4375 | CA10: 0.4375 | CB10: 0.4375 | CC10: 0.4375 | CD10: 0.4375 | CE10: 0.4375 | CF10: 0.4375 | CG10: 0.4375 | CH10: 0.4375 | CI10: 0.4375 | CJ10: 0.4375 | CK10: 0.4375 | CL10: 0.4375 | CM10: 0.4375 | CN10: 0.4375 | CO10: 0.4375 | CP10: 0.4375 | CQ10: 0.4375 | CR10: 0.4375 | CS10: 0.4375 | CT10: 0.4375 | CU10: 0.4375 | CV10: 0.4375 | CW10: 0.4375 | CX10: 0.4375 | CY10: 0.4375
A11: Softwood | B11: 14 | C11: 0.8745 | D11: 0.8745 | E11: 0.8745 | F11: 0.8745 | G11: 0.8745 | H11: 0.8745 | I11: 0.8745 | J11: 0.8745 | K11: 0.8745 | L11: 0.8745 | M11: 0.8745 | N11: 0.8745 | O11: 0.8745 | P11: 0.8745 | Q11: 0.8745 | R11: 0.8745 | S11: 0.8745 | T11: 0.8745 | U11: 0.8745 | V11: 0.8745 | W11: 0.8745 | X11: 0.8745 | Y11: 0.8745 | Z11: 0.8745 | AA11: 0.8745 | AB11: 0.8745 | AC11: 0.8745 | AD11: 0.8745 | AE11: 0.8745 | AF11: 0.8745 | AG11: 0.8745 | AH11: 0.8745 | AI11: 0.8745 | AJ11: 0.8745 | AK11: 0.8745 | AL11: 0.8745 | AM11: 0.8745 | AN11: 0.8745 | AO11: 0.8745 | AP11: 0.8745 | AQ11: 0.8745 | AR11: 0.8745 | AS11: 0.8745 | AT11: 0.8745 | AU11: 0.8745 | AV11: 0.8745 | AW11: 0.8745 | AX11: 0.8745 | AY11: 0.8745 | AZ11: 0.8745 | BA11: 0.8745 | BB11: 0.8745 | BC11: 0.8745 | BD11: 0.8745 | BE11: 0.8745 | BF11: 0.8745 | BG11: 0.8745 | BH11: 0.8745 | BI11: 0.8745 | BJ11: 0.8745 | BK11: 0.8745 | BL11: 0.8745 | BM11: 0.8745 | BN11: 0.8745 | BO11: 0.8745 | BP11: 0.8745 | BQ11: 0.8745 | BR11: 0.8745 | BS11: 0.8745 | BT11: 0.8745 | BU11: 0.8745 | BV11: 0.8745 | BW11: 0.8745 | BX11: 0.8745 | BY11: 0.8745 | BZ11: 0.8745 | CA11: 0.8745 | CB11: 0.8745 | CC11: 0.8745 | CD11: 0.8745 | CE11: 0.8745 | CF11: 0.8745 | CG11: 0.8745 | CH11: 0.8745 | CI11: 0.8745 | CJ11: 0.8745 | CK11: 0.8745 | CL11: 0.8745 | CM11: 0.8745 | CN11: 0.8745 | CO11: 0.8745 | CP11: 0.8745 | CQ11: 0.8745 | CR11: 0.8745 | CS11: 0.8745 | CT11: 0.8745 | CU11: 0.8745 | CV11: 0.8745 | CW11: 0.8745 | CX11: 0.8745 | CY11: 0.8745
A12: Softwood | B12: 16 | C12: 1.2245 | D12: 1.2245 | E12: 1.2245 | F12: 1.2245 | G12: 1.2245 | H12: 1.2245 | I12: 1.2245 | J12: 1.2245 | K12: 1.2245 | L12: 1.2245 | M12: 1.2245 | N12: 1.2245 | O12: 1.2245 | P12: 1.2245 | Q12: 1.2245 | R12: 1.2245 | S12: 1.2245 | T12: 1.2245 | U12: 1.2245 | V12: 1.2245 | W12: 1.2245 | X12: 1.2245 | Y12: 1.2245 | Z12: 1.2245 | AA12: 1.2245 | AB12: 1.2245 | AC12: 1.2245 | AD12: 1.2245 | AE12: 1.2245 | AF12: 1.2245 | AG12: 1.2245 | AH12: 1.2245 | AI12: 1.2245 | AJ12: 1.2245 | AK12: 1.2245 | AL12: 1.2245 | AM12: 1.2245 | AN12: 1.2245 | AO12: 1.2245 | AP12: 1.2245 | AQ12: 1.2245 | AR12: 1.2245 | AS12: 1.2245 | AT12: 1.2245 | AU12: 1.2245 | AV12: 1.2245 | AW12: 1.2245 | AX12: 1.2245 | AY12: 1.2245 | AZ12: 1.2245 | BA12: 1.2245 | BB12: 1.2245 | BC12: 1.2245 | BD12: 1.2245 | BE12: 1.2245 | BF12: 1.2245 | BG12: 1.2245 | BH12: 1.2245 | BI12: 1.2245 | BJ12: 1.2245 | BK12: 1.2245 | BL12: 1.2245 | BM12: 1.2245 | BN12: 1.2245 | BO12: 1.2245 | BP12: 1.2245 | BQ12: 1.2245 | BR12: 1.2245 | BS12: 1.2245 | BT12: 1.2245 | BU12: 1.2245 | BV12: 1.2245 | BW12: 1.2245 | BX12: 1.2245 | BY12: 1.2245 | BZ12: 1.2245 | CA12: 1.2245 | CB12: 1.2245 | CC12: 1.2245 | CD12: 1.2245 | CE12: 1.2245 | CF12: 1.2245 | CG12: 1.2245 | CH12: 1.2245 | CI12: 1.2245 | CJ12: 1.2245 | CK12: 1.2245 | CL12: 1.2245 | CM12: 1.2245 | CN12: 1.2245 | CO12: 1.2245 | CP12: 1.2245 | CQ12: 1.2245 | CR12: 1.2245 | CS12: 1.2245 | CT12: 1.2245 | CU12: 1.2245 | CV12: 1.2245 | CW12: 1.2245 | CX12: 1.2245 | CY12: 1.2245
A13: Softwood | B13: 18 | C13: 1.621 | D13: 1.621 | E13: 1.621 | F13: 1.621 | G13: 1.621 | H13: 1.621 | I13: 1.621 | J13: 1.621 | K13: 1.621 | L13: 1.621 | M13: 1.621 | N13: 1.621 | O13: 1.621 | P13: 1.621 | Q13: 1.621 | R13: 1.621 | S13: 1.621 | T13: 1.621 | U13: 1.621 | V13: 1.621 | W13: 1.621 | X13: 1.621 | Y13: 1.621 | Z13: 1.621 | AA13: 1.621 | AB13: 1.621 | AC13: 1.621 | AD13: 1.621 | AE13: 1.621 | AF13: 1.621 | AG13: 1.621 | AH13: 1.621 | AI13: 1.621 | AJ13: 1.621 | AK13: 1.621 | AL13: 1.621 | AM13: 1.621 | AN13: 1.621 | AO13: 1.621 | AP13: 1.621 | AQ13: 1.621 | AR13: 1.621 | AS13: 1.621 | AT13: 1.621 | AU13: 1.621 | AV13: 1.621 | AW13: 1.621 | AX13: 1.621 | AY13: 1.621 | AZ13: 1.621 | BA13: 1.621 | BB13: 1.621 | BC13: 1.621 | BD13: 1.621 | BE13: 1.621 | BF13: 1.621 | BG13: 1.621 | BH13: 1.621 | BI13: 1.621 | BJ13: 1.621 | BK13: 1.621 | BL13: 1.621 | BM13: 1.621 | BN13: 1.621 | BO13: 1.621 | BP13: 1.621 | BQ13: 1.621 | BR13: 1.621 | BS13: 1.621 | BT13: 1.621 | BU13: 1.621 | BV13: 1.621 | BW13: 1.621 | BX13: 1.621 | BY13: 1.621 | BZ13: 1.621 | CA13: 1.621 | CB13: 1.621 | CC13: 1.621 | CD13: 1.621 | CE13: 1.621 | CF13: 1.621 | CG13: 1.621 | CH13: 1.621 | CI13: 1.621 | CJ13: 1.621 | CK13: 1.621 | CL13: 1.621 | CM13: 1.621 | CN13: 1.621 | CO13: 1.621 | CP13: 1.621 | CQ13: 1.621 | CR13: 1.621 | CS13: 1.621 | CT13: 1.621 | CU13: 1.621 | CV13: 1.621 | CW13: 1.621 | CX13: 1.621 | CY13: 1.621
A14: Softwood | B14: 20 | C14: 2.064 | D14: 2.064 | E14: 2.064 | F14: 2.064 | G14: 2.064 | H14: 2.064 | I14: 2.064 | J14: 2.064 | K14: 2.064 | L14: 2.064 | M14: 2.064 | N14: 2.064 | O14: 2.064 | P14: 2.064 | Q14: 2.064 | R14: 2.064 | S14: 2.064 | T14: 2.064 | U14: 2.064 | V14: 2.064 | W14: 2.064 | X14: 2.064 | Y14: 2.064 | Z14: 2.064 | AA14: 2.064 | AB14: 2.064 | AC14: 2.064 | AD14: 2.064 | AE14: 2.064 | AF14: 2.064 | AG14: 2.064 | AH14: 2.064 | AI14: 2.064 | AJ14: 2.064 | AK14: 2.064 | AL14: 2.064 | AM14: 2.064 | AN14: 2.064 | AO14: 2.064 | AP14: 2.064 | AQ14: 2.064 | AR14: 2.064 | AS14: 2.064 | AT14: 2.064 | AU14: 2.064 | AV14: 2.064 | AW14: 2.064 | AX14: 2.064 | AY14: 2.064 | AZ14: 2.064 | BA14: 2.064 | BB14: 2.064 | BC14: 2.064 | BD14: 2.064 | BE14: 2.064 | BF14: 2.064 | BG14: 2.064 | BH14: 2.064 | BI14: 2.064 | BJ14: 2.064 | BK14: 2.064 | BL14: 2.064 | BM14: 2.064 | BN14: 2.064 | BO14: 2.064 | BP14: 2.064 | BQ14: 2.064 | BR14: 2.064 | BS14: 2.064 | BT14: 2.064 | BU14: 2.064 | BV14: 2.064 | BW14: 2.064 | BX14: 2.064 | BY14: 2.064 | BZ14: 2.064 | CA14: 2.064 | CB14: 2.064 | CC14: 2.064 | CD14: 2.064 | CE14: 2.064 | CF14: 2.064 | CG14: 2.064 | CH14: 2.064 | CI14: 2.064 | CJ14: 2.064 | CK14: 2.064 | CL14: 2.064 | CM14: 2.064 | CN14: 2.064 | CO14: 2.064 | CP14: 2.064 | CQ14: 2.064 | CR14: 2.064 | CS14: 2.064 | CT14: 2.064 | CU14: 2.064 | CV14: 2.064 | CW14: 2.064 | CX14: 2.064 | CY14: 2.064
A15: Softwood | B15: 22 | C15: 2.5535 | D15: 2.5535 | E15: 2.5535 | F15: 2.5535 | G15: 2.5535 | H15: 2.5535 | I15: 2.5535 | J15: 2.5535 | K15: 2.5535 | L15: 2.5535 | M15: 2.5535 | N15: 2.5535 | O15: 2.5535 | P15: 2.5535 | Q15: 2.5535 | R15: 2.5535 | S15: 2.5535 | T15: 2.5535 | U15: 2.5535 | V15: 2.5535 | W15: 2.5535 | X15: 2.5535 | Y15: 2.5535 | Z15: 2.5535 | AA15: 2.5535 | AB15: 2.5535 | AC15: 2.5535 | AD15: 2.5535 | AE15: 2.5535 | AF15: 2.5535 | AG15: 2.5535 | AH15: 2.5535 | AI15: 2.5535 | AJ15: 2.5535 | AK15: 2.5535 | AL15: 2.5535 | AM15: 2.5535 | AN15: 2.5535 | AO15: 2.5535 | AP15: 2.5535 | AQ15: 2.5535 | AR15: 2.5535 | AS15: 2.5535 | AT15: 2.5535 | AU15: 2.5535 | AV15: 2.5535 | AW15: 2.5535 | AX15: 2.5535 | AY15: 2.5535 | AZ15: 2.5535 | BA15: 2.5535 | BB15: 2.5535 | BC15: 2.5535 | BD15: 2.5535 | BE15: 2.5535 | BF15: 2.5535 | BG15: 2.5535 | BH15: 2.5535 | BI15: 2.5535 | BJ15: 2.5535 | BK15: 2.5535 | BL15: 2.5535 | BM15: 2.5535 | BN15: 2.5535 | BO15: 2.5535 | BP15: 2.5535 | BQ15: 2.5535 | BR15: 2.5535 | BS15: 2.5535 | BT15: 2.5535 | BU15: 2.5535 | BV15: 2.5535 | BW15: 2.5535 | BX15: 2.5535 | BY15: 2.5535 | BZ15: 2.5535 | CA15: 2.5535 | CB15: 2.5535 | CC15: 2.5535 | CD15: 2.5535 | CE15: 2.5535 | CF15: 2.5535 | CG15: 2.5535 | CH15: 2.5535 | CI15: 2.5535 | CJ15: 2.5535 | CK15: 2.5535 | CL15: 2.5535 | CM15: 2.5535 | CN15: 2.5535 | CO15: 2.5535 | CP15: 2.5535 | CQ15: 2.5535 | CR15: 2.5535 | CS15: 2.5535 | CT15: 2.5535 | CU15: 2.5535 | CV15: 2.5535 | CW15: 2.5535 | CX15: 2.5535 | CY15: 2.5535
A16: Softwood | B16: 24 | C16: 3.09 | D16: 3.09 | E16: 3.09 | F16: 3.09 | G16: 3.09 | H16: 3.09 | I16: 3.09 | J16: 3.09 | K16: 3.09 | L16: 3.09 | M16: 3.09 | N16: 3.09 | O16: 3.09 | P16: 3.09 | Q16: 3.09 | R16: 3.09 | S16: 3.09 | T16: 3.09 | U16: 3.09 | V16: 3.09 | W16: 3.09 | X16: 3.09 | Y16: 3.09 | Z16: 3.09 | AA16: 3.09 | AB16: 3.09 | AC16: 3.09 | AD16: 3.09 | AE16: 3.09 | AF16: 3.09 | AG16: 3.09 | AH16: 3.09 | AI16: 3.09 | AJ16: 3.09 | AK16: 3.09 | AL16: 3.09 | AM16: 3.09 | AN16: 3.09 | AO16: 3.09 | AP16: 3.09 | AQ16: 3.09 | AR16: 3.09 | AS16: 3.09 | AT16: 3.09 | AU16: 3.09 | AV16: 3.09 | AW16: 3.09 | AX16: 3.09 | AY16: 3.09 | AZ16: 3.09 | BA16: 3.09 | BB16: 3.09 | BC16: 3.09 | BD16: 3.09 | BE16: 3.09 | BF16: 3.09 | BG16: 3.09 | BH16: 3.09 | BI16: 3.09 | BJ16: 3.09 | BK16: 3.09 | BL16: 3.09 | BM16: 3.09 | BN16: 3.09 | BO16: 3.09 | BP16: 3.09 | BQ16: 3.09 | BR16: 3.09 | BS16: 3.09 | BT16: 3.09 | BU16: 3.09 | BV16: 3.09 | BW16: 3.09 | BX16: 3.09 | BY16: 3.09 | BZ16: 3.09 | CA16: 3.09 | CB16: 3.09 | CC16: 3.09 | CD16: 3.09 | CE16: 3.09 | CF16: 3.09 | CG16: 3.09 | CH16: 3.09 | CI16: 3.09 | CJ16: 3.09 | CK16: 3.09 | CL16: 3.09 | CM16: 3.09 | CN16: 3.09 | CO16: 3.09 | CP16: 3.09 | CQ16: 3.09 | CR16: 3.09 | CS16: 3.09 | CT16: 3.09 | CU16: 3.09 | CV16: 3.09 | CW16: 3.09 | CX16: 3.09 | CY16: 3.09
... A43: Hard hardwood | B43: 26 | C43: 3.589 | D43: 3.589 | E43: 3.589 | F43: 3.589 | G43: 3.589 | H43: 3.589 | I43: 3.589 | J43: 3.589 | K43: 3.589 | L43: 3.589 | M43: 3.589 | N43: 3.589 | O43: 3.589 | P43: 3.589 | Q43: 3.589 | R43: 3.589 | S43: 3.589 | T43: 3.589 | U43: 3.589 | V43: 3.589 | W43: 3.589 | X43: 3.589 | Y43: 3.589 | Z43: 3.589 | AA43: 3.589 | AB43: 3.589 | AC43: 3.589 | AD43: 3.589 | AE43: 3.589 | AF43: 3.589 | AG43: 3.589 | AH43: 3.589 | AI43: 3.589 | AJ43: 3.589 | AK43: 3.589 | AL43: 3.589 | AM43: 3.589 | AN43: 3.589 | AO43: 3.589 | AP43: 3.589 | AQ43: 3.589 | AR43: 3.589 | AS43: 3.589 | AT43: 3.589 | AU43: 3.589 | AV43: 3.589 | AW43: 3.589 | AX43: 3.589 | AY43: 3.589 | AZ43: 3.589 | BA43: 3.589 | BB43: 3.589 | BC43: 3.589 | BD43: 3.589 | BE43: 3.589 | BF43: 3.589 | BG43: 3.589 | BH43: 3.589 | BI43: 3.589 | BJ43: 3.589 | BK43: 3.589 | BL43: 3.589 | BM43: 3.589 | BN43: 3.589 | BO43: 3.589 | BP43: 3.589 | BQ43: 3.589 | BR43: 3.589 | BS43: 3.589 | BT43: 3.589 | BU43: 3.589 | BV43: 3.589 | BW43: 3.589 | BX43: 3.589 | BY43: 3.589 | BZ43: 3.589 | CA43: 3.589 | CB43: 3.589 | CC43: 3.589 | CD43: 3.589 | CE43: 3.589 | CF43: 3.589 | CG43: 3.589 | CH43: 3.589 | CI43: 3.589 | CJ43: 3.589 | CK43: 3.589 | CL43: 3.589 | CM43: 3.589 | CN43: 3.589 | CO43: 3.589 | CP43: 3.589 | CQ43: 3.589 | CR43: 3.589 | CS43: 3.589 | CT43: 3.589 | CU43: 3.589 | CV43: 3.589 | CW43: 3.589 | CX43: 3.589 | CY43: 3.589

Sheet PulpwoodWeight
C1: Weight of pulpwood per tree, by species, size, and year
A2: Site | B2: =Target!B2 -> 2
A3: Year | C3: 0 | D3: =C3+1 -> 1 | E3: =D3+1 -> 2 | F3: =E3+1 -> 3 | G3: =F3+1 -> 4 | H3: =G3+1 -> 5 | I3: =H3+1 -> 6 | J3: =I3+1 -> 7 | K3: =J3+1 -> 8 | ... CY3: =CX3+1 -> 100
A4: Species | B4: dbh (in.) | C4: ton/tree | D4: ton/tree | E4: ton/tree | F4: ton/tree | G4: ton/tree | H4: ton/tree | I4: ton/tree | J4: ton/tree | K4: ton/tree | L4: ton/tree | M4: ton/tree | N4: ton/tree | O4: ton/tree | P4: ton/tree | Q4: ton/tree | R4: ton/tree | S4: ton/tree | T4: ton/tree | U4: ton/tree | V4: ton/tree | W4: ton/tree | X4: ton/tree | Y4: ton/tree | Z4: ton/tree | AA4: ton/tree | AB4: ton/tree | AC4: ton/tree | AD4: ton/tree | AE4: ton/tree | AF4: ton/tree | AG4: ton/tree | AH4: ton/tree | AI4: ton/tree | AJ4: ton/tree | AK4: ton/tree | AL4: ton/tree | AM4: ton/tree | AN4: ton/tree | AO4: ton/tree | AP4: ton/tree | AQ4: ton/tree | AR4: ton/tree | AS4: ton/tree | AT4: ton/tree | AU4: ton/tree | AV4: ton/tree | AW4: ton/tree | AX4: ton/tree | AY4: ton/tree | AZ4: ton/tree | BA4: ton/tree | BB4: ton/tree | BC4: ton/tree | BD4: ton/tree | BE4: ton/tree | BF4: ton/tree | BG4: ton/tree | BH4: ton/tree | BI4: ton/tree | BJ4: ton/tree | BK4: ton/tree | BL4: ton/tree | BM4: ton/tree | BN4: ton/tree | BO4: ton/tree | BP4: ton/tree | BQ4: ton/tree | BR4: ton/tree | BS4: ton/tree | BT4: ton/tree | BU4: ton/tree | BV4: ton/tree | BW4: ton/tree | BX4: ton/tree | BY4: ton/tree | BZ4: ton/tree | CA4: ton/tree | CB4: ton/tree | CC4: ton/tree | CD4: ton/tree | CE4: ton/tree | CF4: ton/tree | CG4: ton/tree | CH4: ton/tree | CI4: ton/tree | CJ4: ton/tree | CK4: ton/tree | CL4: ton/tree | CM4: ton/tree | CN4: ton/tree | CO4: ton/tree | CP4: ton/tree | CQ4: ton/tree | CR4: ton/tree | CS4: ton/tree | CT4: ton/tree | CU4: ton/tree | CV4: ton/tree | CW4: ton/tree | CX4: ton/tree | CY4: ton/tree
A5: Softwood | B5: 2 | C5: 0 | D5: 0 | E5: 0 | F5: 0 | G5: 0 | H5: 0 | I5: 0 | J5: 0 | K5: 0 | L5: 0 | M5: 0 | N5: 0 | O5: 0 | P5: 0 | Q5: 0 | R5: 0 | S5: 0 | T5: 0 | U5: 0 | V5: 0 | W5: 0 | X5: 0 | Y5: 0 | Z5: 0 | AA5: 0 | AB5: 0 | AC5: 0 | AD5: 0 | AE5: 0 | AF5: 0 | AG5: 0 | AH5: 0 | AI5: 0 | AJ5: 0 | AK5: 0 | AL5: 0 | AM5: 0 | AN5: 0 | AO5: 0 | AP5: 0 | AQ5: 0 | AR5: 0 | AS5: 0 | AT5: 0 | AU5: 0 | AV5: 0 | AW5: 0 | AX5: 0 | AY5: 0 | AZ5: 0 | BA5: 0 | BB5: 0 | BC5: 0 | BD5: 0 | BE5: 0 | BF5: 0 | BG5: 0 | BH5: 0 | BI5: 0 | BJ5: 0 | BK5: 0 | BL5: 0 | BM5: 0 | BN5: 0 | BO5: 0 | BP5: 0 | BQ5: 0 | BR5: 0 | BS5: 0 | BT5: 0 | BU5: 0 | BV5: 0 | BW5: 0 | BX5: 0 | BY5: 0 | BZ5: 0 | CA5: 0 | CB5: 0 | CC5: 0 | CD5: 0 | CE5: 0 | CF5: 0 | CG5: 0 | CH5: 0 | CI5: 0 | CJ5: 0 | CK5: 0 | CL5: 0 | CM5: 0 | CN5: 0 | CO5: 0 | CP5: 0 | CQ5: 0 | CR5: 0 | CS5: 0 | CT5: 0 | CU5: 0 | CV5: 0 | CW5: 0 | CX5: 0 | CY5: 0
A6: Softwood | B6: 4 | C6: 0 | D6: 0 | E6: 0 | F6: 0 | G6: 0 | H6: 0 | I6: 0 | J6: 0 | K6: 0 | L6: 0 | M6: 0 | N6: 0 | O6: 0 | P6: 0 | Q6: 0 | R6: 0 | S6: 0 | T6: 0 | U6: 0 | V6: 0 | W6: 0 | X6: 0 | Y6: 0 | Z6: 0 | AA6: 0 | AB6: 0 | AC6: 0 | AD6: 0 | AE6: 0 | AF6: 0 | AG6: 0 | AH6: 0 | AI6: 0 | AJ6: 0 | AK6: 0 | AL6: 0 | AM6: 0 | AN6: 0 | AO6: 0 | AP6: 0 | AQ6: 0 | AR6: 0 | AS6: 0 | AT6: 0 | AU6: 0 | AV6: 0 | AW6: 0 | AX6: 0 | AY6: 0 | AZ6: 0 | BA6: 0 | BB6: 0 | BC6: 0 | BD6: 0 | BE6: 0 | BF6: 0 | BG6: 0 | BH6: 0 | BI6: 0 | BJ6: 0 | BK6: 0 | BL6: 0 | BM6: 0 | BN6: 0 | BO6: 0 | BP6: 0 | BQ6: 0 | BR6: 0 | BS6: 0 | BT6: 0 | BU6: 0 | BV6: 0 | BW6: 0 | BX6: 0 | BY6: 0 | BZ6: 0 | CA6: 0 | CB6: 0 | CC6: 0 | CD6: 0 | CE6: 0 | CF6: 0 | CG6: 0 | CH6: 0 | CI6: 0 | CJ6: 0 | CK6: 0 | CL6: 0 | CM6: 0 | CN6: 0 | CO6: 0 | CP6: 0 | CQ6: 0 | CR6: 0 | CS6: 0 | CT6: 0 | CU6: 0 | CV6: 0 | CW6: 0 | CX6: 0 | CY6: 0
A7: Softwood | B7: 6 | C7: 0.0815 | D7: 0.0815 | E7: 0.0815 | F7: 0.0815 | G7: 0.0815 | H7: 0.0815 | I7: 0.0815 | J7: 0.0815 | K7: 0.0815 | L7: 0.0815 | M7: 0.0815 | N7: 0.0815 | O7: 0.0815 | P7: 0.0815 | Q7: 0.0815 | R7: 0.0815 | S7: 0.0815 | T7: 0.0815 | U7: 0.0815 | V7: 0.0815 | W7: 0.0815 | X7: 0.0815 | Y7: 0.0815 | Z7: 0.0815 | AA7: 0.0815 | AB7: 0.0815 | AC7: 0.0815 | AD7: 0.0815 | AE7: 0.0815 | AF7: 0.0815 | AG7: 0.0815 | AH7: 0.0815 | AI7: 0.0815 | AJ7: 0.0815 | AK7: 0.0815 | AL7: 0.0815 | AM7: 0.0815 | AN7: 0.0815 | AO7: 0.0815 | AP7: 0.0815 | AQ7: 0.0815 | AR7: 0.0815 | AS7: 0.0815 | AT7: 0.0815 | AU7: 0.0815 | AV7: 0.0815 | AW7: 0.0815 | AX7: 0.0815 | AY7: 0.0815 | AZ7: 0.0815 | BA7: 0.0815 | BB7: 0.0815 | BC7: 0.0815 | BD7: 0.0815 | BE7: 0.0815 | BF7: 0.0815 | BG7: 0.0815 | BH7: 0.0815 | BI7: 0.0815 | BJ7: 0.0815 | BK7: 0.0815 | BL7: 0.0815 | BM7: 0.0815 | BN7: 0.0815 | BO7: 0.0815 | BP7: 0.0815 | BQ7: 0.0815 | BR7: 0.0815 | BS7: 0.0815 | BT7: 0.0815 | BU7: 0.0815 | BV7: 0.0815 | BW7: 0.0815 | BX7: 0.0815 | BY7: 0.0815 | BZ7: 0.0815 | CA7: 0.0815 | CB7: 0.0815 | CC7: 0.0815 | CD7: 0.0815 | CE7: 0.0815 | CF7: 0.0815 | CG7: 0.0815 | CH7: 0.0815 | CI7: 0.0815 | CJ7: 0.0815 | CK7: 0.0815 | CL7: 0.0815 | CM7: 0.0815 | CN7: 0.0815 | CO7: 0.0815 | CP7: 0.0815 | CQ7: 0.0815 | CR7: 0.0815 | CS7: 0.0815 | CT7: 0.0815 | CU7: 0.0815 | CV7: 0.0815 | CW7: 0.0815 | CX7: 0.0815 | CY7: 0.0815
A8: Softwood | B8: 8 | C8: 0.2225 | D8: 0.2225 | E8: 0.2225 | F8: 0.2225 | G8: 0.2225 | H8: 0.2225 | I8: 0.2225 | J8: 0.2225 | K8: 0.2225 | L8: 0.2225 | M8: 0.2225 | N8: 0.2225 | O8: 0.2225 | P8: 0.2225 | Q8: 0.2225 | R8: 0.2225 | S8: 0.2225 | T8: 0.2225 | U8: 0.2225 | V8: 0.2225 | W8: 0.2225 | X8: 0.2225 | Y8: 0.2225 | Z8: 0.2225 | AA8: 0.2225 | AB8: 0.2225 | AC8: 0.2225 | AD8: 0.2225 | AE8: 0.2225 | AF8: 0.2225 | AG8: 0.2225 | AH8: 0.2225 | AI8: 0.2225 | AJ8: 0.2225 | AK8: 0.2225 | AL8: 0.2225 | AM8: 0.2225 | AN8: 0.2225 | AO8: 0.2225 | AP8: 0.2225 | AQ8: 0.2225 | AR8: 0.2225 | AS8: 0.2225 | AT8: 0.2225 | AU8: 0.2225 | AV8: 0.2225 | AW8: 0.2225 | AX8: 0.2225 | AY8: 0.2225 | AZ8: 0.2225 | BA8: 0.2225 | BB8: 0.2225 | BC8: 0.2225 | BD8: 0.2225 | BE8: 0.2225 | BF8: 0.2225 | BG8: 0.2225 | BH8: 0.2225 | BI8: 0.2225 | BJ8: 0.2225 | BK8: 0.2225 | BL8: 0.2225 | BM8: 0.2225 | BN8: 0.2225 | BO8: 0.2225 | BP8: 0.2225 | BQ8: 0.2225 | BR8: 0.2225 | BS8: 0.2225 | BT8: 0.2225 | BU8: 0.2225 | BV8: 0.2225 | BW8: 0.2225 | BX8: 0.2225 | BY8: 0.2225 | BZ8: 0.2225 | CA8: 0.2225 | CB8: 0.2225 | CC8: 0.2225 | CD8: 0.2225 | CE8: 0.2225 | CF8: 0.2225 | CG8: 0.2225 | CH8: 0.2225 | CI8: 0.2225 | CJ8: 0.2225 | CK8: 0.2225 | CL8: 0.2225 | CM8: 0.2225 | CN8: 0.2225 | CO8: 0.2225 | CP8: 0.2225 | CQ8: 0.2225 | CR8: 0.2225 | CS8: 0.2225 | CT8: 0.2225 | CU8: 0.2225 | CV8: 0.2225 | CW8: 0.2225 | CX8: 0.2225 | CY8: 0.2225
A9: Softwood | B9: 10 | C9: 0.081 | D9: 0.081 | E9: 0.081 | F9: 0.081 | G9: 0.081 | H9: 0.081 | I9: 0.081 | J9: 0.081 | K9: 0.081 | L9: 0.081 | M9: 0.081 | N9: 0.081 | O9: 0.081 | P9: 0.081 | Q9: 0.081 | R9: 0.081 | S9: 0.081 | T9: 0.081 | U9: 0.081 | V9: 0.081 | W9: 0.081 | X9: 0.081 | Y9: 0.081 | Z9: 0.081 | AA9: 0.081 | AB9: 0.081 | AC9: 0.081 | AD9: 0.081 | AE9: 0.081 | AF9: 0.081 | AG9: 0.081 | AH9: 0.081 | AI9: 0.081 | AJ9: 0.081 | AK9: 0.081 | AL9: 0.081 | AM9: 0.081 | AN9: 0.081 | AO9: 0.081 | AP9: 0.081 | AQ9: 0.081 | AR9: 0.081 | AS9: 0.081 | AT9: 0.081 | AU9: 0.081 | AV9: 0.081 | AW9: 0.081 | AX9: 0.081 | AY9: 0.081 | AZ9: 0.081 | BA9: 0.081 | BB9: 0.081 | BC9: 0.081 | BD9: 0.081 | BE9: 0.081 | BF9: 0.081 | BG9: 0.081 | BH9: 0.081 | BI9: 0.081 | BJ9: 0.081 | BK9: 0.081 | BL9: 0.081 | BM9: 0.081 | BN9: 0.081 | BO9: 0.081 | BP9: 0.081 | BQ9: 0.081 | BR9: 0.081 | BS9: 0.081 | BT9: 0.081 | BU9: 0.081 | BV9: 0.081 | BW9: 0.081 | BX9: 0.081 | BY9: 0.081 | BZ9: 0.081 | CA9: 0.081 | CB9: 0.081 | CC9: 0.081 | CD9: 0.081 | CE9: 0.081 | CF9: 0.081 | CG9: 0.081 | CH9: 0.081 | CI9: 0.081 | CJ9: 0.081 | CK9: 0.081 | CL9: 0.081 | CM9: 0.081 | CN9: 0.081 | CO9: 0.081 | CP9: 0.081 | CQ9: 0.081 | CR9: 0.081 | CS9: 0.081 | CT9: 0.081 | CU9: 0.081 | CV9: 0.081 | CW9: 0.081 | CX9: 0.081 | CY9: 0.081
A10: Softwood | B10: 12 | C10: 0.2555 | D10: 0.2555 | E10: 0.2555 | F10: 0.2555 | G10: 0.2555 | H10: 0.2555 | I10: 0.2555 | J10: 0.2555 | K10: 0.2555 | L10: 0.2555 | M10: 0.2555 | N10: 0.2555 | O10: 0.2555 | P10: 0.2555 | Q10: 0.2555 | R10: 0.2555 | S10: 0.2555 | T10: 0.2555 | U10: 0.2555 | V10: 0.2555 | W10: 0.2555 | X10: 0.2555 | Y10: 0.2555 | Z10: 0.2555 | AA10: 0.2555 | AB10: 0.2555 | AC10: 0.2555 | AD10: 0.2555 | AE10: 0.2555 | AF10: 0.2555 | AG10: 0.2555 | AH10: 0.2555 | AI10: 0.2555 | AJ10: 0.2555 | AK10: 0.2555 | AL10: 0.2555 | AM10: 0.2555 | AN10: 0.2555 | AO10: 0.2555 | AP10: 0.2555 | AQ10: 0.2555 | AR10: 0.2555 | AS10: 0.2555 | AT10: 0.2555 | AU10: 0.2555 | AV10: 0.2555 | AW10: 0.2555 | AX10: 0.2555 | AY10: 0.2555 | AZ10: 0.2555 | BA10: 0.2555 | BB10: 0.2555 | BC10: 0.2555 | BD10: 0.2555 | BE10: 0.2555 | BF10: 0.2555 | BG10: 0.2555 | BH10: 0.2555 | BI10: 0.2555 | BJ10: 0.2555 | BK10: 0.2555 | BL10: 0.2555 | BM10: 0.2555 | BN10: 0.2555 | BO10: 0.2555 | BP10: 0.2555 | BQ10: 0.2555 | BR10: 0.2555 | BS10: 0.2555 | BT10: 0.2555 | BU10: 0.2555 | BV10: 0.2555 | BW10: 0.2555 | BX10: 0.2555 | BY10: 0.2555 | BZ10: 0.2555 | CA10: 0.2555 | CB10: 0.2555 | CC10: 0.2555 | CD10: 0.2555 | CE10: 0.2555 | CF10: 0.2555 | CG10: 0.2555 | CH10: 0.2555 | CI10: 0.2555 | CJ10: 0.2555 | CK10: 0.2555 | CL10: 0.2555 | CM10: 0.2555 | CN10: 0.2555 | CO10: 0.2555 | CP10: 0.2555 | CQ10: 0.2555 | CR10: 0.2555 | CS10: 0.2555 | CT10: 0.2555 | CU10: 0.2555 | CV10: 0.2555 | CW10: 0.2555 | CX10: 0.2555 | CY10: 0.2555
A11: Softwood | B11: 14 | C11: 0.1695 | D11: 0.1695 | E11: 0.1695 | F11: 0.1695 | G11: 0.1695 | H11: 0.1695 | I11: 0.1695 | J11: 0.1695 | K11: 0.1695 | L11: 0.1695 | M11: 0.1695 | N11: 0.1695 | O11: 0.1695 | P11: 0.1695 | Q11: 0.1695 | R11: 0.1695 | S11: 0.1695 | T11: 0.1695 | U11: 0.1695 | V11: 0.1695 | W11: 0.1695 | X11: 0.1695 | Y11: 0.1695 | Z11: 0.1695 | AA11: 0.1695 | AB11: 0.1695 | AC11: 0.1695 | AD11: 0.1695 | AE11: 0.1695 | AF11: 0.1695 | AG11: 0.1695 | AH11: 0.1695 | AI11: 0.1695 | AJ11: 0.1695 | AK11: 0.1695 | AL11: 0.1695 | AM11: 0.1695 | AN11: 0.1695 | AO11: 0.1695 | AP11: 0.1695 | AQ11: 0.1695 | AR11: 0.1695 | AS11: 0.1695 | AT11: 0.1695 | AU11: 0.1695 | AV11: 0.1695 | AW11: 0.1695 | AX11: 0.1695 | AY11: 0.1695 | AZ11: 0.1695 | BA11: 0.1695 | BB11: 0.1695 | BC11: 0.1695 | BD11: 0.1695 | BE11: 0.1695 | BF11: 0.1695 | BG11: 0.1695 | BH11: 0.1695 | BI11: 0.1695 | BJ11: 0.1695 | BK11: 0.1695 | BL11: 0.1695 | BM11: 0.1695 | BN11: 0.1695 | BO11: 0.1695 | BP11: 0.1695 | BQ11: 0.1695 | BR11: 0.1695 | BS11: 0.1695 | BT11: 0.1695 | BU11: 0.1695 | BV11: 0.1695 | BW11: 0.1695 | BX11: 0.1695 | BY11: 0.1695 | BZ11: 0.1695 | CA11: 0.1695 | CB11: 0.1695 | CC11: 0.1695 | CD11: 0.1695 | CE11: 0.1695 | CF11: 0.1695 | CG11: 0.1695 | CH11: 0.1695 | CI11: 0.1695 | CJ11: 0.1695 | CK11: 0.1695 | CL11: 0.1695 | CM11: 0.1695 | CN11: 0.1695 | CO11: 0.1695 | CP11: 0.1695 | CQ11: 0.1695 | CR11: 0.1695 | CS11: 0.1695 | CT11: 0.1695 | CU11: 0.1695 | CV11: 0.1695 | CW11: 0.1695 | CX11: 0.1695 | CY11: 0.1695
A12: Softwood | B12: 16 | C12: 0.2245 | D12: 0.2245 | E12: 0.2245 | F12: 0.2245 | G12: 0.2245 | H12: 0.2245 | I12: 0.2245 | J12: 0.2245 | K12: 0.2245 | L12: 0.2245 | M12: 0.2245 | N12: 0.2245 | O12: 0.2245 | P12: 0.2245 | Q12: 0.2245 | R12: 0.2245 | S12: 0.2245 | T12: 0.2245 | U12: 0.2245 | V12: 0.2245 | W12: 0.2245 | X12: 0.2245 | Y12: 0.2245 | Z12: 0.2245 | AA12: 0.2245 | AB12: 0.2245 | AC12: 0.2245 | AD12: 0.2245 | AE12: 0.2245 | AF12: 0.2245 | AG12: 0.2245 | AH12: 0.2245 | AI12: 0.2245 | AJ12: 0.2245 | AK12: 0.2245 | AL12: 0.2245 | AM12: 0.2245 | AN12: 0.2245 | AO12: 0.2245 | AP12: 0.2245 | AQ12: 0.2245 | AR12: 0.2245 | AS12: 0.2245 | AT12: 0.2245 | AU12: 0.2245 | AV12: 0.2245 | AW12: 0.2245 | AX12: 0.2245 | AY12: 0.2245 | AZ12: 0.2245 | BA12: 0.2245 | BB12: 0.2245 | BC12: 0.2245 | BD12: 0.2245 | BE12: 0.2245 | BF12: 0.2245 | BG12: 0.2245 | BH12: 0.2245 | BI12: 0.2245 | BJ12: 0.2245 | BK12: 0.2245 | BL12: 0.2245 | BM12: 0.2245 | BN12: 0.2245 | BO12: 0.2245 | BP12: 0.2245 | BQ12: 0.2245 | BR12: 0.2245 | BS12: 0.2245 | BT12: 0.2245 | BU12: 0.2245 | BV12: 0.2245 | BW12: 0.2245 | BX12: 0.2245 | BY12: 0.2245 | BZ12: 0.2245 | CA12: 0.2245 | CB12: 0.2245 | CC12: 0.2245 | CD12: 0.2245 | CE12: 0.2245 | CF12: 0.2245 | CG12: 0.2245 | CH12: 0.2245 | CI12: 0.2245 | CJ12: 0.2245 | CK12: 0.2245 | CL12: 0.2245 | CM12: 0.2245 | CN12: 0.2245 | CO12: 0.2245 | CP12: 0.2245 | CQ12: 0.2245 | CR12: 0.2245 | CS12: 0.2245 | CT12: 0.2245 | CU12: 0.2245 | CV12: 0.2245 | CW12: 0.2245 | CX12: 0.2245 | CY12: 0.2245
A13: Softwood | B13: 18 | C13: 0.287 | D13: 0.287 | E13: 0.287 | F13: 0.287 | G13: 0.287 | H13: 0.287 | I13: 0.287 | J13: 0.287 | K13: 0.287 | L13: 0.287 | M13: 0.287 | N13: 0.287 | O13: 0.287 | P13: 0.287 | Q13: 0.287 | R13: 0.287 | S13: 0.287 | T13: 0.287 | U13: 0.287 | V13: 0.287 | W13: 0.287 | X13: 0.287 | Y13: 0.287 | Z13: 0.287 | AA13: 0.287 | AB13: 0.287 | AC13: 0.287 | AD13: 0.287 | AE13: 0.287 | AF13: 0.287 | AG13: 0.287 | AH13: 0.287 | AI13: 0.287 | AJ13: 0.287 | AK13: 0.287 | AL13: 0.287 | AM13: 0.287 | AN13: 0.287 | AO13: 0.287 | AP13: 0.287 | AQ13: 0.287 | AR13: 0.287 | AS13: 0.287 | AT13: 0.287 | AU13: 0.287 | AV13: 0.287 | AW13: 0.287 | AX13: 0.287 | AY13: 0.287 | AZ13: 0.287 | BA13: 0.287 | BB13: 0.287 | BC13: 0.287 | BD13: 0.287 | BE13: 0.287 | BF13: 0.287 | BG13: 0.287 | BH13: 0.287 | BI13: 0.287 | BJ13: 0.287 | BK13: 0.287 | BL13: 0.287 | BM13: 0.287 | BN13: 0.287 | BO13: 0.287 | BP13: 0.287 | BQ13: 0.287 | BR13: 0.287 | BS13: 0.287 | BT13: 0.287 | BU13: 0.287 | BV13: 0.287 | BW13: 0.287 | BX13: 0.287 | BY13: 0.287 | BZ13: 0.287 | CA13: 0.287 | CB13: 0.287 | CC13: 0.287 | CD13: 0.287 | CE13: 0.287 | CF13: 0.287 | CG13: 0.287 | CH13: 0.287 | CI13: 0.287 | CJ13: 0.287 | CK13: 0.287 | CL13: 0.287 | CM13: 0.287 | CN13: 0.287 | CO13: 0.287 | CP13: 0.287 | CQ13: 0.287 | CR13: 0.287 | CS13: 0.287 | CT13: 0.287 | CU13: 0.287 | CV13: 0.287 | CW13: 0.287 | CX13: 0.287 | CY13: 0.287
A14: Softwood | B14: 20 | C14: 0.357 | D14: 0.357 | E14: 0.357 | F14: 0.357 | G14: 0.357 | H14: 0.357 | I14: 0.357 | J14: 0.357 | K14: 0.357 | L14: 0.357 | M14: 0.357 | N14: 0.357 | O14: 0.357 | P14: 0.357 | Q14: 0.357 | R14: 0.357 | S14: 0.357 | T14: 0.357 | U14: 0.357 | V14: 0.357 | W14: 0.357 | X14: 0.357 | Y14: 0.357 | Z14: 0.357 | AA14: 0.357 | AB14: 0.357 | AC14: 0.357 | AD14: 0.357 | AE14: 0.357 | AF14: 0.357 | AG14: 0.357 | AH14: 0.357 | AI14: 0.357 | AJ14: 0.357 | AK14: 0.357 | AL14: 0.357 | AM14: 0.357 | AN14: 0.357 | AO14: 0.357 | AP14: 0.357 | AQ14: 0.357 | AR14: 0.357 | AS14: 0.357 | AT14: 0.357 | AU14: 0.357 | AV14: 0.357 | AW14: 0.357 | AX14: 0.357 | AY14: 0.357 | AZ14: 0.357 | BA14: 0.357 | BB14: 0.357 | BC14: 0.357 | BD14: 0.357 | BE14: 0.357 | BF14: 0.357 | BG14: 0.357 | BH14: 0.357 | BI14: 0.357 | BJ14: 0.357 | BK14: 0.357 | BL14: 0.357 | BM14: 0.357 | BN14: 0.357 | BO14: 0.357 | BP14: 0.357 | BQ14: 0.357 | BR14: 0.357 | BS14: 0.357 | BT14: 0.357 | BU14: 0.357 | BV14: 0.357 | BW14: 0.357 | BX14: 0.357 | BY14: 0.357 | BZ14: 0.357 | CA14: 0.357 | CB14: 0.357 | CC14: 0.357 | CD14: 0.357 | CE14: 0.357 | CF14: 0.357 | CG14: 0.357 | CH14: 0.357 | CI14: 0.357 | CJ14: 0.357 | CK14: 0.357 | CL14: 0.357 | CM14: 0.357 | CN14: 0.357 | CO14: 0.357 | CP14: 0.357 | CQ14: 0.357 | CR14: 0.357 | CS14: 0.357 | CT14: 0.357 | CU14: 0.357 | CV14: 0.357 | CW14: 0.357 | CX14: 0.357 | CY14: 0.357
A15: Softwood | B15: 22 | C15: 0.4345 | D15: 0.4345 | E15: 0.4345 | F15: 0.4345 | G15: 0.4345 | H15: 0.4345 | I15: 0.4345 | J15: 0.4345 | K15: 0.4345 | L15: 0.4345 | M15: 0.4345 | N15: 0.4345 | O15: 0.4345 | P15: 0.4345 | Q15: 0.4345 | R15: 0.4345 | S15: 0.4345 | T15: 0.4345 | U15: 0.4345 | V15: 0.4345 | W15: 0.4345 | X15: 0.4345 | Y15: 0.4345 | Z15: 0.4345 | AA15: 0.4345 | AB15: 0.4345 | AC15: 0.4345 | AD15: 0.4345 | AE15: 0.4345 | AF15: 0.4345 | AG15: 0.4345 | AH15: 0.4345 | AI15: 0.4345 | AJ15: 0.4345 | AK15: 0.4345 | AL15: 0.4345 | AM15: 0.4345 | AN15: 0.4345 | AO15: 0.4345 | AP15: 0.4345 | AQ15: 0.4345 | AR15: 0.4345 | AS15: 0.4345 | AT15: 0.4345 | AU15: 0.4345 | AV15: 0.4345 | AW15: 0.4345 | AX15: 0.4345 | AY15: 0.4345 | AZ15: 0.4345 | BA15: 0.4345 | BB15: 0.4345 | BC15: 0.4345 | BD15: 0.4345 | BE15: 0.4345 | BF15: 0.4345 | BG15: 0.4345 | BH15: 0.4345 | BI15: 0.4345 | BJ15: 0.4345 | BK15: 0.4345 | BL15: 0.4345 | BM15: 0.4345 | BN15: 0.4345 | BO15: 0.4345 | BP15: 0.4345 | BQ15: 0.4345 | BR15: 0.4345 | BS15: 0.4345 | BT15: 0.4345 | BU15: 0.4345 | BV15: 0.4345 | BW15: 0.4345 | BX15: 0.4345 | BY15: 0.4345 | BZ15: 0.4345 | CA15: 0.4345 | CB15: 0.4345 | CC15: 0.4345 | CD15: 0.4345 | CE15: 0.4345 | CF15: 0.4345 | CG15: 0.4345 | CH15: 0.4345 | CI15: 0.4345 | CJ15: 0.4345 | CK15: 0.4345 | CL15: 0.4345 | CM15: 0.4345 | CN15: 0.4345 | CO15: 0.4345 | CP15: 0.4345 | CQ15: 0.4345 | CR15: 0.4345 | CS15: 0.4345 | CT15: 0.4345 | CU15: 0.4345 | CV15: 0.4345 | CW15: 0.4345 | CX15: 0.4345 | CY15: 0.4345
A16: Softwood | B16: 24 | C16: 0.519 | D16: 0.519 | E16: 0.519 | F16: 0.519 | G16: 0.519 | H16: 0.519 | I16: 0.519 | J16: 0.519 | K16: 0.519 | L16: 0.519 | M16: 0.519 | N16: 0.519 | O16: 0.519 | P16: 0.519 | Q16: 0.519 | R16: 0.519 | S16: 0.519 | T16: 0.519 | U16: 0.519 | V16: 0.519 | W16: 0.519 | X16: 0.519 | Y16: 0.519 | Z16: 0.519 | AA16: 0.519 | AB16: 0.519 | AC16: 0.519 | AD16: 0.519 | AE16: 0.519 | AF16: 0.519 | AG16: 0.519 | AH16: 0.519 | AI16: 0.519 | AJ16: 0.519 | AK16: 0.519 | AL16: 0.519 | AM16: 0.519 | AN16: 0.519 | AO16: 0.519 | AP16: 0.519 | AQ16: 0.519 | AR16: 0.519 | AS16: 0.519 | AT16: 0.519 | AU16: 0.519 | AV16: 0.519 | AW16: 0.519 | AX16: 0.519 | AY16: 0.519 | AZ16: 0.519 | BA16: 0.519 | BB16: 0.519 | BC16: 0.519 | BD16: 0.519 | BE16: 0.519 | BF16: 0.519 | BG16: 0.519 | BH16: 0.519 | BI16: 0.519 | BJ16: 0.519 | BK16: 0.519 | BL16: 0.519 | BM16: 0.519 | BN16: 0.519 | BO16: 0.519 | BP16: 0.519 | BQ16: 0.519 | BR16: 0.519 | BS16: 0.519 | BT16: 0.519 | BU16: 0.519 | BV16: 0.519 | BW16: 0.519 | BX16: 0.519 | BY16: 0.519 | BZ16: 0.519 | CA16: 0.519 | CB16: 0.519 | CC16: 0.519 | CD16: 0.519 | CE16: 0.519 | CF16: 0.519 | CG16: 0.519 | CH16: 0.519 | CI16: 0.519 | CJ16: 0.519 | CK16: 0.519 | CL16: 0.519 | CM16: 0.519 | CN16: 0.519 | CO16: 0.519 | CP16: 0.519 | CQ16: 0.519 | CR16: 0.519 | CS16: 0.519 | CT16: 0.519 | CU16: 0.519 | CV16: 0.519 | CW16: 0.519 | CX16: 0.519 | CY16: 0.519
... A43: Hard hardwood | B43: 26 | C43: 0.611 | D43: 0.611 | E43: 0.611 | F43: 0.611 | G43: 0.611 | H43: 0.611 | I43: 0.611 | J43: 0.611 | K43: 0.611 | L43: 0.611 | M43: 0.611 | N43: 0.611 | O43: 0.611 | P43: 0.611 | Q43: 0.611 | R43: 0.611 | S43: 0.611 | T43: 0.611 | U43: 0.611 | V43: 0.611 | W43: 0.611 | X43: 0.611 | Y43: 0.611 | Z43: 0.611 | AA43: 0.611 | AB43: 0.611 | AC43: 0.611 | AD43: 0.611 | AE43: 0.611 | AF43: 0.611 | AG43: 0.611 | AH43: 0.611 | AI43: 0.611 | AJ43: 0.611 | AK43: 0.611 | AL43: 0.611 | AM43: 0.611 | AN43: 0.611 | AO43: 0.611 | AP43: 0.611 | AQ43: 0.611 | AR43: 0.611 | AS43: 0.611 | AT43: 0.611 | AU43: 0.611 | AV43: 0.611 | AW43: 0.611 | AX43: 0.611 | AY43: 0.611 | AZ43: 0.611 | BA43: 0.611 | BB43: 0.611 | BC43: 0.611 | BD43: 0.611 | BE43: 0.611 | BF43: 0.611 | BG43: 0.611 | BH43: 0.611 | BI43: 0.611 | BJ43: 0.611 | BK43: 0.611 | BL43: 0.611 | BM43: 0.611 | BN43: 0.611 | BO43: 0.611 | BP43: 0.611 | BQ43: 0.611 | BR43: 0.611 | BS43: 0.611 | BT43: 0.611 | BU43: 0.611 | BV43: 0.611 | BW43: 0.611 | BX43: 0.611 | BY43: 0.611 | BZ43: 0.611 | CA43: 0.611 | CB43: 0.611 | CC43: 0.611 | CD43: 0.611 | CE43: 0.611 | CF43: 0.611 | CG43: 0.611 | CH43: 0.611 | CI43: 0.611 | CJ43: 0.611 | CK43: 0.611 | CL43: 0.611 | CM43: 0.611 | CN43: 0.611 | CO43: 0.611 | CP43: 0.611 | CQ43: 0.611 | CR43: 0.611 | CS43: 0.611 | CT43: 0.611 | CU43: 0.611 | CV43: 0.611 | CW43: 0.611 | CX43: 0.611 | CY43: 0.611

Sheet SawlogWeightCut
C1: Weight of sawlogs harvested per acre, by species, size, and yea.r
A2: Site | B2: =Target!B2 -> 2
A3: Year | C3: 0 | D3: =C3+1 -> 1 | E3: =D3+1 -> 2 | F3: =E3+1 -> 3 | G3: =F3+1 -> 4 | H3: =G3+1 -> 5 | I3: =H3+1 -> 6 | J3: =I3+1 -> 7 | K3: =J3+1 -> 8 | ... CY3: =CX3+1 -> 100
A4: Species | B4: dbh (in.) | C4: ton/a | D4: ton/a | E4: ton/a | F4: ton/a | G4: ton/a | H4: ton/a | I4: ton/a | J4: ton/a | K4: ton/a | L4: ton/a | M4: ton/a | N4: ton/a | O4: ton/a | P4: ton/a | Q4: ton/a | R4: ton/a | S4: ton/a | T4: ton/a | U4: ton/a | V4: ton/a | W4: ton/a | X4: ton/a | Y4: ton/a | Z4: ton/a | AA4: ton/a | AB4: ton/a | AC4: ton/a | AD4: ton/a | AE4: ton/a | AF4: ton/a | AG4: ton/a | AH4: ton/a | AI4: ton/a | AJ4: ton/a | AK4: ton/a | AL4: ton/a | AM4: ton/a | AN4: ton/a | AO4: ton/a | AP4: ton/a | AQ4: ton/a | AR4: ton/a | AS4: ton/a | AT4: ton/a | AU4: ton/a | AV4: ton/a | AW4: ton/a | AX4: ton/a | AY4: ton/a | AZ4: ton/a | BA4: ton/a | BB4: ton/a | BC4: ton/a | BD4: ton/a | BE4: ton/a | BF4: ton/a | BG4: ton/a | BH4: ton/a | BI4: ton/a | BJ4: ton/a | BK4: ton/a | BL4: ton/a | BM4: ton/a | BN4: ton/a | BO4: ton/a | BP4: ton/a | BQ4: ton/a | BR4: ton/a | BS4: ton/a | BT4: ton/a | BU4: ton/a | BV4: ton/a | BW4: ton/a | BX4: ton/a | BY4: ton/a | BZ4: ton/a | CA4: ton/a | CB4: ton/a | CC4: ton/a | CD4: ton/a | CE4: ton/a | CF4: ton/a | CG4: ton/a | CH4: ton/a | CI4: ton/a | CJ4: ton/a | CK4: ton/a | CL4: ton/a | CM4: ton/a | CN4: ton/a | CO4: ton/a | CP4: ton/a | CQ4: ton/a | CR4: ton/a | CS4: ton/a | CT4: ton/a | CU4: ton/a | CV4: ton/a | CW4: ton/a | CX4: ton/a | CY4: ton/a
A5: Softwood | B5: 2 | C5: =TreesCut!C5*SawlogWeight!C5 -> 0 | D5: =TreesCut!D5*SawlogWeight!D5 -> 0 | E5: =TreesCut!E5*SawlogWeight!E5 -> 0 | F5: =TreesCut!F5*SawlogWeight!F5 -> 0 | G5: =TreesCut!G5*SawlogWeight!G5 -> 0 | H5: =TreesCut!H5*SawlogWeight!H5 -> 0 | I5: =TreesCut!I5*SawlogWeight!I5 -> 0 | J5: =TreesCut!J5*SawlogWeight!J5 -> 0 | ... CY5: =TreesCut!CY5*SawlogWeight!CY5 -> 0
A6: Softwood | B6: 4 | C6: =TreesCut!C6*SawlogWeight!C6 -> 0 | D6: =TreesCut!D6*SawlogWeight!D6 -> 0 | E6: =TreesCut!E6*SawlogWeight!E6 -> 0 | F6: =TreesCut!F6*SawlogWeight!F6 -> 0 | G6: =TreesCut!G6*SawlogWeight!G6 -> 0 | H6: =TreesCut!H6*SawlogWeight!H6 -> 0 | I6: =TreesCut!I6*SawlogWeight!I6 -> 0 | J6: =TreesCut!J6*SawlogWeight!J6 -> 0 | ... CY6: =TreesCut!CY6*SawlogWeight!CY6 -> 0
A7: Softwood | B7: 6 | C7: =TreesCut!C7*SawlogWeight!C7 -> 0 | D7: =TreesCut!D7*SawlogWeight!D7 -> 0 | E7: =TreesCut!E7*SawlogWeight!E7 -> 0 | F7: =TreesCut!F7*SawlogWeight!F7 -> 0 | G7: =TreesCut!G7*SawlogWeight!G7 -> 0 | H7: =TreesCut!H7*SawlogWeight!H7 -> 0 | I7: =TreesCut!I7*SawlogWeight!I7 -> 0 | J7: =TreesCut!J7*SawlogWeight!J7 -> 0 | ... CY7: =TreesCut!CY7*SawlogWeight!CY7 -> 0
A8: Softwood | B8: 8 | C8: =TreesCut!C8*SawlogWeight!C8 -> 0 | D8: =TreesCut!D8*SawlogWeight!D8 -> 0 | E8: =TreesCut!E8*SawlogWeight!E8 -> 0 | F8: =TreesCut!F8*SawlogWeight!F8 -> 0 | G8: =TreesCut!G8*SawlogWeight!G8 -> 0 | H8: =TreesCut!H8*SawlogWeight!H8 -> 0 | I8: =TreesCut!I8*SawlogWeight!I8 -> 0 | J8: =TreesCut!J8*SawlogWeight!J8 -> 0 | ... CY8: =TreesCut!CY8*SawlogWeight!CY8 -> 0
A9: Softwood | B9: 10 | C9: =TreesCut!C9*SawlogWeight!C9 -> 0.756 | D9: =TreesCut!D9*SawlogWeight!D9 -> 0 | E9: =TreesCut!E9*SawlogWeight!E9 -> 0 | F9: =TreesCut!F9*SawlogWeight!F9 -> 0 | G9: =TreesCut!G9*SawlogWeight!G9 -> 0 | H9: =TreesCut!H9*SawlogWeight!H9 -> 0 | I9: =TreesCut!I9*SawlogWeight!I9 -> 0 | J9: =TreesCut!J9*SawlogWeight!J9 -> 0 | ... CY9: =TreesCut!CY9*SawlogWeight!CY9 -> 0
A10: Softwood | B10: 12 | C10: =TreesCut!C10*SawlogWeight!C10 -> 1.6625 | D10: =TreesCut!D10*SawlogWeight!D10 -> 0 | E10: =TreesCut!E10*SawlogWeight!E10 -> 0 | F10: =TreesCut!F10*SawlogWeight!F10 -> 0 | G10: =TreesCut!G10*SawlogWeight!G10 -> 0 | H10: =TreesCut!H10*SawlogWeight!H10 -> 0 | I10: =TreesCut!I10*SawlogWeight!I10 -> 0 | J10: =TreesCut!J10*SawlogWeight!J10 -> 0 | ... CY10: =TreesCut!CY10*SawlogWeight!CY10 -> 0
A11: Softwood | B11: 14 | C11: =TreesCut!C11*SawlogWeight!C11 -> 4.11015 | D11: =TreesCut!D11*SawlogWeight!D11 -> 4.7516284 | E11: =TreesCut!E11*SawlogWeight!E11 -> 0 | F11: =TreesCut!F11*SawlogWeight!F11 -> 0 | G11: =TreesCut!G11*SawlogWeight!G11 -> 0 | H11: =TreesCut!H11*SawlogWeight!H11 -> 0 | I11: =TreesCut!I11*SawlogWeight!I11 -> 0 | J11: =TreesCut!J11*SawlogWeight!J11 -> 3.621223 | ... CY11: =TreesCut!CY11*SawlogWeight!CY11 -> 0
A12: Softwood | B12: 16 | C12: =TreesCut!C12*SawlogWeight!C12 -> 5.1429 | D12: =TreesCut!D12*SawlogWeight!D12 -> 4.2270108 | E12: =TreesCut!E12*SawlogWeight!E12 -> 0 | F12: =TreesCut!F12*SawlogWeight!F12 -> 0 | G12: =TreesCut!G12*SawlogWeight!G12 -> 0 | H12: =TreesCut!H12*SawlogWeight!H12 -> 0 | I12: =TreesCut!I12*SawlogWeight!I12 -> 0 | J12: =TreesCut!J12*SawlogWeight!J12 -> 1.3408466 | ... CY12: =TreesCut!CY12*SawlogWeight!CY12 -> 0
A13: Softwood | B13: 18 | C13: =TreesCut!C13*SawlogWeight!C13 -> 3.8904 | D13: =TreesCut!D13*SawlogWeight!D13 -> 3.3179325 | E13: =TreesCut!E13*SawlogWeight!E13 -> 0 | F13: =TreesCut!F13*SawlogWeight!F13 -> 0 | G13: =TreesCut!G13*SawlogWeight!G13 -> 0 | H13: =TreesCut!H13*SawlogWeight!H13 -> 0 | I13: =TreesCut!I13*SawlogWeight!I13 -> 0 | J13: =TreesCut!J13*SawlogWeight!J13 -> 0.47525187 | ... CY13: =TreesCut!CY13*SawlogWeight!CY13 -> 0
A14: Softwood | B14: 20 | C14: =TreesCut!C14*SawlogWeight!C14 -> 3.096 | D14: =TreesCut!D14*SawlogWeight!D14 -> 2.2277405 | E14: =TreesCut!E14*SawlogWeight!E14 -> 0 | F14: =TreesCut!F14*SawlogWeight!F14 -> 0 | G14: =TreesCut!G14*SawlogWeight!G14 -> 0 | H14: =TreesCut!H14*SawlogWeight!H14 -> 0 | I14: =TreesCut!I14*SawlogWeight!I14 -> 0 | J14: =TreesCut!J14*SawlogWeight!J14 -> 0.3012569 | ... CY14: =TreesCut!CY14*SawlogWeight!CY14 -> 0
A15: Softwood | B15: 22 | C15: =TreesCut!C15*SawlogWeight!C15 -> 2.5535 | D15: =TreesCut!D15*SawlogWeight!D15 -> 1.2785749 | E15: =TreesCut!E15*SawlogWeight!E15 -> 0 | F15: =TreesCut!F15*SawlogWeight!F15 -> 0 | G15: =TreesCut!G15*SawlogWeight!G15 -> 0 | H15: =TreesCut!H15*SawlogWeight!H15 -> 0 | I15: =TreesCut!I15*SawlogWeight!I15 -> 0 | J15: =TreesCut!J15*SawlogWeight!J15 -> 0.22958207 | ... CY15: =TreesCut!CY15*SawlogWeight!CY15 -> 0
A16: Softwood | B16: 24 | C16: =TreesCut!C16*SawlogWeight!C16 -> 1.236 | D16: =TreesCut!D16*SawlogWeight!D16 -> 0.84310144 | E16: =TreesCut!E16*SawlogWeight!E16 -> 0 | F16: =TreesCut!F16*SawlogWeight!F16 -> 0 | G16: =TreesCut!G16*SawlogWeight!G16 -> 0 | H16: =TreesCut!H16*SawlogWeight!H16 -> 0 | I16: =TreesCut!I16*SawlogWeight!I16 -> 0 | J16: =TreesCut!J16*SawlogWeight!J16 -> 0.13705576 | ... CY16: =TreesCut!CY16*SawlogWeight!CY16 -> 0
... A43: Hard hardwood | B43: 26 | C43: =TreesCut!C43*SawlogWeight!C43 -> 0 | D43: =TreesCut!D43*SawlogWeight!D43 -> 0.38487762 | E43: =TreesCut!E43*SawlogWeight!E43 -> 0 | F43: =TreesCut!F43*SawlogWeight!F43 -> 0 | G43: =TreesCut!G43*SawlogWeight!G43 -> 0 | H43: =TreesCut!H43*SawlogWeight!H43 -> 0 | I43: =TreesCut!I43*SawlogWeight!I43 -> 0 | J43: =TreesCut!J43*SawlogWeight!J43 -> 0.016789441 | ... CY43: =TreesCut!CY43*SawlogWeight!CY43 -> 0
A44: Softwood | B44: All sizes | C44: =SUM(C5:C17) -> 23.91665 | D44: =SUM(D5:D17) -> 17.161663 | E44: =SUM(E5:E17) -> 0 | F44: =SUM(F5:F17) -> 0 | G44: =SUM(G5:G17) -> 0 | H44: =SUM(H5:H17) -> 0 | I44: =SUM(I5:I17) -> 0 | J44: =SUM(J5:J17) -> 6.2305395 | ... CY44: =SUM(CY5:CY17) -> 0
A45: Soft hardwood | B45: All sizes | C45: =SUM(C18:C30) -> 2.1203 | D45: =SUM(D18:D30) -> 1.8598957 | E45: =SUM(E18:E30) -> 0 | F45: =SUM(F18:F30) -> 0 | G45: =SUM(G18:G30) -> 0 | H45: =SUM(H18:H30) -> 0 | I45: =SUM(I18:I30) -> 0 | J45: =SUM(J18:J30) -> 0.1285818 | ... CY45: =SUM(CY18:CY30) -> 0
A46: Hard hardwood | B46: All sizes | C46: =SUM(C31:C43) -> 2.2228 | D46: =SUM(D31:D43) -> 4.3530472 | E46: =SUM(E31:E43) -> 0 | F46: =SUM(F31:F43) -> 0 | G46: =SUM(G31:G43) -> 0 | H46: =SUM(H31:H43) -> 0 | I46: =SUM(I31:I43) -> 0 | J46: =SUM(J31:J43) -> 0.33113823 | ... CY46: =SUM(CY31:CY43) -> 0
A47: All species | B47: All sizes | C47: =SUM(C44:C46) -> 28.25975 | D47: =SUM(D44:D46) -> 23.374606 | E47: =SUM(E44:E46) -> 0 | F47: =SUM(F44:F46) -> 0 | G47: =SUM(G44:G46) -> 0 | H47: =SUM(H44:H46) -> 0 | I47: =SUM(I44:I46) -> 0 | J47: =SUM(J44:J46) -> 6.6902595 | ... CY47: =SUM(CY44:CY46) -> 0
A49: Average productivity | C49: ton/a/yr
A50: Softwood | B50: All sizes | C50: =AVERAGE(C44:CY44) -> 1.9651102
A51: Soft hardwood | B51: All sizes | C51: =AVERAGE(C45:CY45) -> 0.04096367
A52: Hard hardwood | B52: All sizes | C52: =AVERAGE(C46:CY46) -> 0.069152625
A53: All species | B53: All sizes | C53: =AVERAGE(C47:CY47) -> 2.0752265

Sheet PulpwoodWeightCut
C1: Weight of pulpwood harvested per acre, by species, size, and yea.r
A2: Site | B2: =Target!B2 -> 2
A3: Year | C3: 0 | D3: =C3+1 -> 1 | E3: =D3+1 -> 2 | F3: =E3+1 -> 3 | G3: =F3+1 -> 4 | H3: =G3+1 -> 5 | I3: =H3+1 -> 6 | J3: =I3+1 -> 7 | K3: =J3+1 -> 8 | ... CY3: =CX3+1 -> 100
A4: Species | B4: dbh (in.) | C4: ton/a | D4: ton/a | E4: ton/a | F4: ton/a | G4: ton/a | H4: ton/a | I4: ton/a | J4: ton/a | K4: ton/a | L4: ton/a | M4: ton/a | N4: ton/a | O4: ton/a | P4: ton/a | Q4: ton/a | R4: ton/a | S4: ton/a | T4: ton/a | U4: ton/a | V4: ton/a | W4: ton/a | X4: ton/a | Y4: ton/a | Z4: ton/a | AA4: ton/a | AB4: ton/a | AC4: ton/a | AD4: ton/a | AE4: ton/a | AF4: ton/a | AG4: ton/a | AH4: ton/a | AI4: ton/a | AJ4: ton/a | AK4: ton/a | AL4: ton/a | AM4: ton/a | AN4: ton/a | AO4: ton/a | AP4: ton/a | AQ4: ton/a | AR4: ton/a | AS4: ton/a | AT4: ton/a | AU4: ton/a | AV4: ton/a | AW4: ton/a | AX4: ton/a | AY4: ton/a | AZ4: ton/a | BA4: ton/a | BB4: ton/a | BC4: ton/a | BD4: ton/a | BE4: ton/a | BF4: ton/a | BG4: ton/a | BH4: ton/a | BI4: ton/a | BJ4: ton/a | BK4: ton/a | BL4: ton/a | BM4: ton/a | BN4: ton/a | BO4: ton/a | BP4: ton/a | BQ4: ton/a | BR4: ton/a | BS4: ton/a | BT4: ton/a | BU4: ton/a | BV4: ton/a | BW4: ton/a | BX4: ton/a | BY4: ton/a | BZ4: ton/a | CA4: ton/a | CB4: ton/a | CC4: ton/a | CD4: ton/a | CE4: ton/a | CF4: ton/a | CG4: ton/a | CH4: ton/a | CI4: ton/a | CJ4: ton/a | CK4: ton/a | CL4: ton/a | CM4: ton/a | CN4: ton/a | CO4: ton/a | CP4: ton/a | CQ4: ton/a | CR4: ton/a | CS4: ton/a | CT4: ton/a | CU4: ton/a | CV4: ton/a | CW4: ton/a | CX4: ton/a | CY4: ton/a
A5: Softwood | B5: 2 | C5: =TreesCut!C5*PulpwoodWeight!C5 -> 0 | D5: =TreesCut!D5*PulpwoodWeight!D5 -> 0 | E5: =TreesCut!E5*PulpwoodWeight!E5 -> 0 | F5: =TreesCut!F5*PulpwoodWeight!F5 -> 0 | G5: =TreesCut!G5*PulpwoodWeight!G5 -> 0 | H5: =TreesCut!H5*PulpwoodWeight!H5 -> 0 | I5: =TreesCut!I5*PulpwoodWeight!I5 -> 0 | J5: =TreesCut!J5*PulpwoodWeight!J5 -> 0 | ... CY5: =TreesCut!CY5*PulpwoodWeight!CY5 -> 0
A6: Softwood | B6: 4 | C6: =TreesCut!C6*PulpwoodWeight!C6 -> 0 | D6: =TreesCut!D6*PulpwoodWeight!D6 -> 0 | E6: =TreesCut!E6*PulpwoodWeight!E6 -> 0 | F6: =TreesCut!F6*PulpwoodWeight!F6 -> 0 | G6: =TreesCut!G6*PulpwoodWeight!G6 -> 0 | H6: =TreesCut!H6*PulpwoodWeight!H6 -> 0 | I6: =TreesCut!I6*PulpwoodWeight!I6 -> 0 | J6: =TreesCut!J6*PulpwoodWeight!J6 -> 0 | ... CY6: =TreesCut!CY6*PulpwoodWeight!CY6 -> 0
A7: Softwood | B7: 6 | C7: =TreesCut!C7*PulpwoodWeight!C7 -> 0 | D7: =TreesCut!D7*PulpwoodWeight!D7 -> 0 | E7: =TreesCut!E7*PulpwoodWeight!E7 -> 0 | F7: =TreesCut!F7*PulpwoodWeight!F7 -> 0 | G7: =TreesCut!G7*PulpwoodWeight!G7 -> 0 | H7: =TreesCut!H7*PulpwoodWeight!H7 -> 0 | I7: =TreesCut!I7*PulpwoodWeight!I7 -> 0 | J7: =TreesCut!J7*PulpwoodWeight!J7 -> 0 | ... CY7: =TreesCut!CY7*PulpwoodWeight!CY7 -> 0
A8: Softwood | B8: 8 | C8: =TreesCut!C8*PulpwoodWeight!C8 -> 0 | D8: =TreesCut!D8*PulpwoodWeight!D8 -> 0 | E8: =TreesCut!E8*PulpwoodWeight!E8 -> 0 | F8: =TreesCut!F8*PulpwoodWeight!F8 -> 0 | G8: =TreesCut!G8*PulpwoodWeight!G8 -> 0 | H8: =TreesCut!H8*PulpwoodWeight!H8 -> 0 | I8: =TreesCut!I8*PulpwoodWeight!I8 -> 0 | J8: =TreesCut!J8*PulpwoodWeight!J8 -> 0 | ... CY8: =TreesCut!CY8*PulpwoodWeight!CY8 -> 0
A9: Softwood | B9: 10 | C9: =TreesCut!C9*PulpwoodWeight!C9 -> 0.1944 | D9: =TreesCut!D9*PulpwoodWeight!D9 -> 0 | E9: =TreesCut!E9*PulpwoodWeight!E9 -> 0 | F9: =TreesCut!F9*PulpwoodWeight!F9 -> 0 | G9: =TreesCut!G9*PulpwoodWeight!G9 -> 0 | H9: =TreesCut!H9*PulpwoodWeight!H9 -> 0 | I9: =TreesCut!I9*PulpwoodWeight!I9 -> 0 | J9: =TreesCut!J9*PulpwoodWeight!J9 -> 0 | ... CY9: =TreesCut!CY9*PulpwoodWeight!CY9 -> 0
A10: Softwood | B10: 12 | C10: =TreesCut!C10*PulpwoodWeight!C10 -> 0.9709 | D10: =TreesCut!D10*PulpwoodWeight!D10 -> 0 | E10: =TreesCut!E10*PulpwoodWeight!E10 -> 0 | F10: =TreesCut!F10*PulpwoodWeight!F10 -> 0 | G10: =TreesCut!G10*PulpwoodWeight!G10 -> 0 | H10: =TreesCut!H10*PulpwoodWeight!H10 -> 0 | I10: =TreesCut!I10*PulpwoodWeight!I10 -> 0 | J10: =TreesCut!J10*PulpwoodWeight!J10 -> 0 | ... CY10: =TreesCut!CY10*PulpwoodWeight!CY10 -> 0
A11: Softwood | B11: 14 | C11: =TreesCut!C11*PulpwoodWeight!C11 -> 0.79665 | D11: =TreesCut!D11*PulpwoodWeight!D11 -> 0.92098457 | E11: =TreesCut!E11*PulpwoodWeight!E11 -> 0 | F11: =TreesCut!F11*PulpwoodWeight!F11 -> 0 | G11: =TreesCut!G11*PulpwoodWeight!G11 -> 0 | H11: =TreesCut!H11*PulpwoodWeight!H11 -> 0 | I11: =TreesCut!I11*PulpwoodWeight!I11 -> 0 | J11: =TreesCut!J11*PulpwoodWeight!J11 -> 0.70188371 | ... CY11: =TreesCut!CY11*PulpwoodWeight!CY11 -> 0
A12: Softwood | B12: 16 | C12: =TreesCut!C12*PulpwoodWeight!C12 -> 0.9429 | D12: =TreesCut!D12*PulpwoodWeight!D12 -> 0.77498075 | E12: =TreesCut!E12*PulpwoodWeight!E12 -> 0 | F12: =TreesCut!F12*PulpwoodWeight!F12 -> 0 | G12: =TreesCut!G12*PulpwoodWeight!G12 -> 0 | H12: =TreesCut!H12*PulpwoodWeight!H12 -> 0 | I12: =TreesCut!I12*PulpwoodWeight!I12 -> 0 | J12: =TreesCut!J12*PulpwoodWeight!J12 -> 0.245831 | ... CY12: =TreesCut!CY12*PulpwoodWeight!CY12 -> 0
A13: Softwood | B13: 18 | C13: =TreesCut!C13*PulpwoodWeight!C13 -> 0.6888 | D13: =TreesCut!D13*PulpwoodWeight!D13 -> 0.58744394 | E13: =TreesCut!E13*PulpwoodWeight!E13 -> 0 | F13: =TreesCut!F13*PulpwoodWeight!F13 -> 0 | G13: =TreesCut!G13*PulpwoodWeight!G13 -> 0 | H13: =TreesCut!H13*PulpwoodWeight!H13 -> 0 | I13: =TreesCut!I13*PulpwoodWeight!I13 -> 0 | J13: =TreesCut!J13*PulpwoodWeight!J13 -> 0.084143915 | ... CY13: =TreesCut!CY13*PulpwoodWeight!CY13 -> 0
A14: Softwood | B14: 20 | C14: =TreesCut!C14*PulpwoodWeight!C14 -> 0.5355 | D14: =TreesCut!D14*PulpwoodWeight!D14 -> 0.3853214 | E14: =TreesCut!E14*PulpwoodWeight!E14 -> 0 | F14: =TreesCut!F14*PulpwoodWeight!F14 -> 0 | G14: =TreesCut!G14*PulpwoodWeight!G14 -> 0 | H14: =TreesCut!H14*PulpwoodWeight!H14 -> 0 | I14: =TreesCut!I14*PulpwoodWeight!I14 -> 0 | J14: =TreesCut!J14*PulpwoodWeight!J14 -> 0.052106934 | ... CY14: =TreesCut!CY14*PulpwoodWeight!CY14 -> 0
A15: Softwood | B15: 22 | C15: =TreesCut!C15*PulpwoodWeight!C15 -> 0.4345 | D15: =TreesCut!D15*PulpwoodWeight!D15 -> 0.21756051 | E15: =TreesCut!E15*PulpwoodWeight!E15 -> 0 | F15: =TreesCut!F15*PulpwoodWeight!F15 -> 0 | G15: =TreesCut!G15*PulpwoodWeight!G15 -> 0 | H15: =TreesCut!H15*PulpwoodWeight!H15 -> 0 | I15: =TreesCut!I15*PulpwoodWeight!I15 -> 0 | J15: =TreesCut!J15*PulpwoodWeight!J15 -> 0.039065365 | ... CY15: =TreesCut!CY15*PulpwoodWeight!CY15 -> 0
A16: Softwood | B16: 24 | C16: =TreesCut!C16*PulpwoodWeight!C16 -> 0.2076 | D16: =TreesCut!D16*PulpwoodWeight!D16 -> 0.1416083 | E16: =TreesCut!E16*PulpwoodWeight!E16 -> 0 | F16: =TreesCut!F16*PulpwoodWeight!F16 -> 0 | G16: =TreesCut!G16*PulpwoodWeight!G16 -> 0 | H16: =TreesCut!H16*PulpwoodWeight!H16 -> 0 | I16: =TreesCut!I16*PulpwoodWeight!I16 -> 0 | J16: =TreesCut!J16*PulpwoodWeight!J16 -> 0.023020045 | ... CY16: =TreesCut!CY16*PulpwoodWeight!CY16 -> 0
... A43: Hard hardwood | B43: 26 | C43: =TreesCut!C43*PulpwoodWeight!C43 -> 0 | D43: =TreesCut!D43*PulpwoodWeight!D43 -> 0.065522493 | E43: =TreesCut!E43*PulpwoodWeight!E43 -> 0 | F43: =TreesCut!F43*PulpwoodWeight!F43 -> 0 | G43: =TreesCut!G43*PulpwoodWeight!G43 -> 0 | H43: =TreesCut!H43*PulpwoodWeight!H43 -> 0 | I43: =TreesCut!I43*PulpwoodWeight!I43 -> 0 | J43: =TreesCut!J43*PulpwoodWeight!J43 -> 0.0028582749 | ... CY43: =TreesCut!CY43*PulpwoodWeight!CY43 -> 0
A44: Softwood | B44: All sizes | C44: =SUM(C5:C17) -> 5.01565 | D44: =SUM(D5:D17) -> 3.1136815 | E44: =SUM(E5:E17) -> 0 | F44: =SUM(F5:F17) -> 0 | G44: =SUM(G5:G17) -> 0 | H44: =SUM(H5:H17) -> 0 | I44: =SUM(I5:I17) -> 0 | J44: =SUM(J5:J17) -> 1.1668984 | ... CY44: =SUM(CY5:CY17) -> 0
A45: Soft hardwood | B45: All sizes | C45: =SUM(C18:C30) -> 2.3007 | D45: =SUM(D18:D30) -> 2.8993931 | E45: =SUM(E18:E30) -> 0 | F45: =SUM(F18:F30) -> 0 | G45: =SUM(G18:G30) -> 0 | H45: =SUM(H18:H30) -> 0 | I45: =SUM(I18:I30) -> 0 | J45: =SUM(J18:J30) -> 0.2075793 | ... CY45: =SUM(CY18:CY30) -> 0
A46: Hard hardwood | B46: All sizes | C46: =SUM(C31:C43) -> 0.79695 | D46: =SUM(D31:D43) -> 3.3910058 | E46: =SUM(E31:E43) -> 0 | F46: =SUM(F31:F43) -> 0 | G46: =SUM(G31:G43) -> 0 | H46: =SUM(H31:H43) -> 0 | I46: =SUM(I31:I43) -> 0 | J46: =SUM(J31:J43) -> 0.23367874 | ... CY46: =SUM(CY31:CY43) -> 0
A47: All species | B47: All sizes | C47: =SUM(C44:C46) -> 8.1133 | D47: =SUM(D44:D46) -> 9.4040805 | E47: =SUM(E44:E46) -> 0 | F47: =SUM(F44:F46) -> 0 | G47: =SUM(G44:G46) -> 0 | H47: =SUM(H44:H46) -> 0 | I47: =SUM(I44:I46) -> 0 | J47: =SUM(J44:J46) -> 1.6081564 | ... CY47: =SUM(CY44:CY46) -> 0
A49: Average productivity | C49: ton/a/yr
A50: Softwood | B50: All sizes | C50: =AVERAGE(C44:CY44) -> 0.3746675
A51: Soft hardwood | B51: All sizes | C51: =AVERAGE(C45:CY45) -> 0.062386294
A52: Hard hardwood | B52: All sizes | C52: =AVERAGE(C46:CY46) -> 0.053622017
A53: All species | B53: All sizes | C53: =AVERAGE(C47:CY47) -> 0.49067581

Sheet TotalWeightCut
C1: Weight of sawlogs+pulpwood harvested per acre, by species, size, and year.
A2: Site | B2: =Target!B2 -> 2
A3: Year | C3: 0 | D3: =C3+1 -> 1 | E3: =D3+1 -> 2 | F3: =E3+1 -> 3 | G3: =F3+1 -> 4 | H3: =G3+1 -> 5 | I3: =H3+1 -> 6 | J3: =I3+1 -> 7 | K3: =J3+1 -> 8 | ... CY3: =CX3+1 -> 100
A4: Species | B4: dbh (in.) | C4: ton/a | D4: ton/a | E4: ton/a | F4: ton/a | G4: ton/a | H4: ton/a | I4: ton/a | J4: ton/a | K4: ton/a | L4: ton/a | M4: ton/a | N4: ton/a | O4: ton/a | P4: ton/a | Q4: ton/a | R4: ton/a | S4: ton/a | T4: ton/a | U4: ton/a | V4: ton/a | W4: ton/a | X4: ton/a | Y4: ton/a | Z4: ton/a | AA4: ton/a | AB4: ton/a | AC4: ton/a | AD4: ton/a | AE4: ton/a | AF4: ton/a | AG4: ton/a | AH4: ton/a | AI4: ton/a | AJ4: ton/a | AK4: ton/a | AL4: ton/a | AM4: ton/a | AN4: ton/a | AO4: ton/a | AP4: ton/a | AQ4: ton/a | AR4: ton/a | AS4: ton/a | AT4: ton/a | AU4: ton/a | AV4: ton/a | AW4: ton/a | AX4: ton/a | AY4: ton/a | AZ4: ton/a | BA4: ton/a | BB4: ton/a | BC4: ton/a | BD4: ton/a | BE4: ton/a | BF4: ton/a | BG4: ton/a | BH4: ton/a | BI4: ton/a | BJ4: ton/a | BK4: ton/a | BL4: ton/a | BM4: ton/a | BN4: ton/a | BO4: ton/a | BP4: ton/a | BQ4: ton/a | BR4: ton/a | BS4: ton/a | BT4: ton/a | BU4: ton/a | BV4: ton/a | BW4: ton/a | BX4: ton/a | BY4: ton/a | BZ4: ton/a | CA4: ton/a | CB4: ton/a | CC4: ton/a | CD4: ton/a | CE4: ton/a | CF4: ton/a | CG4: ton/a | CH4: ton/a | CI4: ton/a | CJ4: ton/a | CK4: ton/a | CL4: ton/a | CM4: ton/a | CN4: ton/a | CO4: ton/a | CP4: ton/a | CQ4: ton/a | CR4: ton/a | CS4: ton/a | CT4: ton/a | CU4: ton/a | CV4: ton/a | CW4: ton/a | CX4: ton/a | CY4: ton/a
A5: Softwood | B5: 2 | C5: =SawlogWeightCut!C5+PulpwoodWeightCut!C5 -> 0 | D5: =SawlogWeightCut!D5+PulpwoodWeightCut!D5 -> 0 | E5: =SawlogWeightCut!E5+PulpwoodWeightCut!E5 -> 0 | F5: =SawlogWeightCut!F5+PulpwoodWeightCut!F5 -> 0 | G5: =SawlogWeightCut!G5+PulpwoodWeightCut!G5 -> 0 | H5: =SawlogWeightCut!H5+PulpwoodWeightCut!H5 -> 0 | I5: =SawlogWeightCut!I5+PulpwoodWeightCut!I5 -> 0 | J5: =SawlogWeightCut!J5+PulpwoodWeightCut!J5 -> 0 | ... CY5: =SawlogWeightCut!CY5+PulpwoodWeightCut!CY5 -> 0
A6: Softwood | B6: 4 | C6: =SawlogWeightCut!C6+PulpwoodWeightCut!C6 -> 0 | D6: =SawlogWeightCut!D6+PulpwoodWeightCut!D6 -> 0 | E6: =SawlogWeightCut!E6+PulpwoodWeightCut!E6 -> 0 | F6: =SawlogWeightCut!F6+PulpwoodWeightCut!F6 -> 0 | G6: =SawlogWeightCut!G6+PulpwoodWeightCut!G6 -> 0 | H6: =SawlogWeightCut!H6+PulpwoodWeightCut!H6 -> 0 | I6: =SawlogWeightCut!I6+PulpwoodWeightCut!I6 -> 0 | J6: =SawlogWeightCut!J6+PulpwoodWeightCut!J6 -> 0 | ... CY6: =SawlogWeightCut!CY6+PulpwoodWeightCut!CY6 -> 0
A7: Softwood | B7: 6 | C7: =SawlogWeightCut!C7+PulpwoodWeightCut!C7 -> 0 | D7: =SawlogWeightCut!D7+PulpwoodWeightCut!D7 -> 0 | E7: =SawlogWeightCut!E7+PulpwoodWeightCut!E7 -> 0 | F7: =SawlogWeightCut!F7+PulpwoodWeightCut!F7 -> 0 | G7: =SawlogWeightCut!G7+PulpwoodWeightCut!G7 -> 0 | H7: =SawlogWeightCut!H7+PulpwoodWeightCut!H7 -> 0 | I7: =SawlogWeightCut!I7+PulpwoodWeightCut!I7 -> 0 | J7: =SawlogWeightCut!J7+PulpwoodWeightCut!J7 -> 0 | ... CY7: =SawlogWeightCut!CY7+PulpwoodWeightCut!CY7 -> 0
A8: Softwood | B8: 8 | C8: =SawlogWeightCut!C8+PulpwoodWeightCut!C8 -> 0 | D8: =SawlogWeightCut!D8+PulpwoodWeightCut!D8 -> 0 | E8: =SawlogWeightCut!E8+PulpwoodWeightCut!E8 -> 0 | F8: =SawlogWeightCut!F8+PulpwoodWeightCut!F8 -> 0 | G8: =SawlogWeightCut!G8+PulpwoodWeightCut!G8 -> 0 | H8: =SawlogWeightCut!H8+PulpwoodWeightCut!H8 -> 0 | I8: =SawlogWeightCut!I8+PulpwoodWeightCut!I8 -> 0 | J8: =SawlogWeightCut!J8+PulpwoodWeightCut!J8 -> 0 | ... CY8: =SawlogWeightCut!CY8+PulpwoodWeightCut!CY8 -> 0
A9: Softwood | B9: 10 | C9: =SawlogWeightCut!C9+PulpwoodWeightCut!C9 -> 0.9504 | D9: =SawlogWeightCut!D9+PulpwoodWeightCut!D9 -> 0 | E9: =SawlogWeightCut!E9+PulpwoodWeightCut!E9 -> 0 | F9: =SawlogWeightCut!F9+PulpwoodWeightCut!F9 -> 0 | G9: =SawlogWeightCut!G9+PulpwoodWeightCut!G9 -> 0 | H9: =SawlogWeightCut!H9+PulpwoodWeightCut!H9 -> 0 | I9: =SawlogWeightCut!I9+PulpwoodWeightCut!I9 -> 0 | J9: =SawlogWeightCut!J9+PulpwoodWeightCut!J9 -> 0 | ... CY9: =SawlogWeightCut!CY9+PulpwoodWeightCut!CY9 -> 0
A10: Softwood | B10: 12 | C10: =SawlogWeightCut!C10+PulpwoodWeightCut!C10 -> 2.6334 | D10: =SawlogWeightCut!D10+PulpwoodWeightCut!D10 -> 0 | E10: =SawlogWeightCut!E10+PulpwoodWeightCut!E10 -> 0 | F10: =SawlogWeightCut!F10+PulpwoodWeightCut!F10 -> 0 | G10: =SawlogWeightCut!G10+PulpwoodWeightCut!G10 -> 0 | H10: =SawlogWeightCut!H10+PulpwoodWeightCut!H10 -> 0 | I10: =SawlogWeightCut!I10+PulpwoodWeightCut!I10 -> 0 | J10: =SawlogWeightCut!J10+PulpwoodWeightCut!J10 -> 0 | ... CY10: =SawlogWeightCut!CY10+PulpwoodWeightCut!CY10 -> 0
A11: Softwood | B11: 14 | C11: =SawlogWeightCut!C11+PulpwoodWeightCut!C11 -> 4.9068 | D11: =SawlogWeightCut!D11+PulpwoodWeightCut!D11 -> 5.672613 | E11: =SawlogWeightCut!E11+PulpwoodWeightCut!E11 -> 0 | F11: =SawlogWeightCut!F11+PulpwoodWeightCut!F11 -> 0 | G11: =SawlogWeightCut!G11+PulpwoodWeightCut!G11 -> 0 | H11: =SawlogWeightCut!H11+PulpwoodWeightCut!H11 -> 0 | I11: =SawlogWeightCut!I11+PulpwoodWeightCut!I11 -> 0 | J11: =SawlogWeightCut!J11+PulpwoodWeightCut!J11 -> 4.3231068 | ... CY11: =SawlogWeightCut!CY11+PulpwoodWeightCut!CY11 -> 0
A12: Softwood | B12: 16 | C12: =SawlogWeightCut!C12+PulpwoodWeightCut!C12 -> 6.0858 | D12: =SawlogWeightCut!D12+PulpwoodWeightCut!D12 -> 5.0019915 | E12: =SawlogWeightCut!E12+PulpwoodWeightCut!E12 -> 0 | F12: =SawlogWeightCut!F12+PulpwoodWeightCut!F12 -> 0 | G12: =SawlogWeightCut!G12+PulpwoodWeightCut!G12 -> 0 | H12: =SawlogWeightCut!H12+PulpwoodWeightCut!H12 -> 0 | I12: =SawlogWeightCut!I12+PulpwoodWeightCut!I12 -> 0 | J12: =SawlogWeightCut!J12+PulpwoodWeightCut!J12 -> 1.5866776 | ... CY12: =SawlogWeightCut!CY12+PulpwoodWeightCut!CY12 -> 0
A13: Softwood | B13: 18 | C13: =SawlogWeightCut!C13+PulpwoodWeightCut!C13 -> 4.5792 | D13: =SawlogWeightCut!D13+PulpwoodWeightCut!D13 -> 3.9053764 | E13: =SawlogWeightCut!E13+PulpwoodWeightCut!E13 -> 0 | F13: =SawlogWeightCut!F13+PulpwoodWeightCut!F13 -> 0 | G13: =SawlogWeightCut!G13+PulpwoodWeightCut!G13 -> 0 | H13: =SawlogWeightCut!H13+PulpwoodWeightCut!H13 -> 0 | I13: =SawlogWeightCut!I13+PulpwoodWeightCut!I13 -> 0 | J13: =SawlogWeightCut!J13+PulpwoodWeightCut!J13 -> 0.55939578 | ... CY13: =SawlogWeightCut!CY13+PulpwoodWeightCut!CY13 -> 0
A14: Softwood | B14: 20 | C14: =SawlogWeightCut!C14+PulpwoodWeightCut!C14 -> 3.6315 | D14: =SawlogWeightCut!D14+PulpwoodWeightCut!D14 -> 2.6130619 | E14: =SawlogWeightCut!E14+PulpwoodWeightCut!E14 -> 0 | F14: =SawlogWeightCut!F14+PulpwoodWeightCut!F14 -> 0 | G14: =SawlogWeightCut!G14+PulpwoodWeightCut!G14 -> 0 | H14: =SawlogWeightCut!H14+PulpwoodWeightCut!H14 -> 0 | I14: =SawlogWeightCut!I14+PulpwoodWeightCut!I14 -> 0 | J14: =SawlogWeightCut!J14+PulpwoodWeightCut!J14 -> 0.35336383 | ... CY14: =SawlogWeightCut!CY14+PulpwoodWeightCut!CY14 -> 0
A15: Softwood | B15: 22 | C15: =SawlogWeightCut!C15+PulpwoodWeightCut!C15 -> 2.988 | D15: =SawlogWeightCut!D15+PulpwoodWeightCut!D15 -> 1.4961354 | E15: =SawlogWeightCut!E15+PulpwoodWeightCut!E15 -> 0 | F15: =SawlogWeightCut!F15+PulpwoodWeightCut!F15 -> 0 | G15: =SawlogWeightCut!G15+PulpwoodWeightCut!G15 -> 0 | H15: =SawlogWeightCut!H15+PulpwoodWeightCut!H15 -> 0 | I15: =SawlogWeightCut!I15+PulpwoodWeightCut!I15 -> 0 | J15: =SawlogWeightCut!J15+PulpwoodWeightCut!J15 -> 0.26864743 | ... CY15: =SawlogWeightCut!CY15+PulpwoodWeightCut!CY15 -> 0
A16: Softwood | B16: 24 | C16: =SawlogWeightCut!C16+PulpwoodWeightCut!C16 -> 1.4436 | D16: =SawlogWeightCut!D16+PulpwoodWeightCut!D16 -> 0.98470974 | E16: =SawlogWeightCut!E16+PulpwoodWeightCut!E16 -> 0 | F16: =SawlogWeightCut!F16+PulpwoodWeightCut!F16 -> 0 | G16: =SawlogWeightCut!G16+PulpwoodWeightCut!G16 -> 0 | H16: =SawlogWeightCut!H16+PulpwoodWeightCut!H16 -> 0 | I16: =SawlogWeightCut!I16+PulpwoodWeightCut!I16 -> 0 | J16: =SawlogWeightCut!J16+PulpwoodWeightCut!J16 -> 0.1600758 | ... CY16: =SawlogWeightCut!CY16+PulpwoodWeightCut!CY16 -> 0
... A43: Hard hardwood | B43: 26 | C43: =SawlogWeightCut!C43+PulpwoodWeightCut!C43 -> 0 | D43: =SawlogWeightCut!D43+PulpwoodWeightCut!D43 -> 0.45040011 | E43: =SawlogWeightCut!E43+PulpwoodWeightCut!E43 -> 0 | F43: =SawlogWeightCut!F43+PulpwoodWeightCut!F43 -> 0 | G43: =SawlogWeightCut!G43+PulpwoodWeightCut!G43 -> 0 | H43: =SawlogWeightCut!H43+PulpwoodWeightCut!H43 -> 0 | I43: =SawlogWeightCut!I43+PulpwoodWeightCut!I43 -> 0 | J43: =SawlogWeightCut!J43+PulpwoodWeightCut!J43 -> 0.019647716 | ... CY43: =SawlogWeightCut!CY43+PulpwoodWeightCut!CY43 -> 0
A44: Softwood | B44: All sizes | C44: =SUM(C5:C17) -> 28.9323 | D44: =SUM(D5:D17) -> 20.275345 | E44: =SUM(E5:E17) -> 0 | F44: =SUM(F5:F17) -> 0 | G44: =SUM(G5:G17) -> 0 | H44: =SUM(H5:H17) -> 0 | I44: =SUM(I5:I17) -> 0 | J44: =SUM(J5:J17) -> 7.3974379 | ... CY44: =SUM(CY5:CY17) -> 0
A45: Soft hardwood | B45: All sizes | C45: =SUM(C18:C30) -> 4.421 | D45: =SUM(D18:D30) -> 4.7592888 | E45: =SUM(E18:E30) -> 0 | F45: =SUM(F18:F30) -> 0 | G45: =SUM(G18:G30) -> 0 | H45: =SUM(H18:H30) -> 0 | I45: =SUM(I18:I30) -> 0 | J45: =SUM(J18:J30) -> 0.3361611 | ... CY45: =SUM(CY18:CY30) -> 0
A46: Hard hardwood | B46: All sizes | C46: =SUM(C31:C43) -> 3.01975 | D46: =SUM(D31:D43) -> 7.744053 | E46: =SUM(E31:E43) -> 0 | F46: =SUM(F31:F43) -> 0 | G46: =SUM(G31:G43) -> 0 | H46: =SUM(H31:H43) -> 0 | I46: =SUM(I31:I43) -> 0 | J46: =SUM(J31:J43) -> 0.56481697 | ... CY46: =SUM(CY31:CY43) -> 0
A47: All species | B47: All sizes | C47: =SUM(C44:C46) -> 36.37305 | D47: =SUM(D44:D46) -> 32.778687 | E47: =SUM(E44:E46) -> 0 | F47: =SUM(F44:F46) -> 0 | G47: =SUM(G44:G46) -> 0 | H47: =SUM(H44:H46) -> 0 | I47: =SUM(I44:I46) -> 0 | J47: =SUM(J44:J46) -> 8.298416 | ... CY47: =SUM(CY44:CY46) -> 0
A49: Average productivity | C49: ton/a/yr
A50: Softwood | B50: All sizes | C50: =AVERAGE(C44:CY44) -> 2.3397777
A51: Soft hardwood | B51: All sizes | C51: =AVERAGE(C45:CY45) -> 0.10334996
A52: Hard hardwood | B52: All sizes | C52: =AVERAGE(C46:CY46) -> 0.12277464
A53: All species | B53: All sizes | C53: =AVERAGE(C47:CY47) -> 2.5659023

Sheet SawlogPrice
C1: Price per ton of sawlog, by species, size, and year.
A2: Site | B2: =Target!B2 -> 2
A3: Year | C3: 0 | D3: =C3+1 -> 1 | E3: =D3+1 -> 2 | F3: =E3+1 -> 3 | G3: =F3+1 -> 4 | H3: =G3+1 -> 5 | I3: =H3+1 -> 6 | J3: =I3+1 -> 7 | K3: =J3+1 -> 8 | ... CY3: =CX3+1 -> 100
A4: Species | B4: dbh (in.) | C4: $/ton | D4: $/ton | E4: $/ton | F4: $/ton | G4: $/ton | H4: $/ton | I4: $/ton | J4: $/ton | K4: $/ton | L4: $/ton | M4: $/ton | N4: $/ton | O4: $/ton | P4: $/ton | Q4: $/ton | R4: $/ton | S4: $/ton | T4: $/ton | U4: $/ton | V4: $/ton | W4: $/ton | X4: $/ton | Y4: $/ton | Z4: $/ton | AA4: $/ton | AB4: $/ton | AC4: $/ton | AD4: $/ton | AE4: $/ton | AF4: $/ton | AG4: $/ton | AH4: $/ton | AI4: $/ton | AJ4: $/ton | AK4: $/ton | AL4: $/ton | AM4: $/ton | AN4: $/ton | AO4: $/ton | AP4: $/ton | AQ4: $/ton | AR4: $/ton | AS4: $/ton | AT4: $/ton | AU4: $/ton | AV4: $/ton | AW4: $/ton | AX4: $/ton | AY4: $/ton | AZ4: $/ton | BA4: $/ton | BB4: $/ton | BC4: $/ton | BD4: $/ton | BE4: $/ton | BF4: $/ton | BG4: $/ton | BH4: $/ton | BI4: $/ton | BJ4: $/ton | BK4: $/ton | BL4: $/ton | BM4: $/ton | BN4: $/ton | BO4: $/ton | BP4: $/ton | BQ4: $/ton | BR4: $/ton | BS4: $/ton | BT4: $/ton | BU4: $/ton | BV4: $/ton | BW4: $/ton | BX4: $/ton | BY4: $/ton | BZ4: $/ton | CA4: $/ton | CB4: $/ton | CC4: $/ton | CD4: $/ton | CE4: $/ton | CF4: $/ton | CG4: $/ton | CH4: $/ton | CI4: $/ton | CJ4: $/ton | CK4: $/ton | CL4: $/ton | CM4: $/ton | CN4: $/ton | CO4: $/ton | CP4: $/ton | CQ4: $/ton | CR4: $/ton | CS4: $/ton | CT4: $/ton | CU4: $/ton | CV4: $/ton | CW4: $/ton | CX4: $/ton | CY4: $/ton
A5: Softwood | B5: 2 | C5: 24 | D5: 24 | E5: 24 | F5: 24 | G5: 24 | H5: 24 | I5: 24 | J5: 24 | K5: 24 | L5: 24 | M5: 24 | N5: 24 | O5: 24 | P5: 24 | Q5: 24 | R5: 24 | S5: 24 | T5: 24 | U5: 24 | V5: 24 | W5: 24 | X5: 24 | Y5: 24 | Z5: 24 | AA5: 24 | AB5: 24 | AC5: 24 | AD5: 24 | AE5: 24 | AF5: 24 | AG5: 24 | AH5: 24 | AI5: 24 | AJ5: 24 | AK5: 24 | AL5: 24 | AM5: 24 | AN5: 24 | AO5: 24 | AP5: 24 | AQ5: 24 | AR5: 24 | AS5: 24 | AT5: 24 | AU5: 24 | AV5: 24 | AW5: 24 | AX5: 24 | AY5: 24 | AZ5: 24 | BA5: 24 | BB5: 24 | BC5: 24 | BD5: 24 | BE5: 24 | BF5: 24 | BG5: 24 | BH5: 24 | BI5: 24 | BJ5: 24 | BK5: 24 | BL5: 24 | BM5: 24 | BN5: 24 | BO5: 24 | BP5: 24 | BQ5: 24 | BR5: 24 | BS5: 24 | BT5: 24 | BU5: 24 | BV5: 24 | BW5: 24 | BX5: 24 | BY5: 24 | BZ5: 24 | CA5: 24 | CB5: 24 | CC5: 24 | CD5: 24 | CE5: 24 | CF5: 24 | CG5: 24 | CH5: 24 | CI5: 24 | CJ5: 24 | CK5: 24 | CL5: 24 | CM5: 24 | CN5: 24 | CO5: 24 | CP5: 24 | CQ5: 24 | CR5: 24 | CS5: 24 | CT5: 24 | CU5: 24 | CV5: 24 | CW5: 24 | CX5: 24 | CY5: 24
A6: Softwood | B6: 4 | C6: 24 | D6: 24 | E6: 24 | F6: 24 | G6: 24 | H6: 24 | I6: 24 | J6: 24 | K6: 24 | L6: 24 | M6: 24 | N6: 24 | O6: 24 | P6: 24 | Q6: 24 | R6: 24 | S6: 24 | T6: 24 | U6: 24 | V6: 24 | W6: 24 | X6: 24 | Y6: 24 | Z6: 24 | AA6: 24 | AB6: 24 | AC6: 24 | AD6: 24 | AE6: 24 | AF6: 24 | AG6: 24 | AH6: 24 | AI6: 24 | AJ6: 24 | AK6: 24 | AL6: 24 | AM6: 24 | AN6: 24 | AO6: 24 | AP6: 24 | AQ6: 24 | AR6: 24 | AS6: 24 | AT6: 24 | AU6: 24 | AV6: 24 | AW6: 24 | AX6: 24 | AY6: 24 | AZ6: 24 | BA6: 24 | BB6: 24 | BC6: 24 | BD6: 24 | BE6: 24 | BF6: 24 | BG6: 24 | BH6: 24 | BI6: 24 | BJ6: 24 | BK6: 24 | BL6: 24 | BM6: 24 | BN6: 24 | BO6: 24 | BP6: 24 | BQ6: 24 | BR6: 24 | BS6: 24 | BT6: 24 | BU6: 24 | BV6: 24 | BW6: 24 | BX6: 24 | BY6: 24 | BZ6: 24 | CA6: 24 | CB6: 24 | CC6: 24 | CD6: 24 | CE6: 24 | CF6: 24 | CG6: 24 | CH6: 24 | CI6: 24 | CJ6: 24 | CK6: 24 | CL6: 24 | CM6: 24 | CN6: 24 | CO6: 24 | CP6: 24 | CQ6: 24 | CR6: 24 | CS6: 24 | CT6: 24 | CU6: 24 | CV6: 24 | CW6: 24 | CX6: 24 | CY6: 24
A7: Softwood | B7: 6 | C7: 24 | D7: 24 | E7: 24 | F7: 24 | G7: 24 | H7: 24 | I7: 24 | J7: 24 | K7: 24 | L7: 24 | M7: 24 | N7: 24 | O7: 24 | P7: 24 | Q7: 24 | R7: 24 | S7: 24 | T7: 24 | U7: 24 | V7: 24 | W7: 24 | X7: 24 | Y7: 24 | Z7: 24 | AA7: 24 | AB7: 24 | AC7: 24 | AD7: 24 | AE7: 24 | AF7: 24 | AG7: 24 | AH7: 24 | AI7: 24 | AJ7: 24 | AK7: 24 | AL7: 24 | AM7: 24 | AN7: 24 | AO7: 24 | AP7: 24 | AQ7: 24 | AR7: 24 | AS7: 24 | AT7: 24 | AU7: 24 | AV7: 24 | AW7: 24 | AX7: 24 | AY7: 24 | AZ7: 24 | BA7: 24 | BB7: 24 | BC7: 24 | BD7: 24 | BE7: 24 | BF7: 24 | BG7: 24 | BH7: 24 | BI7: 24 | BJ7: 24 | BK7: 24 | BL7: 24 | BM7: 24 | BN7: 24 | BO7: 24 | BP7: 24 | BQ7: 24 | BR7: 24 | BS7: 24 | BT7: 24 | BU7: 24 | BV7: 24 | BW7: 24 | BX7: 24 | BY7: 24 | BZ7: 24 | CA7: 24 | CB7: 24 | CC7: 24 | CD7: 24 | CE7: 24 | CF7: 24 | CG7: 24 | CH7: 24 | CI7: 24 | CJ7: 24 | CK7: 24 | CL7: 24 | CM7: 24 | CN7: 24 | CO7: 24 | CP7: 24 | CQ7: 24 | CR7: 24 | CS7: 24 | CT7: 24 | CU7: 24 | CV7: 24 | CW7: 24 | CX7: 24 | CY7: 24
A8: Softwood | B8: 8 | C8: 24 | D8: 24 | E8: 24 | F8: 24 | G8: 24 | H8: 24 | I8: 24 | J8: 24 | K8: 24 | L8: 24 | M8: 24 | N8: 24 | O8: 24 | P8: 24 | Q8: 24 | R8: 24 | S8: 24 | T8: 24 | U8: 24 | V8: 24 | W8: 24 | X8: 24 | Y8: 24 | Z8: 24 | AA8: 24 | AB8: 24 | AC8: 24 | AD8: 24 | AE8: 24 | AF8: 24 | AG8: 24 | AH8: 24 | AI8: 24 | AJ8: 24 | AK8: 24 | AL8: 24 | AM8: 24 | AN8: 24 | AO8: 24 | AP8: 24 | AQ8: 24 | AR8: 24 | AS8: 24 | AT8: 24 | AU8: 24 | AV8: 24 | AW8: 24 | AX8: 24 | AY8: 24 | AZ8: 24 | BA8: 24 | BB8: 24 | BC8: 24 | BD8: 24 | BE8: 24 | BF8: 24 | BG8: 24 | BH8: 24 | BI8: 24 | BJ8: 24 | BK8: 24 | BL8: 24 | BM8: 24 | BN8: 24 | BO8: 24 | BP8: 24 | BQ8: 24 | BR8: 24 | BS8: 24 | BT8: 24 | BU8: 24 | BV8: 24 | BW8: 24 | BX8: 24 | BY8: 24 | BZ8: 24 | CA8: 24 | CB8: 24 | CC8: 24 | CD8: 24 | CE8: 24 | CF8: 24 | CG8: 24 | CH8: 24 | CI8: 24 | CJ8: 24 | CK8: 24 | CL8: 24 | CM8: 24 | CN8: 24 | CO8: 24 | CP8: 24 | CQ8: 24 | CR8: 24 | CS8: 24 | CT8: 24 | CU8: 24 | CV8: 24 | CW8: 24 | CX8: 24 | CY8: 24
A9: Softwood | B9: 10 | C9: 24 | D9: 24 | E9: 24 | F9: 24 | G9: 24 | H9: 24 | I9: 24 | J9: 24 | K9: 24 | L9: 24 | M9: 24 | N9: 24 | O9: 24 | P9: 24 | Q9: 24 | R9: 24 | S9: 24 | T9: 24 | U9: 24 | V9: 24 | W9: 24 | X9: 24 | Y9: 24 | Z9: 24 | AA9: 24 | AB9: 24 | AC9: 24 | AD9: 24 | AE9: 24 | AF9: 24 | AG9: 24 | AH9: 24 | AI9: 24 | AJ9: 24 | AK9: 24 | AL9: 24 | AM9: 24 | AN9: 24 | AO9: 24 | AP9: 24 | AQ9: 24 | AR9: 24 | AS9: 24 | AT9: 24 | AU9: 24 | AV9: 24 | AW9: 24 | AX9: 24 | AY9: 24 | AZ9: 24 | BA9: 24 | BB9: 24 | BC9: 24 | BD9: 24 | BE9: 24 | BF9: 24 | BG9: 24 | BH9: 24 | BI9: 24 | BJ9: 24 | BK9: 24 | BL9: 24 | BM9: 24 | BN9: 24 | BO9: 24 | BP9: 24 | BQ9: 24 | BR9: 24 | BS9: 24 | BT9: 24 | BU9: 24 | BV9: 24 | BW9: 24 | BX9: 24 | BY9: 24 | BZ9: 24 | CA9: 24 | CB9: 24 | CC9: 24 | CD9: 24 | CE9: 24 | CF9: 24 | CG9: 24 | CH9: 24 | CI9: 24 | CJ9: 24 | CK9: 24 | CL9: 24 | CM9: 24 | CN9: 24 | CO9: 24 | CP9: 24 | CQ9: 24 | CR9: 24 | CS9: 24 | CT9: 24 | CU9: 24 | CV9: 24 | CW9: 24 | CX9: 24 | CY9: 24
A10: Softwood | B10: 12 | C10: 24 | D10: 24 | E10: 24 | F10: 24 | G10: 24 | H10: 24 | I10: 24 | J10: 24 | K10: 24 | L10: 24 | M10: 24 | N10: 24 | O10: 24 | P10: 24 | Q10: 24 | R10: 24 | S10: 24 | T10: 24 | U10: 24 | V10: 24 | W10: 24 | X10: 24 | Y10: 24 | Z10: 24 | AA10: 24 | AB10: 24 | AC10: 24 | AD10: 24 | AE10: 24 | AF10: 24 | AG10: 24 | AH10: 24 | AI10: 24 | AJ10: 24 | AK10: 24 | AL10: 24 | AM10: 24 | AN10: 24 | AO10: 24 | AP10: 24 | AQ10: 24 | AR10: 24 | AS10: 24 | AT10: 24 | AU10: 24 | AV10: 24 | AW10: 24 | AX10: 24 | AY10: 24 | AZ10: 24 | BA10: 24 | BB10: 24 | BC10: 24 | BD10: 24 | BE10: 24 | BF10: 24 | BG10: 24 | BH10: 24 | BI10: 24 | BJ10: 24 | BK10: 24 | BL10: 24 | BM10: 24 | BN10: 24 | BO10: 24 | BP10: 24 | BQ10: 24 | BR10: 24 | BS10: 24 | BT10: 24 | BU10: 24 | BV10: 24 | BW10: 24 | BX10: 24 | BY10: 24 | BZ10: 24 | CA10: 24 | CB10: 24 | CC10: 24 | CD10: 24 | CE10: 24 | CF10: 24 | CG10: 24 | CH10: 24 | CI10: 24 | CJ10: 24 | CK10: 24 | CL10: 24 | CM10: 24 | CN10: 24 | CO10: 24 | CP10: 24 | CQ10: 24 | CR10: 24 | CS10: 24 | CT10: 24 | CU10: 24 | CV10: 24 | CW10: 24 | CX10: 24 | CY10: 24
